XML-Schema v0.07 Perl 5 v5.13.2 i686-linux
        
            - Status
 
            - Pass
 
            - From
 
            - Serguei Trouchelle (STRO)
 
            - Dist
 
            - 
                XML-Schema v0.07
            
 
            - Platform
 
            - Perl 5 v5.13.2 i686-linux
 
            - Date
 
            - 2010-07-07 11:15:01
 
            - ID
 
            - e2b2a59c-89b8-11df-a748-966aaa385bda
 
        
        This distribution has been tested as part of the CPAN Testers
project, supporting the Perl programming language.  See
http://wiki.cpantesters.org/ for more information or email
questions to cpan-testers-discuss@perl.org
--
Dear Andy Wardley,
This is a computer-generated report for XML-Schema-0.07
on perl 5.13.2, created by CPAN-Reporter-1.1711.
Thank you for uploading your work to CPAN.  Congratulations!
All tests were successful.
Sections of this report:
    * Tester comments
    * Program output
    * Prerequisites
    * Environment and other context
------------------------------
TESTER COMMENTS
------------------------------
Additional comments from tester:
this report is from an automated smoke testing program
and was not reviewed by a human for accuracy
------------------------------
PROGRAM OUTPUT
------------------------------
Output from '/usr/bin/make test':
PERL_DL_NONLAZY=1 /home/stro/perl/perl5132/bin/perl "-MExtUtils::Command::MM" "-e" "test_harness(0, 'blib/lib', 'blib/arch')" t/*.t
Use of uninitialized value in addition (+) at lib/XML/Schema/Type/Builtin.pm line 198.
Use of uninitialized value in numeric le (<=) at lib/XML/Schema/Facet/Builtin.pm line 319.
Use of uninitialized value in addition (+) at lib/XML/Schema/Type/Builtin.pm line 198.
Use of uninitialized value in numeric le (<=) at lib/XML/Schema/Facet/Builtin.pm line 319.
Use of uninitialized value in addition (+) at lib/XML/Schema/Type/Builtin.pm line 198.
Use of uninitialized value in numeric le (<=) at lib/XML/Schema/Facet/Builtin.pm line 319.
Use of uninitialized value in addition (+) at lib/XML/Schema/Type/Builtin.pm line 198.
Use of uninitialized value in numeric le (<=) at lib/XML/Schema/Facet/Builtin.pm line 319.
Use of uninitialized value in addition (+) at lib/XML/Schema/Type/Builtin.pm line 198.
Use of uninitialized value in numeric le (<=) at lib/XML/Schema/Facet/Builtin.pm line 319.
Use of uninitialized value in addition (+) at lib/XML/Schema/Type/Builtin.pm line 198.
Use of uninitialized value in numeric le (<=) at lib/XML/Schema/Facet/Builtin.pm line 319.
Use of uninitialized value in addition (+) at lib/XML/Schema/Type/Builtin.pm line 198.
Use of uninitialized value in numeric le (<=) at lib/XML/Schema/Facet/Builtin.pm line 319.
Use of uninitialized value in addition (+) at lib/XML/Schema/Type/Builtin.pm line 198.
Use of uninitialized value in numeric le (<=) at lib/XML/Schema/Facet/Builtin.pm line 319.
Use of uninitialized value in addition (+) at lib/XML/Schema/Type/Builtin.pm line 198.
Use of uninitialized value in numeric le (<=) at lib/XML/Schema/Facet/Builtin.pm line 319.
Use of uninitialized value in addition (+) at lib/XML/Schema/Type/Builtin.pm line 198.
Use of uninitialized value in numeric le (<=) at lib/XML/Schema/Facet/Builtin.pm line 319.
Use of uninitialized value in addition (+) at lib/XML/Schema/Type/Builtin.pm line 198.
Use of uninitialized value in numeric le (<=) at lib/XML/Schema/Facet/Builtin.pm line 319.
Use of uninitialized value in addition (+) at lib/XML/Schema/Type/Builtin.pm line 198.
Use of uninitialized value in numeric le (<=) at lib/XML/Schema/Facet/Builtin.pm line 319.
Use of uninitialized value in addition (+) at lib/XML/Schema/Type/Builtin.pm line 198.
Use of uninitialized value in numeric le (<=) at lib/XML/Schema/Facet/Builtin.pm line 319.
Use of uninitialized value in addition (+) at lib/XML/Schema/Type/Builtin.pm line 198.
Use of uninitialized value in numeric le (<=) at lib/XML/Schema/Facet/Builtin.pm line 319.
Use of uninitialized value in addition (+) at lib/XML/Schema/Type/Builtin.pm line 198.
Use of uninitialized value in numeric le (<=) at lib/XML/Schema/Facet/Builtin.pm line 319.
Use of uninitialized value in addition (+) at lib/XML/Schema/Type/Builtin.pm line 198.
Use of uninitialized value in numeric le (<=) at lib/XML/Schema/Facet/Builtin.pm line 319.
Use of uninitialized value in addition (+) at lib/XML/Schema/Type/Builtin.pm line 198.
Use of uninitialized value in numeric le (<=) at lib/XML/Schema/Facet/Builtin.pm line 319.
Use of uninitialized value in addition (+) at lib/XML/Schema/Type/Builtin.pm line 198.
Use of uninitialized value in numeric le (<=) at lib/XML/Schema/Facet/Builtin.pm line 319.
Use of uninitialized value in addition (+) at lib/XML/Schema/Type/Builtin.pm line 198.
Use of uninitialized value in numeric le (<=) at lib/XML/Schema/Facet/Builtin.pm line 319.
Use of uninitialized value in addition (+) at lib/XML/Schema/Type/Builtin.pm line 198.
Use of uninitialized value in numeric le (<=) at lib/XML/Schema/Facet/Builtin.pm line 319.
Use of uninitialized value in addition (+) at lib/XML/Schema/Type/Builtin.pm line 198.
Use of uninitialized value in numeric le (<=) at lib/XML/Schema/Facet/Builtin.pm line 319.
Use of uninitialized value in addition (+) at lib/XML/Schema/Type/Builtin.pm line 198.
Use of uninitialized value in numeric le (<=) at lib/XML/Schema/Facet/Builtin.pm line 319.
Use of uninitialized value in addition (+) at lib/XML/Schema/Type/Builtin.pm line 198.
Use of uninitialized value in numeric le (<=) at lib/XML/Schema/Facet/Builtin.pm line 319.
Use of uninitialized value in addition (+) at lib/XML/Schema/Type/Builtin.pm line 198.
Use of uninitialized value in numeric le (<=) at lib/XML/Schema/Facet/Builtin.pm line 319.
Use of uninitialized value in addition (+) at lib/XML/Schema/Type/Builtin.pm line 198.
Use of uninitialized value in numeric le (<=) at lib/XML/Schema/Facet/Builtin.pm line 319.
Use of uninitialized value in addition (+) at lib/XML/Schema/Type/Builtin.pm line 198.
Use of uninitialized value in numeric le (<=) at lib/XML/Schema/Facet/Builtin.pm line 319.
Use of uninitialized value in addition (+) at lib/XML/Schema/Type/Builtin.pm line 198.
Use of uninitialized value in numeric le (<=) at lib/XML/Schema/Facet/Builtin.pm line 319.
Use of uninitialized value in addition (+) at lib/XML/Schema/Type/Builtin.pm line 198.
Use of uninitialized value in numeric le (<=) at lib/XML/Schema/Facet/Builtin.pm line 319.
Use of uninitialized value in addition (+) at lib/XML/Schema/Type/Builtin.pm line 198.
Use of uninitialized value in numeric le (<=) at lib/XML/Schema/Facet/Builtin.pm line 319.
Use of uninitialized value in addition (+) at lib/XML/Schema/Type/Builtin.pm line 198.
Use of uninitialized value in numeric le (<=) at lib/XML/Schema/Facet/Builtin.pm line 319.
Use of uninitialized value in addition (+) at lib/XML/Schema/Type/Builtin.pm line 198.
Use of uninitialized value in numeric le (<=) at lib/XML/Schema/Facet/Builtin.pm line 319.
Use of uninitialized value in addition (+) at lib/XML/Schema/Type/Builtin.pm line 198.
Use of uninitialized value in numeric le (<=) at lib/XML/Schema/Facet/Builtin.pm line 319.
Use of uninitialized value in addition (+) at lib/XML/Schema/Type/Builtin.pm line 198.
Use of uninitialized value in numeric le (<=) at lib/XML/Schema/Facet/Builtin.pm line 319.
Use of uninitialized value in addition (+) at lib/XML/Schema/Type/Builtin.pm line 198.
Use of uninitialized value in numeric le (<=) at lib/XML/Schema/Facet/Builtin.pm line 319.
Use of uninitialized value in addition (+) at lib/XML/Schema/Type/Builtin.pm line 198.
Use of uninitialized value in numeric le (<=) at lib/XML/Schema/Facet/Builtin.pm line 319.
t/attrgroup.t .. ok
t/attribute.t .. ok
t/base.t ....... ok
Use of uninitialized value in addition (+) at lib/XML/Schema/Type/Builtin.pm line 198.
Use of uninitialized value in addition (+) at lib/XML/Schema/Type/Builtin.pm line 198.
Use of uninitialized value in addition (+) at lib/XML/Schema/Type/Builtin.pm line 198.
Use of uninitialized value in addition (+) at lib/XML/Schema/Type/Builtin.pm line 198.
Use of uninitialized value in numeric le (<=) at lib/XML/Schema/Facet/Builtin.pm line 319.
Use of uninitialized value in addition (+) at lib/XML/Schema/Type/Builtin.pm line 198.
Use of uninitialized value in numeric le (<=) at lib/XML/Schema/Facet/Builtin.pm line 319.
Use of uninitialized value in addition (+) at lib/XML/Schema/Type/Builtin.pm line 198.
Use of uninitialized value in numeric le (<=) at lib/XML/Schema/Facet/Builtin.pm line 319.
Use of uninitialized value in addition (+) at lib/XML/Schema/Type/Builtin.pm line 198.
Use of uninitialized value in numeric le (<=) at lib/XML/Schema/Facet/Builtin.pm line 319.
Use of uninitialized value in addition (+) at lib/XML/Schema/Type/Builtin.pm line 198.
Use of uninitialized value in numeric le (<=) at lib/XML/Schema/Facet/Builtin.pm line 319.
Use of uninitialized value in addition (+) at lib/XML/Schema/Type/Builtin.pm line 198.
Use of uninitialized value in numeric le (<=) at lib/XML/Schema/Facet/Builtin.pm line 319.
Use of uninitialized value in addition (+) at lib/XML/Schema/Type/Builtin.pm line 198.
Use of uninitialized value in numeric le (<=) at lib/XML/Schema/Facet/Builtin.pm line 319.
Use of uninitialized value in addition (+) at lib/XML/Schema/Type/Builtin.pm line 198.
Use of uninitialized value in numeric le (<=) at lib/XML/Schema/Facet/Builtin.pm line 319.
Use of uninitialized value in addition (+) at lib/XML/Schema/Type/Builtin.pm line 198.
Use of uninitialized value in numeric le (<=) at lib/XML/Schema/Facet/Builtin.pm line 319.
Use of uninitialized value in addition (+) at lib/XML/Schema/Type/Builtin.pm line 198.
Use of uninitialized value in numeric le (<=) at lib/XML/Schema/Facet/Builtin.pm line 319.
Use of uninitialized value in addition (+) at lib/XML/Schema/Type/Builtin.pm line 198.
Use of uninitialized value in numeric le (<=) at lib/XML/Schema/Facet/Builtin.pm line 319.
Use of uninitialized value in addition (+) at lib/XML/Schema/Type/Builtin.pm line 198.
Use of uninitialized value in numeric le (<=) at lib/XML/Schema/Facet/Builtin.pm line 319.
Use of uninitialized value in addition (+) at lib/XML/Schema/Type/Builtin.pm line 198.
Use of uninitialized value in numeric le (<=) at lib/XML/Schema/Facet/Builtin.pm line 319.
Use of uninitialized value in addition (+) at lib/XML/Schema/Type/Builtin.pm line 198.
Use of uninitialized value in numeric le (<=) at lib/XML/Schema/Facet/Builtin.pm line 319.
Use of uninitialized value in addition (+) at lib/XML/Schema/Type/Builtin.pm line 198.
Use of uninitialized value in numeric le (<=) at lib/XML/Schema/Facet/Builtin.pm line 319.
Use of uninitialized value in addition (+) at lib/XML/Schema/Type/Builtin.pm line 198.
Use of uninitialized value in numeric le (<=) at lib/XML/Schema/Facet/Builtin.pm line 319.
Use of uninitialized value in addition (+) at lib/XML/Schema/Type/Builtin.pm line 198.
Use of uninitialized value in numeric le (<=) at lib/XML/Schema/Facet/Builtin.pm line 319.
Use of uninitialized value in addition (+) at lib/XML/Schema/Type/Builtin.pm line 198.
Use of uninitialized value in numeric le (<=) at lib/XML/Schema/Facet/Builtin.pm line 319.
Use of uninitialized value in addition (+) at lib/XML/Schema/Type/Builtin.pm line 198.
Use of uninitialized value in numeric le (<=) at lib/XML/Schema/Facet/Builtin.pm line 319.
Use of uninitialized value in addition (+) at lib/XML/Schema/Type/Builtin.pm line 198.
Use of uninitialized value in numeric le (<=) at lib/XML/Schema/Facet/Builtin.pm line 319.
Use of uninitialized value in addition (+) at lib/XML/Schema/Type/Builtin.pm line 198.
Use of uninitialized value in numeric le (<=) at lib/XML/Schema/Facet/Builtin.pm line 319.
Use of uninitialized value in addition (+) at lib/XML/Schema/Type/Builtin.pm line 198.
Use of uninitialized value in numeric le (<=) at lib/XML/Schema/Facet/Builtin.pm line 319.
Use of uninitialized value in addition (+) at lib/XML/Schema/Type/Builtin.pm line 198.
Use of uninitialized value in numeric le (<=) at lib/XML/Schema/Facet/Builtin.pm line 319.
Use of uninitialized value in addition (+) at lib/XML/Schema/Type/Builtin.pm line 198.
Use of uninitialized value in numeric le (<=) at lib/XML/Schema/Facet/Builtin.pm line 319.
Use of uninitialized value in addition (+) at lib/XML/Schema/Type/Builtin.pm line 198.
Use of uninitialized value in numeric le (<=) at lib/XML/Schema/Facet/Builtin.pm line 319.
Use of uninitialized value in addition (+) at lib/XML/Schema/Type/Builtin.pm line 198.
Use of uninitialized value in numeric le (<=) at lib/XML/Schema/Facet/Builtin.pm line 319.
Use of uninitialized value in addition (+) at lib/XML/Schema/Type/Builtin.pm line 198.
Use of uninitialized value in numeric le (<=) at lib/XML/Schema/Facet/Builtin.pm line 319.
Use of uninitialized value in addition (+) at lib/XML/Schema/Type/Builtin.pm line 198.
Use of uninitialized value in numeric le (<=) at lib/XML/Schema/Facet/Builtin.pm line 319.
Use of uninitialized value in addition (+) at lib/XML/Schema/Type/Builtin.pm line 198.
Use of uninitialized value in numeric le (<=) at lib/XML/Schema/Facet/Builtin.pm line 319.
Use of uninitialized value in addition (+) at lib/XML/Schema/Type/Builtin.pm line 198.
Use of uninitialized value in numeric le (<=) at lib/XML/Schema/Facet/Builtin.pm line 319.
Use of uninitialized value in addition (+) at lib/XML/Schema/Type/Builtin.pm line 198.
Use of uninitialized value in numeric le (<=) at lib/XML/Schema/Facet/Builtin.pm line 319.
Use of uninitialized value in addition (+) at lib/XML/Schema/Type/Builtin.pm line 198.
Use of uninitialized value in numeric le (<=) at lib/XML/Schema/Facet/Builtin.pm line 319.
Use of uninitialized value in addition (+) at lib/XML/Schema/Type/Builtin.pm line 198.
Use of uninitialized value in numeric le (<=) at lib/XML/Schema/Facet/Builtin.pm line 319.
Use of uninitialized value in addition (+) at lib/XML/Schema/Type/Builtin.pm line 198.
Use of uninitialized value in numeric le (<=) at lib/XML/Schema/Facet/Builtin.pm line 319.
Use of uninitialized value in addition (+) at lib/XML/Schema/Type/Builtin.pm line 198.
Use of uninitialized value in numeric le (<=) at lib/XML/Schema/Facet/Builtin.pm line 319.
Use of uninitialized value in addition (+) at lib/XML/Schema/Type/Builtin.pm line 198.
Use of uninitialized value in numeric le (<=) at lib/XML/Schema/Facet/Builtin.pm line 319.
Use of uninitialized value in addition (+) at lib/XML/Schema/Type/Builtin.pm line 198.
Use of uninitialized value in numeric le (<=) at lib/XML/Schema/Facet/Builtin.pm line 319.
Use of uninitialized value in addition (+) at lib/XML/Schema/Type/Builtin.pm line 198.
Use of uninitialized value in numeric le (<=) at lib/XML/Schema/Facet/Builtin.pm line 319.
Use of uninitialized value in addition (+) at lib/XML/Schema/Type/Builtin.pm line 198.
Use of uninitialized value in numeric le (<=) at lib/XML/Schema/Facet/Builtin.pm line 319.
Use of uninitialized value in addition (+) at lib/XML/Schema/Type/Builtin.pm line 198.
Use of uninitialized value in numeric le (<=) at lib/XML/Schema/Facet/Builtin.pm line 319.
Use of uninitialized value in addition (+) at lib/XML/Schema/Type/Builtin.pm line 198.
Use of uninitialized value in numeric le (<=) at lib/XML/Schema/Facet/Builtin.pm line 319.
Use of uninitialized value in addition (+) at lib/XML/Schema/Type/Builtin.pm line 198.
Use of uninitialized value in numeric le (<=) at lib/XML/Schema/Facet/Builtin.pm line 319.
Use of uninitialized value in addition (+) at lib/XML/Schema/Type/Builtin.pm line 198.
Use of uninitialized value in numeric le (<=) at lib/XML/Schema/Facet/Builtin.pm line 319.
Use of uninitialized value in addition (+) at lib/XML/Schema/Type/Builtin.pm line 198.
Use of uninitialized value in numeric le (<=) at lib/XML/Schema/Facet/Builtin.pm line 319.
Use of uninitialized value in addition (+) at lib/XML/Schema/Type/Builtin.pm line 198.
Use of uninitialized value in numeric le (<=) at lib/XML/Schema/Facet/Builtin.pm line 319.
Use of uninitialized value in addition (+) at lib/XML/Schema/Type/Builtin.pm line 198.
Use of uninitialized value in numeric le (<=) at lib/XML/Schema/Facet/Builtin.pm line 319.
Use of uninitialized value in addition (+) at lib/XML/Schema/Type/Builtin.pm line 198.
Use of uninitialized value in numeric le (<=) at lib/XML/Schema/Facet/Builtin.pm line 319.
Use of uninitialized value in addition (+) at lib/XML/Schema/Type/Builtin.pm line 198.
Use of uninitialized value in numeric le (<=) at lib/XML/Schema/Facet/Builtin.pm line 319.
Use of uninitialized value in addition (+) at lib/XML/Schema/Type/Builtin.pm line 198.
Use of uninitialized value in numeric le (<=) at lib/XML/Schema/Facet/Builtin.pm line 319.
Use of uninitialized value in addition (+) at lib/XML/Schema/Type/Builtin.pm line 198.
Use of uninitialized value in numeric le (<=) at lib/XML/Schema/Facet/Builtin.pm line 319.
Use of uninitialized value in addition (+) at lib/XML/Schema/Type/Builtin.pm line 198.
Use of uninitialized value in numeric le (<=) at lib/XML/Schema/Facet/Builtin.pm line 319.
Use of uninitialized value in addition (+) at lib/XML/Schema/Type/Builtin.pm line 198.
Use of uninitialized value in numeric le (<=) at lib/XML/Schema/Facet/Builtin.pm line 319.
t/builtin.t .... ok
t/choice.t ..... ok
t/complex.t .... ok
t/constants.t .. ok
t/content.t .... ok
t/element.t .... ok
t/enum.t ....... ok
t/exception.t .. ok
t/facet.t ...... ok
t/handler.t .... ok
t/id.t ......... ok
t/instance.t ... ok
Use of uninitialized value in addition (+) at lib/XML/Schema/Type/Builtin.pm line 198.
Use of uninitialized value in numeric le (<=) at lib/XML/Schema/Facet/Builtin.pm line 319.
Use of uninitialized value in addition (+) at lib/XML/Schema/Type/Builtin.pm line 198.
Use of uninitialized value in numeric le (<=) at lib/XML/Schema/Facet/Builtin.pm line 319.
Use of uninitialized value in addition (+) at lib/XML/Schema/Type/Builtin.pm line 198.
Use of uninitialized value in numeric le (<=) at lib/XML/Schema/Facet/Builtin.pm line 319.
Use of uninitialized value in addition (+) at lib/XML/Schema/Type/Builtin.pm line 198.
Use of uninitialized value in numeric le (<=) at lib/XML/Schema/Facet/Builtin.pm line 319.
Use of uninitialized value in addition (+) at lib/XML/Schema/Type/Builtin.pm line 198.
Use of uninitialized value in numeric le (<=) at lib/XML/Schema/Facet/Builtin.pm line 319.
Use of uninitialized value in addition (+) at lib/XML/Schema/Type/Builtin.pm line 198.
Use of uninitialized value in numeric le (<=) at lib/XML/Schema/Facet/Builtin.pm line 319.
Use of uninitialized value in addition (+) at lib/XML/Schema/Type/Builtin.pm line 198.
Use of uninitialized value in numeric le (<=) at lib/XML/Schema/Facet/Builtin.pm line 319.
Use of uninitialized value in addition (+) at lib/XML/Schema/Type/Builtin.pm line 198.
Use of uninitialized value in numeric le (<=) at lib/XML/Schema/Facet/Builtin.pm line 319.
Use of uninitialized value in addition (+) at lib/XML/Schema/Type/Builtin.pm line 198.
Use of uninitialized value in numeric le (<=) at lib/XML/Schema/Facet/Builtin.pm line 319.
Use of uninitialized value in addition (+) at lib/XML/Schema/Type/Builtin.pm line 198.
Use of uninitialized value in numeric le (<=) at lib/XML/Schema/Facet/Builtin.pm line 319.
Use of uninitialized value in addition (+) at lib/XML/Schema/Type/Builtin.pm line 198.
Use of uninitialized value in numeric le (<=) at lib/XML/Schema/Facet/Builtin.pm line 319.
Use of uninitialized value in addition (+) at lib/XML/Schema/Type/Builtin.pm line 198.
Use of uninitialized value in numeric le (<=) at lib/XML/Schema/Facet/Builtin.pm line 319.
Use of uninitialized value in addition (+) at lib/XML/Schema/Type/Builtin.pm line 198.
Use of uninitialized value in numeric le (<=) at lib/XML/Schema/Facet/Builtin.pm line 319.
Use of uninitialized value in addition (+) at lib/XML/Schema/Type/Builtin.pm line 198.
Use of uninitialized value in numeric le (<=) at lib/XML/Schema/Facet/Builtin.pm line 319.
Use of uninitialized value in addition (+) at lib/XML/Schema/Type/Builtin.pm line 198.
Use of uninitialized value in numeric le (<=) at lib/XML/Schema/Facet/Builtin.pm line 319.
Use of uninitialized value in addition (+) at lib/XML/Schema/Type/Builtin.pm line 198.
Use of uninitialized value in numeric le (<=) at lib/XML/Schema/Facet/Builtin.pm line 319.
Use of uninitialized value in addition (+) at lib/XML/Schema/Type/Builtin.pm line 198.
Use of uninitialized value in numeric le (<=) at lib/XML/Schema/Facet/Builtin.pm line 319.
Use of uninitialized value in addition (+) at lib/XML/Schema/Type/Builtin.pm line 198.
Use of uninitialized value in numeric le (<=) at lib/XML/Schema/Facet/Builtin.pm line 319.
Use of uninitialized value in addition (+) at lib/XML/Schema/Type/Builtin.pm line 198.
Use of uninitialized value in numeric le (<=) at lib/XML/Schema/Facet/Builtin.pm line 319.
Use of uninitialized value in addition (+) at lib/XML/Schema/Type/Builtin.pm line 198.
Use of uninitialized value in numeric le (<=) at lib/XML/Schema/Facet/Builtin.pm line 319.
Use of uninitialized value in addition (+) at lib/XML/Schema/Type/Builtin.pm line 198.
Use of uninitialized value in numeric le (<=) at lib/XML/Schema/Facet/Builtin.pm line 319.
t/list.t ....... ok
t/name.t ....... ok
t/names.t ...... ok
t/parser.t ..... ok
t/particle.t ... ok
t/person.t ..... ok
t/scheduler.t .. ok
Use of uninitialized value in addition (+) at lib/XML/Schema/Type/Builtin.pm line 198.
Use of uninitialized value in numeric le (<=) at lib/XML/Schema/Facet/Builtin.pm line 319.
t/scope.t ...... ok
t/sequence.t ... ok
t/simple.t ..... ok
t/type.t ....... ok
Use of uninitialized value in addition (+) at lib/XML/Schema/Type/Builtin.pm line 198.
Use of uninitialized value in numeric le (<=) at lib/XML/Schema/Facet/Builtin.pm line 319.
t/union.t ...... ok
t/wildcard.t ... ok
All tests successful.
Files=28, Tests=1466,  3 wallclock secs ( 0.16 usr  0.22 sys +  1.66 cusr  0.64 csys =  2.68 CPU)
Result: PASS
------------------------------
PREREQUISITES
------------------------------
Prerequisite modules loaded:
    No requirements found
------------------------------
ENVIRONMENT AND OTHER CONTEXT
------------------------------
Environment variables:
    AUTOMATED_TESTING = 1
    LANG = en_US.UTF-8
    PATH = /usr/local/bin:/usr/bin:/bin:/usr/games
    PERL5LIB = 
    PERL5OPT = 
    PERL5_CPANPLUS_IS_RUNNING = 24344
    PERL5_CPAN_IS_RUNNING = 24344
    PERL5_CPAN_IS_RUNNING_IN_RECURSION = 27736,24344
    PERL_CR_SMOKER_CURRENT = XML-XForms-Validate-0.9
    PERL_EXTUTILS_AUTOINSTALL = --defaultdeps
    PERL_MM_USE_DEFAULT = 1
    SHELL = /bin/bash
    TERM = xterm
Perl special variables (and OS-specific diagnostics, for MSWin32):
    $^X = /home/stro/perl/perl5132/bin/perl
    $UID/$EUID = 1000 / 1000
    $GID = 1000 20 24 25 29 44 46 1000
    $EGID = 1000 20 24 25 29 44 46 1000
Perl module toolchain versions installed:
    Module              Have  
    ------------------- ------
    CPAN                1.9304
    Cwd                 3.31  
    ExtUtils::CBuilder  0.2703
    ExtUtils::Command   1.16  
    ExtUtils::Install   1.54  
    ExtUtils::MakeMaker 6.56  
    ExtUtils::Manifest  1.58  
    ExtUtils::ParseXS   2.2206
    File::Spec          3.31  
    Module::Build       0.3607
    Module::Signature   0.64  
    Test::Harness       3.21  
    Test::More          0.94  
    YAML                0.71  
    YAML::Syck          1.10  
    version             0.82  
--
Summary of my perl5 (revision 5 version 13 subversion 2) configuration:
   
  Platform:
    osname=linux, osvers=2.6.26-2-686, archname=i686-linux
    uname='linux debian5 2.6.26-2-686 #1 smp wed may 12 21:56:10 utc 2010 i686 gnulinux '
    config_args=''
    hint=recommended, useposix=true, d_sigaction=define
    useithreads=undef, usemultiplicity=undef
    useperlio=define, d_sfio=undef, uselargefiles=define, usesocks=undef
    use64bitint=undef, use64bitall=undef, uselongdouble=undef
    usemymalloc=n, bincompat5005=undef
  Compiler:
    cc='cc', ccflags ='-fno-strict-aliasing -pipe -fstack-protector -I/usr/local/include -D_LARGEFILE_SOURCE -D_FILE_OFFSET_BITS=64',
    optimize='-O2',
    cppflags='-fno-strict-aliasing -pipe -fstack-protector -I/usr/local/include'
    ccversion='', gccversion='4.3.2', gccosandvers=''
    intsize=4, longsize=4, ptrsize=4, doublesize=8, byteorder=1234
    d_longlong=define, longlongsize=8, d_longdbl=define, longdblsize=12
    ivtype='long', ivsize=4, nvtype='double', nvsize=8, Off_t='off_t', lseeksize=8
    alignbytes=4, prototype=define
  Linker and Libraries:
    ld='cc', ldflags =' -fstack-protector -L/usr/local/lib'
    libpth=/usr/local/lib /lib /usr/lib
    libs=-lnsl -ldb -ldl -lm -lcrypt -lutil -lc
    perllibs=-lnsl -ldl -lm -lcrypt -lutil -lc
    libc=/lib/libc-2.7.so, so=so, useshrplib=false, libperl=libperl.a
    gnulibc_version='2.7'
  Dynamic Linking:
    dlsrc=dl_dlopen.xs, dlext=so, d_dlsymun=undef, ccdlflags='-Wl,-E'
    cccdlflags='-fPIC', lddlflags='-shared -O2 -L/usr/local/lib -fstack-protector'
Characteristics of this binary (from libperl): 
  Compile-time options: PERL_DONT_CREATE_GVSV PERL_MALLOC_WRAP
                        USE_LARGE_FILES USE_PERLIO USE_PERL_ATOF
  Built under linux
  Compiled at Jun 23 2010 13:37:47
  %ENV:
    PERL5LIB=""
    PERL5OPT=""
    PERL5_CPANPLUS_IS_RUNNING="24344"
    PERL5_CPAN_IS_RUNNING="24344"
    PERL5_CPAN_IS_RUNNING_IN_RECURSION="27736,24344"
    PERL_CR_SMOKER_CURRENT="XML-XForms-Validate-0.9"
    PERL_EXTUTILS_AUTOINSTALL="--defaultdeps"
    PERL_MM_USE_DEFAULT="1"
  @INC:
    /home/stro/perl/perl5132/lib/site_perl/5.13.2/i686-linux
    /home/stro/perl/perl5132/lib/site_perl/5.13.2
    /home/stro/perl/perl5132/lib/5.13.2/i686-linux
    /home/stro/perl/perl5132/lib/5.13.2
    .