Dist-Zilla-Plugin-Git v2.043 Perl 5 v5.27.9 x86_64-linux

Status
Pass
From
Kent Fredric
Dist
Dist-Zilla-Plugin-Git v2.043
Platform
Perl 5 v5.27.9 x86_64-linux
Date
2018-03-19 03:37:44
ID
e2af56fe-2b26-11e8-b6b6-6b07b828c311
This distribution has been tested as part of the CPAN Testers
project, supporting the Perl programming language.  See
http://wiki.cpantesters.org/ for more information or email
questions to cpan-testers-discuss@perl.org


--
Dear ETHER,

This is a computer-generated report for Dist-Zilla-Plugin-Git-2.043
on perl 5.27.9, created by App::cpanminus::reporter 0.17 (1.7043).

Thank you for uploading your work to CPAN.  Congratulations!
All tests were successful.

Sections of this report:

    * Tester comments
    * Program output
    * Prerequisites
    * Environment and other context

------------------------------
TESTER COMMENTS
------------------------------

Additional comments from tester:

none provided

------------------------------
PROGRAM OUTPUT
------------------------------

Output from '':

Building and testing Dist-Zilla-Plugin-Git-2.043
cp lib/Dist/Zilla/Plugin/Git.pm blib/lib/Dist/Zilla/Plugin/Git.pm
cp lib/Dist/Zilla/Role/Git/StringFormatter.pm blib/lib/Dist/Zilla/Role/Git/StringFormatter.pm
cp lib/Dist/Zilla/Role/Git/Repo.pm blib/lib/Dist/Zilla/Role/Git/Repo.pm
cp lib/Dist/Zilla/Role/Git/DirtyFiles.pm blib/lib/Dist/Zilla/Role/Git/DirtyFiles.pm
cp lib/Dist/Zilla/Plugin/Git/GatherDir.pm blib/lib/Dist/Zilla/Plugin/Git/GatherDir.pm
cp lib/Dist/Zilla/Plugin/Git/Commit.pm blib/lib/Dist/Zilla/Plugin/Git/Commit.pm
cp lib/Dist/Zilla/Plugin/Git/CommitBuild.pm blib/lib/Dist/Zilla/Plugin/Git/CommitBuild.pm
cp lib/Dist/Zilla/Plugin/Git/Tag.pm blib/lib/Dist/Zilla/Plugin/Git/Tag.pm
cp lib/Dist/Zilla/Plugin/Git/Push.pm blib/lib/Dist/Zilla/Plugin/Git/Push.pm
cp lib/Dist/Zilla/Plugin/Git/Check.pm blib/lib/Dist/Zilla/Plugin/Git/Check.pm
cp lib/Dist/Zilla/Plugin/Git/Init.pm blib/lib/Dist/Zilla/Plugin/Git/Init.pm
cp lib/Dist/Zilla/PluginBundle/Git.pm blib/lib/Dist/Zilla/PluginBundle/Git.pm
cp lib/Dist/Zilla/Plugin/Git/NextVersion.pm blib/lib/Dist/Zilla/Plugin/Git/NextVersion.pm
"/home/kent/perl5/perlbrew/perls/5.27.9-nossp-oaath-nopmc-nodot/bin/perl5.27.9" "-Iblib/arch" "-Iblib/lib" Makefile_git.PL Makefile_git
"/home/kent/perl5/perlbrew/perls/5.27.9-nossp-oaath-nopmc-nodot/bin/perl5.27.9" "-Iblib/arch" "-Iblib/lib" Makefile_git.PL Makefile_git
PERL_DL_NONLAZY=1 "/home/kent/perl5/perlbrew/perls/5.27.9-nossp-oaath-nopmc-nodot/bin/perl5.27.9" "-MExtUtils::Command::MM" "-MTest::Harness" "-e" "undef *Test::Harness::Switches; test_harness(0, 'blib/lib', 'blib/arch')" t/*.t
# git version 2.16.2
t/000-report-git-version.t ...... ok
# 
# Versions for all modules listed in MYMETA.json (including optional ones):
# 
# === Configure Requires ===
# 
#     Module              Want   Have
#     ------------------- ---- ------
#     ExtUtils::MakeMaker  any   7.32
#     Text::ParseWords     any   3.30
#     version              any 0.9918
# 
# === Build Requires ===
# 
#     Module              Want Have
#     ------------------- ---- ----
#     ExtUtils::MakeMaker  any 7.32
# 
# === Test Requires ===
# 
#     Module                            Want     Have
#     -------------------------------- ----- --------
#     CPAN::Meta::Check                0.011    0.014
#     CPAN::Meta::Requirements           any    2.140
#     Devel::SimpleTrace                 any     0.08
#     Dist::Zilla::File::InMemory        any    6.011
#     Dist::Zilla::Plugin::Config::Git   any     0.92
#     Dist::Zilla::Role::Releaser        any    6.011
#     Dist::Zilla::Tester                any    6.011
#     Encode                             any     2.96
#     Exporter                           any     5.72
#     ExtUtils::MakeMaker                any     7.32
#     File::Copy                         any     2.33
#     File::Copy::Recursive              any     0.40
#     File::Path                        2.07     2.15
#     File::Spec                         any     3.74
#     File::Which                        any     1.22
#     File::pushd                        any    1.014
#     Log::Dispatchouli                  any    2.016
#     Test::DZil                         any    6.011
#     Test::Fatal                        any    0.014
#     Test::More                        0.88 1.302133
#     lib                                any     0.64
#     utf8                               any     1.21
# 
# === Test Recommends ===
# 
#     Module         Want     Have
#     ---------- -------- --------
#     CPAN::Meta 2.120900 2.150010
# 
# === Runtime Requires ===
# 
#     Module                                 Want     Have
#     ---------------------------------- -------- --------
#     Cwd                                     any     3.74
#     DateTime                                any     1.46
#     Dist::Zilla                               4    6.011
#     Dist::Zilla::Plugin::GatherDir     4.200016    6.011
#     Dist::Zilla::Role::AfterBuild           any    6.011
#     Dist::Zilla::Role::AfterMint            any    6.011
#     Dist::Zilla::Role::AfterRelease         any    6.011
#     Dist::Zilla::Role::BeforeRelease        any    6.011
#     Dist::Zilla::Role::FilePruner           any    6.011
#     Dist::Zilla::Role::GitConfig            any     0.92
#     Dist::Zilla::Role::PluginBundle         any    6.011
#     Dist::Zilla::Role::VersionProvider      any    6.011
#     File::Spec::Functions                   any     3.74
#     File::Temp                              any   0.2304
#     File::chdir                             any   0.1010
#     Git::Wrapper                          0.021    0.047
#     IPC::Open3                              any     1.20
#     IPC::System::Simple                     any     1.25
#     List::Util                             1.45     1.49
#     Module::Runtime                         any    0.016
#     Moose                                   any   2.2010
#     Moose::Role                             any   2.2010
#     Moose::Util::TypeConstraints            any   2.2010
#     MooseX::Has::Sugar                      any 1.000006
#     MooseX::Types::Moose                    any     0.50
#     MooseX::Types::Path::Tiny             0.010    0.012
#     Path::Tiny                            0.048    0.104
#     String::Formatter                       any 0.102084
#     Try::Tiny                               any     0.30
#     Version::Next                           any    1.000
#     constant                                any     1.33
#     namespace::autoclean                   0.09     0.28
#     strict                                  any     1.11
#     version                                0.80   0.9918
#     warnings                                any     1.41
# 
# === Other Modules ===
# 
#     Module           Have
#     ------------- -------
#     JSON::PP      2.97001
#     Pod::Coverage missing
#     Sub::Name        0.21
#     YAML             1.24
#     autodie          2.29
# 
t/00-report-prereqs.t ........... ok
t/commit-message.t .............. ok
t/commit-ws.t ................... ok
t/commit-utf8.t ................. ok
t/commit-dirtydir.t ............. ok
t/commit.t ...................... ok
t/commit-build-custom.t ......... ok
t/gatherdir-multi.t ............. ok
t/commit-build.t ................ ok
t/commit-build-src-as-parent.t .. ok
t/gatherdir.t ................... ok
t/version-extraction.t .......... ok
t/repo-dir.t .................... ok
t/tag.t ......................... ok
t/tag-signed.t .................. ok
t/push-multi.t .................. ok
t/push-gitconfig.t .............. ok
t/push.t ........................ ok
t/version-default.t ............. ok
t/zzz-check-breaks.t ............ ok
t/version-by-branch.t ........... ok
t/version-regexp.t .............. ok
t/check.t ....................... ok
All tests successful.
Files=24, Tests=207, 14 wallclock secs ( 0.14 usr  0.05 sys + 38.60 cusr 12.37 csys = 51.16 CPU)
Result: PASS

------------------------------
PREREQUISITES
------------------------------

Prerequisite modules loaded:

    No requirements found

------------------------------
ENVIRONMENT AND OTHER CONTEXT
------------------------------

Environment variables:

    HARNESS_OPTIONS = j10:c
    HARNESS_SUBCLASS = TAP::Harness::Restricted
    LANG = en_NZ.UTF8
    LC_CTYPE = en_NZ.UTF8
    LC_TIME = en_NZ.UTF8
    PATH = /home/kent/perl5/perlbrew/bin:/home/kent/perl5/perlbrew/perls/5.27.9-nossp-oaath-nopmc-nodot/bin:/home/kent/.rvm/gems/ruby-2.1.2/bin:/home/kent/.rvm/gems/ruby-2.1.2@global/bin:/home/kent/.rvm/rubies/ruby-2.1.2/bin:/home/kent/.perl6/2013.04/bin:/home/kent/.gem/ruby/1.8/bin/:/usr/x86_64-pc-linux-gnu/gcc-bin/6.4.0:/usr/lib/llvm/5/bin:/usr/local/bin:/usr/bin:/bin:/opt/bin:/home/kent/.rvm/bin:/home/kent/.rvm/bin
    PERLBREW_BASHRC_VERSION = 0.80
    PERLBREW_HOME = /home/kent/.perlbrew
    PERLBREW_MANPATH = /home/kent/perl5/perlbrew/perls/5.27.9-nossp-oaath-nopmc-nodot/man
    PERLBREW_PATH = /home/kent/perl5/perlbrew/bin:/home/kent/perl5/perlbrew/perls/5.27.9-nossp-oaath-nopmc-nodot/bin
    PERLBREW_PERL = 5.27.9-nossp-oaath-nopmc-nodot
    PERLBREW_ROOT = /home/kent/perl5/perlbrew
    PERLBREW_VERSION = 0.80
    PERL_CPANM_OPT =  --prompt --interactive --verify --mirror http://cpan.metacpan.org/ --no-lwp
    PERL_MM_OPT =  INSTALLDIRS=site
    PERL_USE_UNSAFE_INC = 1
    SHELL = /bin/bash
    TERM = rxvt-unicode-256color

Perl special variables (and OS-specific diagnostics, for MSWin32):

    EGID = 1000 4 6 10 16 18 19 27 35 78 80 85 100 102 103 104 105 114 115 116 117 118 250 965 968 974 976 994 1000
    EUID = 1000
    EXECUTABLE_NAME = /home/kent/perl5/perlbrew/perls/5.27.9-nossp-oaath-nopmc-nodot/bin/perl5.27.9
    GID = 1000 4 6 10 16 18 19 27 35 78 80 85 100 102 103 104 105 114 115 116 117 118 250 965 968 974 976 994 1000
    UID = 1000

Perl module toolchain versions installed:

    Module              Have    
    ------------------- --------
    CPAN                2.20    
    CPAN::Meta          2.150010
    Cwd                 3.74    
    ExtUtils::CBuilder  0.280230
    ExtUtils::Command   7.32    
    ExtUtils::Install   2.14    
    ExtUtils::MakeMaker 7.32    
    ExtUtils::Manifest  1.70    
    ExtUtils::ParseXS   3.38    
    File::Spec          3.74    
    JSON                2.97001 
    JSON::PP            2.97001 
    Module::Build       0.4224  
    Module::Signature   0.81    
    Parse::CPAN::Meta   2.150010
    Test::Harness       3.39    
    Test::More          1.302133
    YAML                1.24    
    YAML::Syck          n/a     
    version             0.9918  


--

Summary of my perl5 (revision 5 version 27 subversion 9) configuration:
   
  Platform:
    osname=linux
    osvers=4.10.13-gentoo
    archname=x86_64-linux
    uname='linux katipo2 4.10.13-gentoo #48 smp preempt tue may 2 15:18:23 nzst 2017 x86_64 intel(r) core(tm) i5-2410m cpu @ 2.30ghz genuineintel gnulinux '
    config_args='-de -Dprefix=/home/kent/perl5/perlbrew/perls/5.27.9-nossp-oaath-nopmc-nodot -Ddefault_inc_excludes_dot -Doptimize= -fstack-protector-strong -fno-stack-protector -O3 -march=native -mtune=native -Dman1dir=none -Dman3dir=none -Dusedevel -Accflags= -fstack-protector-strong -fno-stack-protector -DPERL_DISABLE_PMC -Aldflags= -fstack-protector-strong -fno-stack-protector -Aeval:scriptdir=/home/kent/perl5/perlbrew/perls/5.27.9-nossp-oaath-nopmc-nodot/bin'
    hint=recommended
    useposix=true
    d_sigaction=define
    useithreads=undef
    usemultiplicity=undef
    use64bitint=define
    use64bitall=define
    uselongdouble=undef
    usemymalloc=n
    default_inc_excludes_dot=define
    bincompat5005=undef
  Compiler:
    cc='cc'
    ccflags ='-fstack-protector-strong -fno-stack-protector -DPERL_DISABLE_PMC -fwrapv -fno-strict-aliasing -pipe -D_LARGEFILE_SOURCE -D_FILE_OFFSET_BITS=64'
    optimize=' -fstack-protector-strong -fno-stack-protector -O3 -march=native -mtune=native'
    cppflags='-fstack-protector-strong -fno-stack-protector -DPERL_DISABLE_PMC -fwrapv -fno-strict-aliasing -pipe'
    ccversion=''
    gccversion='7.3.0'
    gccosandvers=''
    intsize=4
    longsize=8
    ptrsize=8
    doublesize=8
    byteorder=12345678
    doublekind=3
    d_longlong=define
    longlongsize=8
    d_longdbl=define
    longdblsize=16
    longdblkind=3
    ivtype='long'
    ivsize=8
    nvtype='double'
    nvsize=8
    Off_t='off_t'
    lseeksize=8
    alignbytes=8
    prototype=define
  Linker and Libraries:
    ld='cc'
    ldflags ='  -fstack-protector-strong -fno-stack-protector -L/usr/local/lib'
    libpth=/usr/lib/gcc/x86_64-pc-linux-gnu/7.3.0/include-fixed /usr/lib /usr/local/lib /lib/../lib64 /usr/lib/../lib64 /lib /lib64 /usr/lib64 /usr/local/lib64
    libs=-lpthread -lgdbm -ldb -ldl -lm -lcrypt -lutil -lc -lgdbm_compat
    perllibs=-lpthread -ldl -lm -lcrypt -lutil -lc
    libc=libc-2.26.so
    so=so
    useshrplib=false
    libperl=libperl.a
    gnulibc_version='2.26'
  Dynamic Linking:
    dlsrc=dl_dlopen.xs
    dlext=so
    d_dlsymun=undef
    ccdlflags='-Wl,-E'
    cccdlflags='-fPIC'
    lddlflags='-shared  -fstack-protector-strong -fno-stack-protector -O3 -march=native -mtune=native -L/usr/local/lib'


Characteristics of this binary (from libperl): 
  Compile-time options:
    HAS_TIMES
    PERLIO_LAYERS
    PERL_COPY_ON_WRITE
    PERL_DISABLE_PMC
    PERL_DONT_CREATE_GVSV
    PERL_MALLOC_WRAP
    PERL_OP_PARENT
    PERL_PRESERVE_IVUV
    PERL_USE_DEVEL
    USE_64_BIT_ALL
    USE_64_BIT_INT
    USE_LARGE_FILES
    USE_LOCALE
    USE_LOCALE_COLLATE
    USE_LOCALE_CTYPE
    USE_LOCALE_NUMERIC
    USE_LOCALE_TIME
    USE_PERLIO
    USE_PERL_ATOF
  Built under linux
  Compiled at Mar 19 2018 14:35:38
  %ENV:
    PERLBREW_BASHRC_VERSION="0.80"
    PERLBREW_HOME="/home/kent/.perlbrew"
    PERLBREW_MANPATH="/home/kent/perl5/perlbrew/perls/5.27.9-nossp-oaath-nopmc-nodot/man"
    PERLBREW_PATH="/home/kent/perl5/perlbrew/bin:/home/kent/perl5/perlbrew/perls/5.27.9-nossp-oaath-nopmc-nodot/bin"
    PERLBREW_PERL="5.27.9-nossp-oaath-nopmc-nodot"
    PERLBREW_ROOT="/home/kent/perl5/perlbrew"
    PERLBREW_VERSION="0.80"
    PERL_CPANM_OPT=" --prompt --interactive --verify --mirror http://cpan.metacpan.org/ --no-lwp"
    PERL_MM_OPT=" INSTALLDIRS=site"
    PERL_USE_UNSAFE_INC="1"
  @INC:
    /home/kent/perl5/perlbrew/perls/5.27.9-nossp-oaath-nopmc-nodot/lib/site_perl/5.27.9/x86_64-linux
    /home/kent/perl5/perlbrew/perls/5.27.9-nossp-oaath-nopmc-nodot/lib/site_perl/5.27.9
    /home/kent/perl5/perlbrew/perls/5.27.9-nossp-oaath-nopmc-nodot/lib/5.27.9/x86_64-linux
    /home/kent/perl5/perlbrew/perls/5.27.9-nossp-oaath-nopmc-nodot/lib/5.27.9
    .