Sah-SchemaBundle-Perl v0.050 Perl 5 v5.41.14 x86_64-linux

Status
Pass
From
Carlos Guevara
Dist
Sah-SchemaBundle-Perl v0.050
Platform
Perl 5 v5.41.14 x86_64-linux
Date
2025-06-07 08:53:30
ID
e2a18396-437c-11f0-85f5-fb5f6e0435c7
This distribution has been tested as part of the CPAN Testers
project, supporting the Perl programming language.  See
http://wiki.cpantesters.org/ for more information or email
questions to cpan-testers-discuss@perl.org


--
Dear perlancar,

This is a computer-generated report for Sah-SchemaBundle-Perl-0.050
on perl 5.41.14, created by CPAN-Reporter-1.2020.

Thank you for uploading your work to CPAN.  Congratulations!
All tests were successful.

Sections of this report:

    * Tester comments
    * Program output
    * Prerequisites
    * Environment and other context

------------------------------
TESTER COMMENTS
------------------------------

Additional comments from tester:

this report is from an automated smoke testing program
and was not reviewed by a human for accuracy

------------------------------
PROGRAM OUTPUT
------------------------------

Output from '/usr/bin/make test':

PERL_DL_NONLAZY=1 "/home/cpan/bin/perl/bin/perl5.41.14" "-MExtUtils::Command::MM" "-MTest::Harness" "-e" "undef *Test::Harness::Switches; test_harness(0, 'blib/lib', 'blib/arch')" t/*.t
t/00-compile.t ................. ok
t/author-critic.t .............. skipped: these tests are for testing by the author
t/author-pod-coverage.t ........ skipped: these tests are for testing by the author
t/author-pod-syntax.t .......... skipped: these tests are for testing by the author
t/perl-distname.t .............. ok
t/perl-filename.t .............. ok
t/perl-funcname.t .............. ok
t/perl-modname.t ............... ok
t/perl-modname_or_prefix.t ..... ok
t/perl-modprefix.t ............. ok
t/perl-pm_filename.t ........... ok
t/perl-pod_filename.t .......... ok
t/perl-pod_or_pm_filename.t .... ok
t/perl-qualified_funcname.t .... ok
t/perl-unqualified_funcname.t .. ok
t/perl-version.t ............... ok
t/release-sah-schema.t ......... skipped: these tests are for release candidate testing
All tests successful.
Files=17, Tests=99,  1 wallclock secs ( 0.06 usr  0.01 sys +  1.11 cusr  0.36 csys =  1.54 CPU)
Result: PASS

------------------------------
PREREQUISITES
------------------------------

Prerequisite modules loaded:

requires:

    Module                                    Need     Have      
    ----------------------------------------- -------- ----------
    Complete::File                            0.440    0.443     
    Complete::Module                          0.263    0.263     
    Complete::Util                            0.620    0.620     
    Data::Dmp                                 0.242    0.242     
    Data::Sah::Compiler::perl::TH::any        0.914    0.917     
    Data::Sah::Compiler::perl::TH::array      0.914    0.917     
    Data::Sah::Compiler::perl::TH::hash       0.914    0.917     
    Data::Sah::Compiler::perl::TH::obj        0.914    0.917     
    Data::Sah::Compiler::perl::TH::str        0.914    0.917     
    Data::Sah::Filter::perl::JSON::decode_str 0        0.007     
    JSON::MaybeXS                             0        1.004008  
    List::Util                                1.54     1.68_01   
    Module::CoreList                          0        5.20250620
    Module::Installed::Tiny                   0.011    0.011     
    Module::Path::More                        0.32     0.340     
    Module::Release::Select                   0        0.002     
    perl                                      5.010001 5.041014  
    PERLANCAR::Module::List                   0.004004 0.004005  
    Regexp::Pattern::Perl::Module             0.005    0.007     
    Sah::Schema::array_from_json              0        0.007     
    Scalar::Util                              0        1.68_01   
    strict                                    0        1.14      
    String::Wildcard::Bash                    0.044    0.045     
    utf8                                      0        1.27      
    warnings                                  0        1.74      

build_requires:

    Module                                    Need     Have      
    ----------------------------------------- -------- ----------
    Data::Sah                                 0.916    0.917     
    ExtUtils::MakeMaker                       0        7.76      
    File::Spec                                0        3.94      
    IO::Handle                                0        1.55      
    IPC::Open3                                0        1.24      
    Module::Path::More                        0.32     0.340     
    Test::More                                0.98     1.302214  
    Test::Needs                               0        0.002010  

configure_requires:

    Module                                    Need     Have      
    ----------------------------------------- -------- ----------
    ExtUtils::MakeMaker                       0        7.76      


------------------------------
ENVIRONMENT AND OTHER CONTEXT
------------------------------

Environment variables:

    AUTOMATED_TESTING = 1
    DATE_MANIP_TEST_DM5 = 1
    LANG = en_US.UTF-8
    LC_ALL = C
    NONINTERACTIVE_TESTING = 1
    NO_NETWORK_TESTING = 1
    PATH = /home/cpan/bin/perl/bin:/home/cpan/bin:/usr/share/Modules/bin:/home/cpan/bin:/usr/local/bin:/usr/bin:/usr/local/sbin:/usr/sbin
    PERL5LIB = 
    PERL5OPT = 
    PERL5_CPANPLUS_IS_RUNNING = 157418
    PERL5_CPAN_IS_RUNNING = 157418
    PERL_MM_USE_DEFAULT = 1
    PERL_USE_UNSAFE_INC = 1
    SHELL = /bin/bash
    TERM = screen
    TMPDIR = /home/cpan/tmp

Perl special variables (and OS-specific diagnostics, for MSWin32):

    $^X = /home/cpan/bin/perl/bin/perl5.41.14
    $UID/$EUID = 1001 / 1001
    $GID = 1001 1001
    $EGID = 1001 1001

Perl module toolchain versions installed:

    Module              Have    
    ------------------- --------
    CPAN                2.38    
    CPAN::Meta          2.150010
    Cwd                 3.94    
    ExtUtils::CBuilder  0.280241
    ExtUtils::Command   7.76    
    ExtUtils::Install   2.22    
    ExtUtils::MakeMaker 7.76    
    ExtUtils::Manifest  1.75    
    ExtUtils::ParseXS   3.57    
    File::Spec          3.94    
    JSON                4.10    
    JSON::PP            4.16    
    Module::Build       0.4234  
    Module::Signature   0.89    
    Parse::CPAN::Meta   2.150010
    Test2               1.302214
    Test::Harness       3.50    
    Test::More          1.302214
    YAML                1.31    
    YAML::Syck          n/a     
    version             0.9933  


--

Summary of my perl5 (revision 5 version 41 subversion 14) configuration:
  Commit id: 6fbe2c7e05ae0e078795b74815bcefd10be12c56
  Platform:
    osname=linux
    osvers=5.14.0-570.19.1.el9_6.x86_64
    archname=x86_64-linux
    uname='linux cjg-rhel9 5.14.0-570.19.1.el9_6.x86_64 #1 smp preempt_dynamic sat may 24 15:55:19 edt 2025 x86_64 x86_64 x86_64 gnulinux '
    config_args='-des -Dprefix=/home/cpan/bin/perl -Dscriptdir=/home/cpan/bin/perl/bin -Dusedevel -Duse64bitall'
    hint=recommended
    useposix=true
    d_sigaction=define
    useithreads=undef
    usemultiplicity=undef
    use64bitint=define
    use64bitall=define
    uselongdouble=undef
    usemymalloc=n
    default_inc_excludes_dot=define
  Compiler:
    cc='cc'
    ccflags ='-fwrapv -fno-strict-aliasing -pipe -fstack-protector-strong -I/usr/local/include -D_LARGEFILE_SOURCE -D_FILE_OFFSET_BITS=64 -D_FORTIFY_SOURCE=2'
    optimize='-O2'
    cppflags='-fwrapv -fno-strict-aliasing -pipe -fstack-protector-strong -I/usr/local/include'
    ccversion=''
    gccversion='11.5.0 20240719 (Red Hat 11.5.0-5)'
    gccosandvers=''
    intsize=4
    longsize=8
    ptrsize=8
    doublesize=8
    byteorder=12345678
    doublekind=3
    d_longlong=define
    longlongsize=8
    d_longdbl=define
    longdblsize=16
    longdblkind=3
    ivtype='long'
    ivsize=8
    nvtype='double'
    nvsize=8
    Off_t='off_t'
    lseeksize=8
    alignbytes=8
    prototype=define
  Linker and Libraries:
    ld='cc'
    ldflags =' -fstack-protector-strong -L/usr/local/lib'
    libpth=/usr/local/lib /usr/lib /usr/lib64 /usr/local/lib64
    libs=-lpthread -ldb -ldl -lm -lcrypt -lutil -lc
    perllibs=-lpthread -ldl -lm -lcrypt -lutil -lc
    libc=/lib/../lib64/libc.so.6
    so=so
    useshrplib=false
    libperl=libperl.a
    gnulibc_version='2.34'
  Dynamic Linking:
    dlsrc=dl_dlopen.xs
    dlext=so
    d_dlsymun=undef
    ccdlflags='-Wl,-E'
    cccdlflags='-fPIC'
    lddlflags='-shared -O2 -L/usr/local/lib -fstack-protector-strong'


Characteristics of this binary (from libperl): 
  Compile-time options:
    HAS_LONG_DOUBLE
    HAS_STRTOLD
    HAS_TIMES
    PERLIO_LAYERS
    PERL_COPY_ON_WRITE
    PERL_DONT_CREATE_GVSV
    PERL_HASH_FUNC_SIPHASH13
    PERL_HASH_USE_SBOX32
    PERL_MALLOC_WRAP
    PERL_OP_PARENT
    PERL_PRESERVE_IVUV
    PERL_USE_DEVEL
    PERL_USE_SAFE_PUTENV
    USE_64_BIT_ALL
    USE_64_BIT_INT
    USE_LARGE_FILES
    USE_LOCALE
    USE_LOCALE_COLLATE
    USE_LOCALE_CTYPE
    USE_LOCALE_NUMERIC
    USE_LOCALE_TIME
    USE_PERLIO
    USE_PERL_ATOF
  Built under linux
  Compiled at Jun  7 2025 03:17:29
  %ENV:
    PERL5LIB=""
    PERL5OPT=""
    PERL5_CPANPLUS_IS_RUNNING="157418"
    PERL5_CPAN_IS_RUNNING="157418"
    PERL_MM_USE_DEFAULT="1"
    PERL_USE_UNSAFE_INC="1"
  @INC:
    /home/cpan/bin/perl/lib/site_perl/5.41.14/x86_64-linux
    /home/cpan/bin/perl/lib/site_perl/5.41.14
    /home/cpan/bin/perl/lib/5.41.14/x86_64-linux
    /home/cpan/bin/perl/lib/5.41.14
    .