DB-Pluggable v1.12 Perl 5 v5.37.9 amd64-freebsd
        
            - Status
- Pass
- From
- Slaven Rezić
- Dist
- 
                DB-Pluggable v1.12
            
- Platform
- Perl 5 v5.37.9 amd64-freebsd
- Date
- 2023-03-09 17:07:32
- ID
- e19981e0-be9c-11ed-89ac-b33a6e8775ea
This distribution has been tested as part of the CPAN Testers
project, supporting the Perl programming language.  See
http://wiki.cpantesters.org/ for more information or email
questions to cpan-testers-discuss@perl.org
--
Dear Keith Carangelo,
This is a computer-generated report for DB-Pluggable-1.12
on perl 5.37.9, created by CPAN-Reporter-1.2018.
Thank you for uploading your work to CPAN.  Congratulations!
All tests were successful.
Sections of this report:
    * Tester comments
    * Program output
    * Prerequisites
    * Environment and other context
------------------------------
TESTER COMMENTS
------------------------------
Additional comments from tester:
none provided
------------------------------
PROGRAM OUTPUT
------------------------------
Output from '/usr/bin/make test':
PERL_DL_NONLAZY=1 "/usr/perl5.37.9p/bin/perl5.37.9" "-MExtUtils::Command::MM" "-MTest::Harness" "-e" "undef *Test::Harness::Switches; test_harness(0, 'blib/lib', 'blib/arch')" t/*.t
t/00-compile.t ........... ok
# Testing with Perl 5.037009, /usr/perl5.37.9p/bin/perl5.37.9
#     Brickyard version is 2.0.0
#     Brickyard::Accessor version is undefined
#     Brickyard::Role::Plugin version is undefined
#     Carp version is 1.54
#     Data::Printer version is 1.001
#     ExtUtils::MakeMaker version is 7.66
#     File::Find version is 1.43
#     File::Temp version is 0.2311
#     Hook::LexWrap version is 0.26
#     Role::Basic version is 0.13
#     Scalar::Util version is 1.63
#     Test::Builder version is 1.302192
#     Test::More version is 1.302192
#     strict version is 1.12
#     warnings version is 1.62
t/000-report-versions.t .. ok
t/01_misc.t .............. ok
All tests successful.
Files=3, Tests=24,  1 wallclock secs ( 0.03 usr  0.02 sys +  0.59 cusr  0.16 csys =  0.79 CPU)
Result: PASS
------------------------------
PREREQUISITES
------------------------------
Prerequisite modules loaded:
requires:
    Module                  Need     Have    
    ----------------------- -------- --------
    Brickyard               1.111750 2.0.0   
    Brickyard::Accessor     0        0       
    Brickyard::Role::Plugin 0        0       
    Data::Printer           0        1.001000
    Hook::LexWrap           0        0.26    
    perl                    5.010    5.037009
    Role::Basic             0        0.13    
    strict                  0        1.12    
    Test::Builder           0        1.302192
    warnings                0        1.62    
build_requires:
    Module                  Need     Have    
    ----------------------- -------- --------
    Carp                    0        1.54    
    ExtUtils::MakeMaker     0        7.66    
    File::Find              0        1.43    
    File::Temp              0        0.2311  
    Scalar::Util            0        1.63    
    Test::More              0.94     1.302192
configure_requires:
    Module                  Need     Have    
    ----------------------- -------- --------
    ExtUtils::MakeMaker     0        7.66    
------------------------------
ENVIRONMENT AND OTHER CONTEXT
------------------------------
Environment variables:
    PATH = /usr/local/bin:/usr/bin:/bin:/usr/local/sbin:/usr/sbin:/sbin:/home/cpansand/bin/sh:/home/cpansand/bin:/usr/games:/home/cpansand/devel:/usr/home/eserte/src/srezic-misc/scripts
    PERL5LIB = 
    PERL5OPT = 
    PERL5_CPANPLUS_IS_RUNNING = 82643
    PERL5_CPAN_IS_RUNNING = 82643
    PERL5_CPAN_IS_RUNNING_IN_RECURSION = 82601,82643
    PERL_BATCH = yes
    PERL_CANARY_STABILITY_NOPROMPT = 1
    PERL_CPAN_REPORTER_CONFIG = /var/tmp/cpansmoker-1023/2023030917/cpanreporter_000_config.ini
    PERL_EXTUTILS_AUTOINSTALL = --defaultdeps
    PERL_USE_UNSAFE_INC = 1
    SHELL = /bin/sh
    TMPDIR = /var/tmp/cpansmoker-1023/2023030917
Perl special variables (and OS-specific diagnostics, for MSWin32):
    $^X = /usr/perl5.37.9p/bin/perl5.37.9
    $UID/$EUID = 1023 / 1023
    $GID = 1023 1023
    $EGID = 1023 1023
Perl module toolchain versions installed:
    Module              Have    
    ------------------- --------
    CPAN                2.34    
    CPAN::Meta          2.150010
    Cwd                 3.88    
    ExtUtils::CBuilder  0.280238
    ExtUtils::Command   7.66    
    ExtUtils::Install   2.22    
    ExtUtils::MakeMaker 7.66    
    ExtUtils::Manifest  1.73    
    ExtUtils::ParseXS   3.49    
    File::Spec          3.88    
    JSON                4.10    
    JSON::PP            4.16    
    Module::Build       0.4232  
    Module::Signature   n/a     
    Parse::CPAN::Meta   2.150010
    Test::Harness       3.44    
    Test::More          1.302192
    YAML                1.30    
    YAML::Syck          1.34    
    version             0.9929  
--
Summary of my perl5 (revision 5 version 37 subversion 9) configuration:
   
  Platform:
    osname=freebsd
    osvers=12.4-stable
    archname=amd64-freebsd
    uname='freebsd cloud1.bbbike.org 12.4-stable freebsd 12.4-stable stable12-82fd8caf6 generic amd64 '
    config_args='-ds -e -Dprefix=/usr/perl5.37.9p -Dusedevel -Dusemallocwrap=no -Dcf_email=srezic@cpan.org -Doptimize=-O2 -pipe'
    hint=recommended
    useposix=true
    d_sigaction=define
    useithreads=undef
    usemultiplicity=undef
    use64bitint=define
    use64bitall=define
    uselongdouble=undef
    usemymalloc=n
    default_inc_excludes_dot=define
  Compiler:
    cc='cc'
    ccflags ='-DHAS_FPSETMASK -DHAS_FLOATINGPOINT_H -fno-strict-aliasing -pipe -fstack-protector-strong -I/usr/local/include'
    optimize='-O2 -pipe'
    cppflags='-DHAS_FPSETMASK -DHAS_FLOATINGPOINT_H -fno-strict-aliasing -pipe -fstack-protector-strong -I/usr/local/include'
    ccversion=''
    gccversion='FreeBSD Clang 13.0.0 (git@github.com:llvm/llvm-project.git llvmorg-13.0.0-0-gd7b669b3a303)'
    gccosandvers=''
    intsize=4
    longsize=8
    ptrsize=8
    doublesize=8
    byteorder=12345678
    doublekind=3
    d_longlong=define
    longlongsize=8
    d_longdbl=define
    longdblsize=16
    longdblkind=3
    ivtype='long'
    ivsize=8
    nvtype='double'
    nvsize=8
    Off_t='off_t'
    lseeksize=8
    alignbytes=8
    prototype=define
  Linker and Libraries:
    ld='cc'
    ldflags ='-pthread -Wl,-E  -fstack-protector-strong -L/usr/local/lib'
    libpth=/usr/lib /usr/local/lib /usr/lib/clang/13.0.0/lib
    libs=-lpthread -lgdbm -ldl -lm -lcrypt -lutil -lc
    perllibs=-lpthread -ldl -lm -lcrypt -lutil -lc
    libc=
    so=so
    useshrplib=false
    libperl=libperl.a
    gnulibc_version=''
  Dynamic Linking:
    dlsrc=dl_dlopen.xs
    dlext=so
    d_dlsymun=undef
    ccdlflags=' '
    cccdlflags='-DPIC -fPIC'
    lddlflags='-shared  -L/usr/local/lib -fstack-protector-strong'
Characteristics of this binary (from libperl): 
  Compile-time options:
    HAS_TIMES
    PERLIO_LAYERS
    PERL_COPY_ON_WRITE
    PERL_DONT_CREATE_GVSV
    PERL_HASH_FUNC_SIPHASH13
    PERL_HASH_USE_SBOX32
    PERL_OP_PARENT
    PERL_PRESERVE_IVUV
    PERL_USE_DEVEL
    PERL_USE_SAFE_PUTENV
    USE_64_BIT_ALL
    USE_64_BIT_INT
    USE_LARGE_FILES
    USE_LOCALE
    USE_LOCALE_COLLATE
    USE_LOCALE_CTYPE
    USE_LOCALE_NUMERIC
    USE_LOCALE_TIME
    USE_PERLIO
    USE_PERL_ATOF
  Built under freebsd
  Compiled at Feb 28 2023 06:37:53
  %ENV:
    PERL5LIB=""
    PERL5OPT=""
    PERL5_CPANPLUS_IS_RUNNING="82643"
    PERL5_CPAN_IS_RUNNING="82643"
    PERL5_CPAN_IS_RUNNING_IN_RECURSION="82601,82643"
    PERL_BATCH="yes"
    PERL_CANARY_STABILITY_NOPROMPT="1"
    PERL_CPAN_REPORTER_CONFIG="/var/tmp/cpansmoker-1023/2023030917/cpanreporter_000_config.ini"
    PERL_EXTUTILS_AUTOINSTALL="--defaultdeps"
    PERL_USE_UNSAFE_INC="1"
  @INC:
    /usr/perl5.37.9p/lib/site_perl/5.37.9/amd64-freebsd
    /usr/perl5.37.9p/lib/site_perl/5.37.9
    /usr/perl5.37.9p/lib/5.37.9/amd64-freebsd
    /usr/perl5.37.9p/lib/5.37.9
    .