Test-Simple v1.302207 Perl 5 v5.38.2 x86_64-linux-gnu-thread-multi

Status
Pass
From
Dist
Test-Simple v1.302207
Platform
Perl 5 v5.38.2 x86_64-linux-gnu-thread-multi
Date
2025-01-08 12:55:47
ID
e12caa8c-cdbf-11ef-a13e-fa43ac463deb
This distribution has been tested as part of the CPAN Testers
project, supporting the Perl programming language.  See
http://wiki.cpantesters.org/ for more information or email
questions to cpan-testers-discuss@perl.org


--
Dear EXODIST,

This is a computer-generated report for Test-Simple-1.302207
on perl 5.38.2, created by App::cpanminus::reporter 0.22 (1.7048).

Thank you for uploading your work to CPAN.  Congratulations!
All tests were successful.

Sections of this report:

    * Tester comments
    * Program output
    * Prerequisites
    * Environment and other context

------------------------------
TESTER COMMENTS
------------------------------

Additional comments from tester:

none provided

------------------------------
PROGRAM OUTPUT
------------------------------

Output from '':

Building and testing Test-Simple-1.302207
cp lib/Test2/API/Instance.pm blib/lib/Test2/API/Instance.pm
cp lib/Test2/AsyncSubtest/Event/Detach.pm blib/lib/Test2/AsyncSubtest/Event/Detach.pm
cp lib/Test2/API/InterceptResult/Squasher.pm blib/lib/Test2/API/InterceptResult/Squasher.pm
cp lib/Test2/API/Breakage.pm blib/lib/Test2/API/Breakage.pm
cp lib/Test2/AsyncSubtest.pm blib/lib/Test2/AsyncSubtest.pm
cp lib/Test2/AsyncSubtest/Event/Attach.pm blib/lib/Test2/AsyncSubtest/Event/Attach.pm
cp lib/Test/Tester/CaptureRunner.pm blib/lib/Test/Tester/CaptureRunner.pm
cp lib/Test2/Compare/Bag.pm blib/lib/Test2/Compare/Bag.pm
cp lib/Test/Tester.pm blib/lib/Test/Tester.pm
cp lib/Test2/API/Context.pm blib/lib/Test2/API/Context.pm
cp lib/Test/use/ok.pm blib/lib/Test/use/ok.pm
cp lib/Test/Simple.pm blib/lib/Test/Simple.pm
cp lib/Test/More.pm blib/lib/Test/More.pm
cp lib/Test2/API/Stack.pm blib/lib/Test2/API/Stack.pm
cp lib/Test2/API/InterceptResult/Event.pm blib/lib/Test2/API/InterceptResult/Event.pm
cp lib/Test2/AsyncSubtest/Formatter.pm blib/lib/Test2/AsyncSubtest/Formatter.pm
cp lib/Test2/Bundle/Extended.pm blib/lib/Test2/Bundle/Extended.pm
cp lib/Test2/Bundle.pm blib/lib/Test2/Bundle.pm
cp lib/Test2/Compare/Array.pm blib/lib/Test2/Compare/Array.pm
cp lib/Test2/Compare/Custom.pm blib/lib/Test2/Compare/Custom.pm
cp lib/Test2/AsyncSubtest/Hub.pm blib/lib/Test2/AsyncSubtest/Hub.pm
cp lib/Test/Builder/Module.pm blib/lib/Test/Builder/Module.pm
cp lib/Test/Tutorial.pod blib/lib/Test/Tutorial.pod
cp lib/Test2/API/InterceptResult/Hub.pm blib/lib/Test2/API/InterceptResult/Hub.pm
cp lib/Test2/Compare.pm blib/lib/Test2/Compare.pm
cp lib/Test/Tester/Delegate.pm blib/lib/Test/Tester/Delegate.pm
cp lib/Test2.pm blib/lib/Test2.pm
cp lib/Test2/API/InterceptResult/Facet.pm blib/lib/Test2/API/InterceptResult/Facet.pm
cp lib/Test2/API/InterceptResult.pm blib/lib/Test2/API/InterceptResult.pm
cp lib/Test2/Compare/Base.pm blib/lib/Test2/Compare/Base.pm
cp lib/Test/Tester/Capture.pm blib/lib/Test/Tester/Capture.pm
cp lib/Test/Builder/TodoDiag.pm blib/lib/Test/Builder/TodoDiag.pm
cp lib/Test2/Bundle/Simple.pm blib/lib/Test2/Bundle/Simple.pm
cp lib/Test2/Compare/Bool.pm blib/lib/Test2/Compare/Bool.pm
cp lib/Test/Builder/Formatter.pm blib/lib/Test/Builder/Formatter.pm
cp lib/Test2/API.pm blib/lib/Test2/API.pm
cp lib/Test2/Bundle/More.pm blib/lib/Test2/Bundle/More.pm
cp lib/Test/Builder/Tester/Color.pm blib/lib/Test/Builder/Tester/Color.pm
cp lib/Test/Builder/Tester.pm blib/lib/Test/Builder/Tester.pm
cp lib/Test/Builder.pm blib/lib/Test/Builder.pm
cp lib/Test2/Event/Waiting.pm blib/lib/Test2/Event/Waiting.pm
cp lib/Test2/Event/Diag.pm blib/lib/Test2/Event/Diag.pm
cp lib/Test2/Compare/Hash.pm blib/lib/Test2/Compare/Hash.pm
cp lib/Test2/Event/Fail.pm blib/lib/Test2/Event/Fail.pm
cp lib/Test2/Compare/Meta.pm blib/lib/Test2/Compare/Meta.pm
cp lib/Test2/Event/Ok.pm blib/lib/Test2/Event/Ok.pm
cp lib/Test2/Compare/Wildcard.pm blib/lib/Test2/Compare/Wildcard.pm
cp lib/Test2/Event/Subtest.pm blib/lib/Test2/Event/Subtest.pm
cp lib/Test2/EventFacet.pm blib/lib/Test2/EventFacet.pm
cp lib/Test2/Compare/Number.pm blib/lib/Test2/Compare/Number.pm
cp lib/Test2/Event/Note.pm blib/lib/Test2/Event/Note.pm
cp lib/Test2/Event/TAP/Version.pm blib/lib/Test2/Event/TAP/Version.pm
cp lib/Test2/Compare/Isa.pm blib/lib/Test2/Compare/Isa.pm
cp lib/Test2/EventFacet/About.pm blib/lib/Test2/EventFacet/About.pm
cp lib/Test2/Compare/Ref.pm blib/lib/Test2/Compare/Ref.pm
cp lib/Test2/Compare/Event.pm blib/lib/Test2/Compare/Event.pm
cp lib/Test2/Compare/String.pm blib/lib/Test2/Compare/String.pm
cp lib/Test2/Event/Exception.pm blib/lib/Test2/Event/Exception.pm
cp lib/Test2/Env.pm blib/lib/Test2/Env.pm
cp lib/Test2/Compare/Undef.pm blib/lib/Test2/Compare/Undef.pm
cp lib/Test2/Event/Generic.pm blib/lib/Test2/Event/Generic.pm
cp lib/Test2/Compare/Negatable.pm blib/lib/Test2/Compare/Negatable.pm
cp lib/Test2/Event.pm blib/lib/Test2/Event.pm
cp lib/Test2/Event/V2.pm blib/lib/Test2/Event/V2.pm
cp lib/Test2/Compare/Pattern.pm blib/lib/Test2/Compare/Pattern.pm
cp lib/Test2/Event/Pass.pm blib/lib/Test2/Event/Pass.pm
cp lib/Test2/Compare/Float.pm blib/lib/Test2/Compare/Float.pm
cp lib/Test2/Compare/Set.pm blib/lib/Test2/Compare/Set.pm
cp lib/Test2/Event/Encoding.pm blib/lib/Test2/Event/Encoding.pm
cp lib/Test2/Event/Plan.pm blib/lib/Test2/Event/Plan.pm
cp lib/Test2/Compare/DeepRef.pm blib/lib/Test2/Compare/DeepRef.pm
cp lib/Test2/EventFacet/Assert.pm blib/lib/Test2/EventFacet/Assert.pm
cp lib/Test2/Compare/Object.pm blib/lib/Test2/Compare/Object.pm
cp lib/Test2/EventFacet/Amnesty.pm blib/lib/Test2/EventFacet/Amnesty.pm
cp lib/Test2/Event/Skip.pm blib/lib/Test2/Event/Skip.pm
cp lib/Test2/Compare/Scalar.pm blib/lib/Test2/Compare/Scalar.pm
cp lib/Test2/Compare/Delta.pm blib/lib/Test2/Compare/Delta.pm
cp lib/Test2/Compare/Regex.pm blib/lib/Test2/Compare/Regex.pm
cp lib/Test2/Event/Bail.pm blib/lib/Test2/Event/Bail.pm
cp lib/Test2/Compare/EventMeta.pm blib/lib/Test2/Compare/EventMeta.pm
cp lib/Test2/Compare/OrderedSubset.pm blib/lib/Test2/Compare/OrderedSubset.pm
cp lib/Test2/Hub/Interceptor/Terminator.pm blib/lib/Test2/Hub/Interceptor/Terminator.pm
cp lib/Test2/Manual/Concurrency.pm blib/lib/Test2/Manual/Concurrency.pm
cp lib/Test2/Formatter.pm blib/lib/Test2/Formatter.pm
cp lib/Test2/Manual/Anatomy/API.pm blib/lib/Test2/Manual/Anatomy/API.pm
cp lib/Test2/IPC.pm blib/lib/Test2/IPC.pm
cp lib/Test2/Manual/Anatomy.pm blib/lib/Test2/Manual/Anatomy.pm
cp lib/Test2/Manual/Anatomy/IPC.pm blib/lib/Test2/Manual/Anatomy/IPC.pm
cp lib/Test2/Manual.pm blib/lib/Test2/Manual.pm
cp lib/Test2/Manual/Testing/Migrating.pm blib/lib/Test2/Manual/Testing/Migrating.pm
cp lib/Test2/Manual/Testing/Introduction.pm blib/lib/Test2/Manual/Testing/Introduction.pm
cp lib/Test2/EventFacet/Hub.pm blib/lib/Test2/EventFacet/Hub.pm
cp lib/Test2/EventFacet/Meta.pm blib/lib/Test2/EventFacet/Meta.pm
cp lib/Test2/Manual/Tooling.pm blib/lib/Test2/Manual/Tooling.pm
cp lib/Test2/Manual/Anatomy/EndToEnd.pm blib/lib/Test2/Manual/Anatomy/EndToEnd.pm
cp lib/Test2/Manual/Anatomy/Event.pm blib/lib/Test2/Manual/Anatomy/Event.pm
cp lib/Test2/Manual/Anatomy/Utilities.pm blib/lib/Test2/Manual/Anatomy/Utilities.pm
cp lib/Test2/IPC/Driver/Files.pm blib/lib/Test2/IPC/Driver/Files.pm
cp lib/Test2/Manual/Testing/Planning.pm blib/lib/Test2/Manual/Testing/Planning.pm
cp lib/Test2/Manual/Testing/Todo.pm blib/lib/Test2/Manual/Testing/Todo.pm
cp lib/Test2/EventFacet/Render.pm blib/lib/Test2/EventFacet/Render.pm
cp lib/Test2/EventFacet/Info/Table.pm blib/lib/Test2/EventFacet/Info/Table.pm
cp lib/Test2/EventFacet/Parent.pm blib/lib/Test2/EventFacet/Parent.pm
cp lib/Test2/EventFacet/Plan.pm blib/lib/Test2/EventFacet/Plan.pm
cp lib/Test2/Manual/Contributing.pm blib/lib/Test2/Manual/Contributing.pm
cp lib/Test2/IPC/Driver.pm blib/lib/Test2/IPC/Driver.pm
cp lib/Test2/Formatter/TAP.pm blib/lib/Test2/Formatter/TAP.pm
cp lib/Test2/Hub/Subtest.pm blib/lib/Test2/Hub/Subtest.pm
cp lib/Test2/EventFacet/Info.pm blib/lib/Test2/EventFacet/Info.pm
cp lib/Test2/Manual/Anatomy/Context.pm blib/lib/Test2/Manual/Anatomy/Context.pm
cp lib/Test2/Manual/Testing.pm blib/lib/Test2/Manual/Testing.pm
cp lib/Test2/Hub.pm blib/lib/Test2/Hub.pm
cp lib/Test2/Manual/Anatomy/Hubs.pm blib/lib/Test2/Manual/Anatomy/Hubs.pm
cp lib/Test2/EventFacet/Error.pm blib/lib/Test2/EventFacet/Error.pm
cp lib/Test2/EventFacet/Trace.pm blib/lib/Test2/EventFacet/Trace.pm
cp lib/Test2/EventFacet/Control.pm blib/lib/Test2/EventFacet/Control.pm
cp lib/Test2/Hub/Interceptor.pm blib/lib/Test2/Hub/Interceptor.pm
cp lib/Test2/Require/NonInteractiveTesting.pm blib/lib/Test2/Require/NonInteractiveTesting.pm
cp lib/Test2/Todo.pm blib/lib/Test2/Todo.pm
cp lib/Test2/Require/EnvVar.pm blib/lib/Test2/Require/EnvVar.pm
cp lib/Test2/Tools/AsyncSubtest.pm blib/lib/Test2/Tools/AsyncSubtest.pm
cp lib/Test2/Manual/Tooling/Plugin/ToolCompletes.pm blib/lib/Test2/Manual/Tooling/Plugin/ToolCompletes.pm
cp lib/Test2/Manual/Tooling/TestBuilder.pm blib/lib/Test2/Manual/Tooling/TestBuilder.pm
cp lib/Test2/Suite.pm blib/lib/Test2/Suite.pm
cp lib/Test2/Manual/Tooling/Plugin/TestingDone.pm blib/lib/Test2/Manual/Tooling/Plugin/TestingDone.pm
cp lib/Test2/Plugin/SRand.pm blib/lib/Test2/Plugin/SRand.pm
cp lib/Test2/Manual/Tooling/Nesting.pm blib/lib/Test2/Manual/Tooling/Nesting.pm
cp lib/Test2/Manual/Tooling/FirstTool.pm blib/lib/Test2/Manual/Tooling/FirstTool.pm
cp lib/Test2/Require/ReleaseTesting.pm blib/lib/Test2/Require/ReleaseTesting.pm
cp lib/Test2/Require/Perl.pm blib/lib/Test2/Require/Perl.pm
cp lib/Test2/Manual/Tooling/Formatter.pm blib/lib/Test2/Manual/Tooling/Formatter.pm
cp lib/Test2/Require/AutomatedTesting.pm blib/lib/Test2/Require/AutomatedTesting.pm
cp lib/Test2/Require/RealFork.pm blib/lib/Test2/Require/RealFork.pm
cp lib/Test2/Plugin/DieOnFail.pm blib/lib/Test2/Plugin/DieOnFail.pm
cp lib/Test2/Manual/Tooling/Plugin/ToolStarts.pm blib/lib/Test2/Manual/Tooling/Plugin/ToolStarts.pm
cp lib/Test2/Tools/Basic.pm blib/lib/Test2/Tools/Basic.pm
cp lib/Test2/Require/Module.pm blib/lib/Test2/Require/Module.pm
cp lib/Test2/Require/AuthorTesting.pm blib/lib/Test2/Require/AuthorTesting.pm
cp lib/Test2/Manual/Tooling/Subtest.pm blib/lib/Test2/Manual/Tooling/Subtest.pm
cp lib/Test2/Plugin/UTF8.pm blib/lib/Test2/Plugin/UTF8.pm
cp lib/Test2/Plugin/BailOnFail.pm blib/lib/Test2/Plugin/BailOnFail.pm
cp lib/Test2/Plugin.pm blib/lib/Test2/Plugin.pm
cp lib/Test2/Manual/Tooling/Testing.pm blib/lib/Test2/Manual/Tooling/Testing.pm
cp lib/Test2/Require/ExtendedTesting.pm blib/lib/Test2/Require/ExtendedTesting.pm
cp lib/Test2/Plugin/Times.pm blib/lib/Test2/Plugin/Times.pm
cp lib/Test2/Require/Threads.pm blib/lib/Test2/Require/Threads.pm
cp lib/Test2/Require.pm blib/lib/Test2/Require.pm
cp lib/Test2/Tools/Class.pm blib/lib/Test2/Tools/Class.pm
cp lib/Test2/Require/Fork.pm blib/lib/Test2/Require/Fork.pm
cp lib/Test2/Plugin/ExitSummary.pm blib/lib/Test2/Plugin/ExitSummary.pm
cp lib/Test2/Tools.pm blib/lib/Test2/Tools.pm
cp lib/Test2/Mock.pm blib/lib/Test2/Mock.pm
cp lib/Test2/Manual/Tooling/Plugin/TestExit.pm blib/lib/Test2/Manual/Tooling/Plugin/TestExit.pm
cp lib/Test2/Util/Guard.pm blib/lib/Test2/Util/Guard.pm
cp lib/Test2/Util.pm blib/lib/Test2/Util.pm
cp lib/Test2/Workflow/Task.pm blib/lib/Test2/Workflow/Task.pm
cp lib/Test2/Util/Table.pm blib/lib/Test2/Util/Table.pm
cp lib/Test2/Workflow.pm blib/lib/Test2/Workflow.pm
cp lib/Test2/Tools/Subtest.pm blib/lib/Test2/Tools/Subtest.pm
cp lib/Test2/Util/HashBase.pm blib/lib/Test2/Util/HashBase.pm
cp lib/Test2/Util/Ref.pm blib/lib/Test2/Util/Ref.pm
cp lib/Test2/Tools/Mock.pm blib/lib/Test2/Tools/Mock.pm
cp lib/Test2/Util/Stash.pm blib/lib/Test2/Util/Stash.pm
cp lib/Test2/Workflow/Runner.pm blib/lib/Test2/Workflow/Runner.pm
cp lib/Test2/Workflow/Build.pm blib/lib/Test2/Workflow/Build.pm
cp lib/Test2/Tools/Exports.pm blib/lib/Test2/Tools/Exports.pm
cp lib/Test2/Util/Sub.pm blib/lib/Test2/Util/Sub.pm
cp lib/Test2/Tools/Event.pm blib/lib/Test2/Tools/Event.pm
cp lib/Test2/Util/Trace.pm blib/lib/Test2/Util/Trace.pm
cp lib/Test2/Tools/Tiny.pm blib/lib/Test2/Tools/Tiny.pm
cp lib/Test2/Tools/Defer.pm blib/lib/Test2/Tools/Defer.pm
cp lib/Test2/Util/ExternalMeta.pm blib/lib/Test2/Util/ExternalMeta.pm
cp lib/Test2/Workflow/BlockBase.pm blib/lib/Test2/Workflow/BlockBase.pm
cp lib/Test2/Tools/Spec.pm blib/lib/Test2/Tools/Spec.pm
cp lib/Test2/Tools/Tester.pm blib/lib/Test2/Tools/Tester.pm
cp lib/Test2/Tools/Encoding.pm blib/lib/Test2/Tools/Encoding.pm
cp lib/Test2/V0.pm blib/lib/Test2/V0.pm
cp lib/Test2/Tools/Ref.pm blib/lib/Test2/Tools/Ref.pm
cp lib/Test2/Util/Table/Cell.pm blib/lib/Test2/Util/Table/Cell.pm
cp lib/Test2/Util/Table/LineBreak.pm blib/lib/Test2/Util/Table/LineBreak.pm
cp lib/Test2/Tools/Refcount.pm blib/lib/Test2/Tools/Refcount.pm
cp lib/Test2/Tools/Warnings.pm blib/lib/Test2/Tools/Warnings.pm
cp lib/Test2/Tools/Grab.pm blib/lib/Test2/Tools/Grab.pm
cp lib/Test2/Util/Term.pm blib/lib/Test2/Util/Term.pm
cp lib/Test2/Tools/Exception.pm blib/lib/Test2/Tools/Exception.pm
cp lib/Test2/Tools/Target.pm blib/lib/Test2/Tools/Target.pm
cp lib/Test2/Util/Grabber.pm blib/lib/Test2/Util/Grabber.pm
cp lib/Test2/Transition.pod blib/lib/Test2/Transition.pod
cp lib/Test2/Tools/GenTemp.pm blib/lib/Test2/Tools/GenTemp.pm
cp lib/Test2/Util/Times.pm blib/lib/Test2/Util/Times.pm
cp lib/Test2/Tools/Compare.pm blib/lib/Test2/Tools/Compare.pm
cp lib/Test2/Util/Importer.pm blib/lib/Test2/Util/Importer.pm
cp lib/Test2/Util/Facets2Legacy.pm blib/lib/Test2/Util/Facets2Legacy.pm
cp lib/Test2/Tools/ClassicCompare.pm blib/lib/Test2/Tools/ClassicCompare.pm
cp lib/Test2/Workflow/Task/Group.pm blib/lib/Test2/Workflow/Task/Group.pm
cp lib/Test2/Workflow/Task/Action.pm blib/lib/Test2/Workflow/Task/Action.pm
cp lib/ok.pm blib/lib/ok.pm
PERL_DL_NONLAZY=1 "/usr/bin/perl" "-MExtUtils::Command::MM" "-MTest::Harness" "-e" "undef *Test::Harness::Switches; test_harness(0, 'blib/lib', 'blib/arch')" t/*.t t/Legacy/*.t t/Legacy/Bugs/*.t t/Legacy/Builder/*.t t/Legacy/Regression/*.t t/Legacy/Simple/*.t t/Legacy/Test2/*.t t/Legacy/Tester/*.t t/Legacy/subtest/*.t t/Legacy_And_Test2/*.t t/Test2/acceptance/*.t t/Test2/behavior/*.t t/Test2/legacy/*.t t/Test2/modules/*.t t/Test2/modules/API/*.t t/Test2/modules/API/InterceptResult/*.t t/Test2/modules/Event/*.t t/Test2/modules/Event/TAP/*.t t/Test2/modules/EventFacet/*.t t/Test2/modules/Formatter/*.t t/Test2/modules/Hub/*.t t/Test2/modules/Hub/Interceptor/*.t t/Test2/modules/IPC/*.t t/Test2/modules/IPC/Driver/*.t t/Test2/modules/Tools/*.t t/Test2/modules/Util/*.t t/Test2/regression/*.t t/acceptance/*.t t/behavior/*.t t/modules/*.t t/modules/AsyncSubtest/*.t t/modules/AsyncSubtest/Event/*.t t/modules/Bundle/*.t t/modules/Compare/*.t t/modules/Plugin/*.t t/modules/Require/*.t t/modules/Tools/*.t t/modules/Tools/Test-Refcount/*.t t/modules/Util/*.t t/modules/Util/Table/*.t t/modules/Workflow/*.t t/modules/Workflow/Task/*.t t/regression/*.t
# 
# DIAGNOSTICS INFO IN CASE OF FAILURE:
# +------+----------+
# | perl | 5.038002 |
# +------+----------+
# +-----------------+-----------+
# | CAPABILITY      | SUPPORTED |
# +-----------------+-----------+
# | CAN_FORK        | Yes       |
# | CAN_REALLY_FORK | Yes       |
# | CAN_THREAD      | Yes       |
# +-----------------+-----------+
# +--------------+----------+
# | DEPENDENCY   | VERSION  |
# +--------------+----------+
# | B            | 1.88     |
# | Carp         | 1.54     |
# | Exporter     | 5.78     |
# | File::Spec   | 3.88     |
# | File::Temp   | 0.2311   |
# | PerlIO       | 1.12     |
# | Scalar::Util | 1.68     |
# | Storable     | 3.32     |
# | Term::Table  | 0.024    |
# | Test2        | 1.302207 |
# | Time::HiRes  | 1.9775   |
# | overload     | 1.37     |
# | threads      | 2.36     |
# | utf8         | 1.25     |
# +--------------+----------+
# +--------------------+----------+
# | OPTIONAL           | VERSION  |
# +--------------------+----------+
# | Module::Pluggable  | 5.2      |
# | Sub::Name          | 0.27     |
# | Term::ReadKey      | 2.38     |
# | Term::Size::Any    | N/A      |
# | Unicode::GCString  | 2013.10  |
# | Unicode::LineBreak | 2019.001 |
# +--------------------+----------+
t/00-report.t .................................... ok
t/00compile.t .................................... ok
t/acceptance/OO.t ................................ ok
t/acceptance/skip.t .............................. ok
t/acceptance/spec.t .............................. ok
t/acceptance/Tools.t ............................. ok
t/acceptance/Workflow-Acceptance.t ............... skipped: Author test, set the $AUTHOR_TESTING environment variable to run it
t/acceptance/Workflow-Acceptance2.t .............. ok
t/acceptance/Workflow-Acceptance3.t .............. ok
t/acceptance/Workflow-Acceptance4.t .............. ok
t/acceptance/Workflow-Acceptance5.t .............. ok
t/behavior/async_trace.t ......................... ok
t/behavior/filtering.t ........................... ok
t/behavior/Mocking.t ............................. ok
t/behavior/no_done_testing.t ..................... ok
t/behavior/no_leaks_any.t ........................ ok
t/behavior/no_leaks_no_fork.t .................... ok
t/behavior/no_leaks_no_iso.t ..................... ok
t/behavior/no_leaks_no_threads.t ................. ok
t/behavior/simple.t .............................. ok
t/HashBase.t ..................................... ok
t/Legacy/00test_harness_check.t .................. ok
t/Legacy/01-basic.t .............................. ok
t/Legacy/478-cmp_ok_hash.t ....................... ok
t/Legacy/auto.t .................................. ok
t/Legacy/bad_plan.t .............................. ok
t/Legacy/bail_out.t .............................. ok
t/Legacy/BEGIN_require_ok.t ...................... ok
t/Legacy/BEGIN_use_ok.t .......................... ok
t/Legacy/buffer.t ................................ ok
t/Legacy/Bugs/600.t .............................. ok
t/Legacy/Bugs/629.t .............................. ok
t/Legacy/Builder/Builder.t ....................... ok
t/Legacy/Builder/carp.t .......................... ok
t/Legacy/Builder/create.t ........................ ok
t/Legacy/Builder/current_test.t .................. ok
t/Legacy/Builder/current_test_without_plan.t ..... ok
t/Legacy/Builder/details.t ....................... ok
t/Legacy/Builder/done_testing.t .................. ok
t/Legacy/Builder/done_testing_double.t ........... ok
t/Legacy/Builder/done_testing_plan_mismatch.t .... ok
t/Legacy/Builder/done_testing_with_no_plan.t ..... ok
t/Legacy/Builder/done_testing_with_number.t ...... ok
t/Legacy/Builder/done_testing_with_plan.t ........ ok
t/Legacy/Builder/fork_with_new_stdout.t .......... ok
t/Legacy/Builder/has_plan.t ...................... ok
t/Legacy/Builder/has_plan2.t ..................... ok
t/Legacy/Builder/is_fh.t ......................... ok
t/Legacy/Builder/is_passing.t .................... ok
t/Legacy/Builder/maybe_regex.t ................... ok
t/Legacy/Builder/no_diag.t ....................... ok
t/Legacy/Builder/no_ending.t ..................... ok
t/Legacy/Builder/no_header.t ..................... ok
t/Legacy/Builder/no_plan_at_all.t ................ ok
t/Legacy/Builder/ok_obj.t ........................ ok
t/Legacy/Builder/output.t ........................ ok
t/Legacy/Builder/reset.t ......................... ok
t/Legacy/Builder/reset_outputs.t ................. ok
t/Legacy/Builder/try.t ........................... ok
t/Legacy/c_flag.t ................................ ok
t/Legacy/capture.t ............................... ok
t/Legacy/check_tests.t ........................... ok
t/Legacy/circular_data.t ......................... ok
t/Legacy/cmp_ok.t ................................ ok
t/Legacy/depth.t ................................. ok
t/Legacy/diag.t .................................. ok
t/Legacy/died.t .................................. ok
t/Legacy/dont_overwrite_die_handler.t ............ ok
t/Legacy/eq_set.t ................................ ok
t/Legacy/exit.t .................................. ok
t/Legacy/explain.t ............................... ok
t/Legacy/explain_err_vars.t ...................... ok
t/Legacy/extra.t ................................. ok
t/Legacy/extra_one.t ............................. ok
t/Legacy/fail-like.t ............................. ok
t/Legacy/fail-more.t ............................. ok
t/Legacy/fail.t .................................. ok
t/Legacy/fail_one.t .............................. ok
t/Legacy/filehandles.t ........................... ok
t/Legacy/fork.t .................................. ok
t/Legacy/harness_active.t ........................ ok
t/Legacy/import.t ................................ ok
t/Legacy/is_deeply_dne_bug.t ..................... ok
t/Legacy/is_deeply_fail.t ........................ ok
t/Legacy/is_deeply_with_threads.t ................ skipped: many perls have broken threads.  Enable with AUTHOR_TESTING.
t/Legacy/missing.t ............................... ok
t/Legacy/More.t .................................. ok
t/Legacy/new_ok.t ................................ ok
t/Legacy/no_log_results.t ........................ ok
t/Legacy/no_plan.t ............................... ok
t/Legacy/no_tests.t .............................. ok
t/Legacy/note.t .................................. ok
t/Legacy/overload.t .............................. ok
t/Legacy/overload_threads.t ...................... ok
t/Legacy/plan.t .................................. ok
t/Legacy/plan_bad.t .............................. ok
t/Legacy/plan_is_noplan.t ........................ ok
t/Legacy/plan_no_plan.t .......................... ok
t/Legacy/plan_shouldnt_import.t .................. ok
t/Legacy/plan_skip_all.t ......................... skipped: Just testing plan & skip_all
t/Legacy/Regression/637.t ........................ skipped: many perls have broken threads.  Enable with AUTHOR_TESTING.
t/Legacy/Regression/683_thread_todo.t ............ ok
t/Legacy/Regression/6_cmp_ok.t ................... ok
t/Legacy/Regression/736_use_ok.t ................. ok
t/Legacy/Regression/789-read-only.t .............. skipped: AUTHOR_TESTING not enabled
t/Legacy/Regression/870-experimental-warnings.t .. skipped: Not testing before 5.18 or after 5.37.10
t/Legacy/Regression/is_capture.t ................. ok
t/Legacy/require_ok.t ............................ ok
t/Legacy/run_test.t .............................. ok
t/Legacy/simple.t ................................ ok
t/Legacy/Simple/load.t ........................... ok
t/Legacy/skip.t .................................. ok
t/Legacy/skipall.t ............................... ok
t/Legacy/strays.t ................................ skipped: not completed
t/Legacy/subtest/args.t .......................... ok
t/Legacy/subtest/bail_out.t ...................... ok
t/Legacy/subtest/basic.t ......................... ok
t/Legacy/subtest/callback.t ...................... ok
t/Legacy/subtest/die.t ........................... ok
t/Legacy/subtest/do.t ............................ ok
t/Legacy/subtest/events.t ........................ ok
t/Legacy/subtest/fork.t .......................... ok
t/Legacy/subtest/implicit_done.t ................. ok
t/Legacy/subtest/line_numbers.t .................. ok
t/Legacy/subtest/predicate.t ..................... ok
t/Legacy/subtest/singleton.t ..................... ok
t/Legacy/subtest/threads.t ....................... ok
t/Legacy/subtest/todo.t .......................... ok
t/Legacy/subtest/wstat.t ......................... ok
t/Legacy/tbm_doesnt_set_exported_to.t ............ ok
t/Legacy/Test2/Subtest.t ......................... ok
t/Legacy/Tester/tbt_01basic.t .................... ok
t/Legacy/Tester/tbt_02fhrestore.t ................ ok
t/Legacy/Tester/tbt_03die.t ...................... ok
t/Legacy/Tester/tbt_04line_num.t ................. ok
t/Legacy/Tester/tbt_05faildiag.t ................. ok
t/Legacy/Tester/tbt_06errormess.t ................ ok
t/Legacy/Tester/tbt_07args.t ..................... ok
t/Legacy/Tester/tbt_08subtest.t .................. ok
t/Legacy/Tester/tbt_09do.t ....................... ok
t/Legacy/thread_taint.t .......................... ok
t/Legacy/threads.t ............................... ok
t/Legacy/todo.t .................................. ok
t/Legacy/undef.t ................................. ok
t/Legacy/use_ok.t ................................ ok
t/Legacy/useing.t ................................ ok
t/Legacy/utf8.t .................................. ok
t/Legacy/versions.t .............................. ok
t/Legacy_And_Test2/builder_loaded_late.t ......... ok
t/Legacy_And_Test2/diag_event_on_ok.t ............ ok
t/Legacy_And_Test2/hidden_warnings.t ............. ok
t/Legacy_And_Test2/preload_diag_note.t ........... ok
t/Legacy_And_Test2/thread_init_warning.t ......... ok
t/load_manual.t .................................. ok
t/modules/AsyncSubtest.t ......................... ok
t/modules/AsyncSubtest/Event/Attach.t ............ ok
t/modules/AsyncSubtest/Event/Detach.t ............ ok
t/modules/AsyncSubtest/Hub.t ..................... ok
t/modules/Bundle.t ............................... ok
t/modules/Bundle/Extended.t ...................... ok
t/modules/Bundle/More.t .......................... ok
t/modules/Bundle/Simple.t ........................ ok
t/modules/Compare.t .............................. ok
t/modules/Compare/Array.t ........................ ok
t/modules/Compare/Bag.t .......................... ok
t/modules/Compare/Base.t ......................... ok
t/modules/Compare/Bool.t ......................... ok
t/modules/Compare/Custom.t ....................... ok
t/modules/Compare/Delta.t ........................ ok
t/modules/Compare/Event.t ........................ ok
t/modules/Compare/EventMeta.t .................... ok
t/modules/Compare/Float.t ........................ ok
t/modules/Compare/Hash.t ......................... ok
t/modules/Compare/Isa.t .......................... ok
t/modules/Compare/Meta.t ......................... ok
t/modules/Compare/Number.t ....................... ok
t/modules/Compare/Object.t ....................... ok
t/modules/Compare/OrderedSubset.t ................ ok
t/modules/Compare/Pattern.t ...................... ok
t/modules/Compare/Ref.t .......................... ok
t/modules/Compare/Regex.t ........................ ok
t/modules/Compare/Scalar.t ....................... ok
t/modules/Compare/Set.t .......................... ok
t/modules/Compare/String.t ....................... ok
t/modules/Compare/Undef.t ........................ ok
t/modules/Compare/Wildcard.t ..................... ok
t/modules/Mock.t ................................. ok
t/modules/Plugin.t ............................... ok
t/modules/Plugin/BailOnFail.t .................... ok
t/modules/Plugin/DieOnFail.t ..................... ok
t/modules/Plugin/ExitSummary.t ................... ok
t/modules/Plugin/SRand.t ......................... ok
t/modules/Plugin/Times.t ......................... ok
t/modules/Plugin/UTF8.t .......................... ok
t/modules/Require.t .............................. ok
t/modules/Require/AuthorTesting.t ................ ok
t/modules/Require/AutomatedTesting.t ............. ok
t/modules/Require/EnvVar.t ....................... ok
t/modules/Require/ExtendedTesting.t .............. ok
t/modules/Require/Fork.t ......................... ok
t/modules/Require/Module.t ....................... ok
t/modules/Require/NonInteractiveTesting.t ........ ok
t/modules/Require/Perl.t ......................... ok
t/modules/Require/RealFork.t ..................... ok
t/modules/Require/ReleaseTesting.t ............... ok
t/modules/Require/Threads.t ...................... ok
t/modules/Suite.t ................................ ok
t/modules/Todo.t ................................. ok
t/modules/Tools.t ................................ ok
t/modules/Tools/AsyncSubtest.t ................... ok
t/modules/Tools/Basic.t .......................... ok
t/modules/Tools/Class.t .......................... ok
t/modules/Tools/ClassicCompare.t ................. ok
t/modules/Tools/ClassicCompare2.t ................ ok
t/modules/Tools/Compare.t ........................ ok
t/modules/Tools/Defer.t .......................... ok
t/modules/Tools/Encoding.t ....................... ok
t/modules/Tools/Event.t .......................... ok
t/modules/Tools/Exception.t ...................... ok
t/modules/Tools/Exports.t ........................ ok
t/modules/Tools/GenTemp.t ........................ ok
t/modules/Tools/Grab.t ........................... ok
t/modules/Tools/Mock.t ........................... ok
t/modules/Tools/Ref.t ............................ ok
t/modules/Tools/Spec.t ........................... skipped: Tests not yet written
t/modules/Tools/Subtest.t ........................ ok
t/modules/Tools/Target.t ......................... ok
t/modules/Tools/Test-Refcount/01count.t .......... ok
t/modules/Tools/Test-Refcount/02one.t ............ ok
t/modules/Tools/Test-Refcount/03weak.t ........... ok
t/modules/Tools/Test-Refcount/04reftypes.t ....... ok
t/modules/Tools/Tester.t ......................... ok
t/modules/Tools/Warnings.t ....................... ok
t/modules/Util/Grabber.t ......................... ok
t/modules/Util/Ref.t ............................. ok
t/modules/Util/Stash.t ........................... ok
t/modules/Util/Sub.t ............................. ok
t/modules/Util/Table.t ........................... ok
t/modules/Util/Table/Cell.t ...................... ok
t/modules/Util/Table/LineBreak.t ................. ok
t/modules/Util/Times.t ........................... ok
t/modules/V0.t ................................... ok
t/modules/Workflow.t ............................. skipped: Tests not yet written
t/modules/Workflow/BlockBase.t ................... skipped: Tests not yet written
t/modules/Workflow/Build.t ....................... skipped: Tests not yet written
t/modules/Workflow/Runner.t ...................... skipped: Tests not yet written
t/modules/Workflow/Task.t ........................ skipped: Tests not yet written
t/modules/Workflow/Task/Action.t ................. ok
t/modules/Workflow/Task/Group.t .................. skipped: Tests not yet written
t/regression/10-set_and_dne.t .................... ok
t/regression/132-bool.t .......................... skipped: Author test, set the $AUTHOR_TESTING environment variable to run it
t/regression/247_check_ref_bool.t ................ ok
t/regression/27-1-Test2-Bundle-More.t ............ ok
t/regression/27-2-Test2-Tools-Compare.t .......... ok
t/regression/27-3-Test2-Tools-ClassicCompare.t ... ok
t/regression/285-wrap-nonexisting.t .............. ok
t/regression/289-compare-array-bounds.t .......... ok
t/regression/291-async-subtest-done-testing.t .... ok
t/regression/43-bag-on-empty.t ................... ok
t/regression/642_persistent_end.t ................ ok
t/regression/662-tbt-no-plan.t ................... ok
t/regression/684-nested_todo_diag.t .............. ok
t/regression/694_note_diag_return_values.t ....... ok
t/regression/696-intercept_skip_all.t ............ ok
t/regression/721-nested-streamed-subtest.t ....... ok
t/regression/757-reset_in_subtest.t .............. ok
t/regression/812-todo.t .......................... ok
t/regression/817-subtest-todo.t .................. ok
t/regression/862-intercept_tb_todo.t ............. ok
t/regression/async_subtest_missing_parent.t ...... ok
t/regression/builder_does_not_init.t ............. ok
t/regression/errors_facet.t ...................... ok
t/regression/fork_first.t ........................ ok
t/regression/inherit_trace.t ..................... ok
t/regression/no_name_in_subtest.t ................ ok
t/regression/skip_reason_object_ipc.t ............ ok
t/regression/Test2-Mock.t ........................ ok
t/regression/Test2-Tools-Class.t ................. ok
t/regression/todo_and_facets.t ................... ok
t/regression/utf8-mock.t ......................... ok
t/Test2/acceptance/try_it_done_testing.t ......... ok
t/Test2/acceptance/try_it_fork.t ................. ok
t/Test2/acceptance/try_it_no_plan.t .............. ok
t/Test2/acceptance/try_it_plan.t ................. ok
t/Test2/acceptance/try_it_skip.t ................. skipped: testing skip all
t/Test2/acceptance/try_it_threads.t .............. ok
t/Test2/acceptance/try_it_todo.t ................. ok
t/Test2/behavior/disable_ipc_a.t ................. ok
t/Test2/behavior/disable_ipc_b.t ................. ok
t/Test2/behavior/disable_ipc_c.t ................. ok
t/Test2/behavior/disable_ipc_d.t ................. ok
t/Test2/behavior/err_var.t ....................... ok
t/Test2/behavior/Formatter.t ..................... ok
t/Test2/behavior/init_croak.t .................... ok
t/Test2/behavior/intercept.t ..................... ok
t/Test2/behavior/ipc_wait_timeout.t .............. ok
t/Test2/behavior/nested_context_exception.t ...... ok
t/Test2/behavior/no_load_api.t ................... ok
t/Test2/behavior/run_subtest_inherit.t ........... ok
t/Test2/behavior/special_names.t ................. ok
t/Test2/behavior/subtest_bailout.t ............... ok
t/Test2/behavior/Subtest_buffer_formatter.t ...... ok
t/Test2/behavior/Subtest_callback.t .............. ok
t/Test2/behavior/Subtest_events.t ................ ok
t/Test2/behavior/Subtest_todo.t .................. ok
t/Test2/behavior/Taint.t ......................... ok
t/Test2/behavior/trace_signature.t ............... ok
t/Test2/behavior/trace_stamps.t .................. ok
t/Test2/behavior/uuid.t .......................... ok
t/Test2/legacy/TAP.t ............................. ok
t/Test2/modules/API.t ............................ ok
t/Test2/modules/API/Breakage.t ................... ok
t/Test2/modules/API/Context.t .................... ok
t/Test2/modules/API/Instance.t ................... ok
t/Test2/modules/API/InterceptResult.t ............ ok
t/Test2/modules/API/InterceptResult/Event.t ...... ok
t/Test2/modules/API/InterceptResult/Squasher.t ... ok
t/Test2/modules/API/Stack.t ...................... ok
t/Test2/modules/Event.t .......................... ok
t/Test2/modules/Event/Bail.t ..................... ok
t/Test2/modules/Event/Diag.t ..................... ok
t/Test2/modules/Event/Encoding.t ................. ok
t/Test2/modules/Event/Exception.t ................ ok
t/Test2/modules/Event/Fail.t ..................... ok
t/Test2/modules/Event/Generic.t .................. ok
t/Test2/modules/Event/Note.t ..................... ok
t/Test2/modules/Event/Ok.t ....................... ok
t/Test2/modules/Event/Pass.t ..................... ok
t/Test2/modules/Event/Plan.t ..................... ok
t/Test2/modules/Event/Skip.t ..................... ok
t/Test2/modules/Event/Subtest.t .................. ok
t/Test2/modules/Event/TAP/Version.t .............. ok
t/Test2/modules/Event/V2.t ....................... ok
t/Test2/modules/Event/Waiting.t .................. ok
t/Test2/modules/EventFacet.t ..................... ok
t/Test2/modules/EventFacet/About.t ............... ok
t/Test2/modules/EventFacet/Amnesty.t ............. ok
t/Test2/modules/EventFacet/Assert.t .............. ok
t/Test2/modules/EventFacet/Control.t ............. ok
t/Test2/modules/EventFacet/Error.t ............... ok
t/Test2/modules/EventFacet/Info.t ................ ok
t/Test2/modules/EventFacet/Meta.t ................ ok
t/Test2/modules/EventFacet/Parent.t .............. ok
t/Test2/modules/EventFacet/Plan.t ................ ok
t/Test2/modules/EventFacet/Trace.t ............... ok
t/Test2/modules/Formatter/TAP.t .................. ok
t/Test2/modules/Hub.t ............................ ok
t/Test2/modules/Hub/Interceptor.t ................ ok
t/Test2/modules/Hub/Interceptor/Terminator.t ..... ok
t/Test2/modules/Hub/Subtest.t .................... ok
t/Test2/modules/IPC.t ............................ ok
t/Test2/modules/IPC/Driver.t ..................... ok
t/Test2/modules/IPC/Driver/Files.t ............... ok
t/Test2/modules/Tools/Tiny.t ..................... ok
t/Test2/modules/Util.t ........................... ok
t/Test2/modules/Util/ExternalMeta.t .............. ok
t/Test2/modules/Util/Facets2Legacy.t ............. ok
t/Test2/modules/Util/Trace.t ..................... ok
t/Test2/regression/693_ipc_ordering.t ............ ok
t/Test2/regression/746-forking-subtest.t ......... ok
t/Test2/regression/gh_16.t ....................... ok
t/Test2/regression/ipc_files_abort_exit.t ........ skipped: Set AUTHOR_TESTING to run this test
t/zzz-check-breaks.t ............................. ok
All tests successful.
Files=363, Tests=3469, 26 wallclock secs ( 0.61 usr  0.25 sys + 16.93 cusr  2.93 csys = 20.72 CPU)
Result: PASS

------------------------------
PREREQUISITES
------------------------------

Prerequisite modules loaded:

runtime:

    Module              Need     Have    
    ------------------- -------- --------
    B                   0        1.88    
    Data::Dumper        0        2.188   
    Exporter            0        5.78    
    File::Spec          0        3.88    
    File::Temp          0        0.2311  
    overload            0        1.37    
    perl                5.006002 5.038002
    Scalar::Util        1.13     1.68    
    Storable            0        3.32    
    Term::Table         0.013    0.023   
    Time::HiRes         0        1.9775  
    utf8                0        1.25    

build:

    Module              Need     Have    
    ------------------- -------- --------
    ExtUtils::MakeMaker 0        7.70    

configure:

    Module              Need     Have    
    ------------------- -------- --------
    ExtUtils::MakeMaker 0        7.70    


------------------------------
ENVIRONMENT AND OTHER CONTEXT
------------------------------

Environment variables:

    LANG = en_US.UTF-8
    LC_ADDRESS = fr_FR.UTF-8
    LC_IDENTIFICATION = fr_FR.UTF-8
    LC_MEASUREMENT = fr_FR.UTF-8
    LC_MONETARY = fr_FR.UTF-8
    LC_NAME = fr_FR.UTF-8
    LC_NUMERIC = fr_FR.UTF-8
    LC_PAPER = fr_FR.UTF-8
    LC_TELEPHONE = fr_FR.UTF-8
    LC_TIME = fr_FR.UTF-8
    PATH = /home/tib/perl5/bin:/home/tib/.nvm/versions/node/v18.20.4/bin:/usr/local/sbin:/usr/local/bin:/usr/sbin:/usr/bin:/sbin:/bin:/usr/games:/usr/local/games:/snap/bin:/snap/bin:/opt/firefox:/opt/raku/bin:/usr/local/go/bin
    PERL5LIB = /home/tib/perl5/lib/perl5
    PERL_LOCAL_LIB_ROOT = /home/tib/perl5
    PERL_MB_OPT = --install_base "/home/tib/perl5"
    PERL_MM_OPT = INSTALL_BASE=/home/tib/perl5
    SHELL = /bin/bash
    TERM = xterm-256color

Perl special variables (and OS-specific diagnostics, for MSWin32):

    EGID = 1000 4 24 27 30 46 122 134 135 999 1000 1001
    EUID = 1000
    EXECUTABLE_NAME = /usr/bin/perl
    GID = 1000 4 24 27 30 46 122 134 135 999 1000 1001
    UID = 1000

Perl module toolchain versions installed:

    Module              Have    
    ------------------- --------
    CPAN                2.38    
    CPAN::Meta          2.150010
    Cwd                 3.89    
    ExtUtils::CBuilder  0.280238
    ExtUtils::Command   7.70    
    ExtUtils::Install   2.22    
    ExtUtils::MakeMaker 7.70    
    ExtUtils::Manifest  1.75    
    ExtUtils::ParseXS   3.51    
    File::Spec          3.88    
    JSON                4.10    
    JSON::PP            4.16    
    Module::Build       0.4234  
    Module::Signature   0.88    
    Parse::CPAN::Meta   2.150010
    Test::Harness       3.50    
    Test::More          1.302204
    YAML                1.31    
    YAML::Syck          1.34    
    version             0.9933  


--

Summary of my perl5 (revision 5 version 38 subversion 2) configuration:
   
  Platform:
    osname=linux
    osvers=6.1.0
    archname=x86_64-linux-gnu-thread-multi
    uname='linux localhost 6.1.0 #1 smp debian 6.1.0 x86_64 gnulinux '
    config_args='-Dmksymlinks -Dusethreads -Duselargefiles -Dcc=x86_64-linux-gnu-gcc -Dcpp=x86_64-linux-gnu-cpp -Dld=x86_64-linux-gnu-gcc -Dccflags=-DDEBIAN -Wdate-time -D_FORTIFY_SOURCE=3 -g -O2 -fno-omit-frame-pointer -mno-omit-leaf-frame-pointer -ffile-prefix-map=/dummy/build/dir=. -flto=auto -ffat-lto-objects -fstack-protector-strong -fstack-clash-protection -Wformat -Werror=format-security -fcf-protection -fdebug-prefix-map=/dummy/build/dir=/usr/src/perl-5.38.2-3.2build2 -Dldflags= -Wl,-Bsymbolic-functions -flto=auto -ffat-lto-objects -Wl,-z,relro -Dlddlflags=-shared -Wl,-Bsymbolic-functions -flto=auto -ffat-lto-objects -Wl,-z,relro -Dcccdlflags=-fPIC -Darchname=x86_64-linux-gnu -Dprefix=/usr -Dprivlib=/usr/share/perl/5.38 -Darchlib=/usr/lib/x86_64-linux-gnu/perl/5.38 -Dvendorprefix=/usr -Dvendorlib=/usr/share/perl5 -Dvendorarch=/usr/lib/x86_64-linux-gnu/perl5/5.38 -Dsiteprefix=/usr/local -Dsitelib=/usr/local/share/perl/5.38.2 -Dsitearch=/usr/local/lib/x86_64-linux-gnu/perl/5.38.2 -Dman1dir=/usr/share/man/man1 -Dman3dir=/usr/share/man/man3 -Dsiteman1dir=/usr/local/man/man1 -Dsiteman3dir=/usr/local/man/man3 -Duse64bitint -Dman1ext=1 -Dman3ext=3perl -Dpager=/usr/bin/sensible-pager -Uafs -Ud_csh -Ud_ualarm -Uusesfio -Uusenm -Ui_libutil -Ui_xlocale -Uversiononly -Ud_strlcpy -Ud_strlcat -DDEBUGGING=-g -Doptimize=-O2 -dEs -Duseshrplib -Dlibperl=libperl.so.5.38.2'
    hint=recommended
    useposix=true
    d_sigaction=define
    useithreads=define
    usemultiplicity=define
    use64bitint=define
    use64bitall=define
    uselongdouble=undef
    usemymalloc=n
    default_inc_excludes_dot=define
  Compiler:
    cc='x86_64-linux-gnu-gcc'
    ccflags ='-D_REENTRANT -D_GNU_SOURCE -DDEBIAN -fwrapv -fno-strict-aliasing -pipe -I/usr/local/include -D_LARGEFILE_SOURCE -D_FILE_OFFSET_BITS=64'
    optimize='-O2 -g'
    cppflags='-D_REENTRANT -D_GNU_SOURCE -DDEBIAN -fwrapv -fno-strict-aliasing -pipe -I/usr/local/include'
    ccversion=''
    gccversion='13.2.0'
    gccosandvers=''
    intsize=4
    longsize=8
    ptrsize=8
    doublesize=8
    byteorder=12345678
    doublekind=3
    d_longlong=define
    longlongsize=8
    d_longdbl=define
    longdblsize=16
    longdblkind=3
    ivtype='long'
    ivsize=8
    nvtype='double'
    nvsize=8
    Off_t='off_t'
    lseeksize=8
    alignbytes=8
    prototype=define
  Linker and Libraries:
    ld='x86_64-linux-gnu-gcc'
    ldflags =' -fstack-protector-strong -L/usr/local/lib'
    libpth=/usr/local/lib /usr/lib/x86_64-linux-gnu /usr/lib /lib/x86_64-linux-gnu /lib
    libs=-lgdbm -lgdbm_compat -ldb -ldl -lm -lpthread -lc -lcrypt
    perllibs=-ldl -lm -lpthread -lc -lcrypt
    libc=/lib/x86_64-linux-gnu/libc.so.6
    so=so
    useshrplib=true
    libperl=libperl.so.5.38
    gnulibc_version='2.39'
  Dynamic Linking:
    dlsrc=dl_dlopen.xs
    dlext=so
    d_dlsymun=undef
    ccdlflags='-Wl,-E'
    cccdlflags='-fPIC'
    lddlflags='-shared -L/usr/local/lib -fstack-protector-strong'


Characteristics of this binary (from libperl): 
  Compile-time options:
    HAS_LONG_DOUBLE
    HAS_STRTOLD
    HAS_TIMES
    MULTIPLICITY
    PERLIO_LAYERS
    PERL_COPY_ON_WRITE
    PERL_DONT_CREATE_GVSV
    PERL_HASH_FUNC_SIPHASH13
    PERL_HASH_USE_SBOX32
    PERL_MALLOC_WRAP
    PERL_OP_PARENT
    PERL_PRESERVE_IVUV
    PERL_USE_SAFE_PUTENV
    USE_64_BIT_ALL
    USE_64_BIT_INT
    USE_ITHREADS
    USE_LARGE_FILES
    USE_LOCALE
    USE_LOCALE_COLLATE
    USE_LOCALE_CTYPE
    USE_LOCALE_NUMERIC
    USE_LOCALE_TIME
    USE_PERLIO
    USE_PERL_ATOF
    USE_REENTRANT_API
    USE_THREAD_SAFE_LOCALE
  Locally applied patches:
    DEBPKG:debian/cpan_definstalldirs - Provide a sensible INSTALLDIRS default for modules installed from CPAN.
    DEBPKG:debian/db_file_ver - https://bugs.debian.org/340047 Remove overly restrictive DB_File version check.
    DEBPKG:debian/doc_info - Replace generic man(1) instructions with Debian-specific information.
    DEBPKG:debian/enc2xs_inc - https://bugs.debian.org/290336 Tweak enc2xs to follow symlinks and ignore missing @INC directories.
    DEBPKG:debian/errno_ver - https://bugs.debian.org/343351 Remove Errno version check due to upgrade problems with long-running processes.
    DEBPKG:debian/libperl_embed_doc - https://bugs.debian.org/186778 Note that libperl-dev package is required for embedded linking
    DEBPKG:fixes/respect_umask - Respect umask during installation
    DEBPKG:debian/writable_site_dirs - Set umask approproately for site install directories
    DEBPKG:debian/extutils_set_libperl_path - EU:MM: set location of libperl.a under /usr/lib
    DEBPKG:debian/no_packlist_perllocal - Don't install .packlist or perllocal.pod for perl or vendor
    DEBPKG:debian/fakeroot - Postpone LD_LIBRARY_PATH evaluation to the binary targets.
    DEBPKG:debian/instmodsh_doc - Debian policy doesn't install .packlist files for core or vendor.
    DEBPKG:debian/ld_run_path - Remove standard libs from LD_RUN_PATH as per Debian policy.
    DEBPKG:debian/libnet_config_path - Set location of libnet.cfg to /etc/perl/Net as /usr may not be writable.
    DEBPKG:debian/perlivp - https://bugs.debian.org/510895 Make perlivp skip include directories in /usr/local
    DEBPKG:debian/squelch-locale-warnings - https://bugs.debian.org/508764 Squelch locale warnings in Debian package maintainer scripts
    DEBPKG:debian/patchlevel - https://bugs.debian.org/567489 List packaged patches for 5.38.2-3.2build2 in patchlevel.h
    DEBPKG:fixes/document_makemaker_ccflags - https://bugs.debian.org/628522 [rt.cpan.org #68613] Document that CCFLAGS should include $Config{ccflags}
    DEBPKG:debian/find_html2text - https://bugs.debian.org/640479 Configure CPAN::Distribution with correct name of html2text
    DEBPKG:debian/perl5db-x-terminal-emulator.patch - https://bugs.debian.org/668490 Invoke x-terminal-emulator rather than xterm in perl5db.pl
    DEBPKG:debian/cpan-missing-site-dirs - https://bugs.debian.org/688842 Fix CPAN::FirstTime defaults with nonexisting site dirs if a parent is writable
    DEBPKG:debian/makemaker-pasthru - https://bugs.debian.org/758471 Pass LD settings through to subdirectories
    DEBPKG:debian/makemaker-manext - https://bugs.debian.org/247370 Make EU::MakeMaker honour MANnEXT settings in generated manpage headers
    DEBPKG:debian/kfreebsd-softupdates - https://bugs.debian.org/796798 Work around Debian Bug#796798
    DEBPKG:debian/hurd-softupdates - https://bugs.debian.org/822735 Fix t/op/stat.t failures on hurd
    DEBPKG:fixes/math_complex_doc_great_circle - https://bugs.debian.org/697567 [rt.cpan.org #114104] Math::Trig: clarify definition of great_circle_midpoint
    DEBPKG:fixes/math_complex_doc_angle_units - https://bugs.debian.org/731505 [rt.cpan.org #114106] Math::Trig: document angle units
    DEBPKG:fixes/cpan_web_link - https://bugs.debian.org/367291 CPAN: Add link to main CPAN web site
    DEBPKG:debian/installman-utf8 - https://bugs.debian.org/840211 Generate man pages with UTF-8 characters
    DEBPKG:debian/perldoc-pager - https://bugs.debian.org/870340 [rt.cpan.org #120229] Fix perldoc terminal escapes when sensible-pager is less
    DEBPKG:debian/prune_libs - https://bugs.debian.org/128355 Prune the list of libraries wanted to what we actually need.
    DEBPKG:debian/mod_paths - Tweak @INC ordering for Debian
    DEBPKG:debian/deprecate-with-apt - https://bugs.debian.org/747628 Point users to Debian packages of deprecated core modules
    DEBPKG:debian/disable-stack-check - https://bugs.debian.org/902779 [GH #16607] Disable debugperl stack extension checks for binary compatibility with perl
    DEBPKG:debian/perlbug-editor - https://bugs.debian.org/922609 Use "editor" as the default perlbug editor, as per Debian policy
    DEBPKG:debian/eu-mm-perl-base - https://bugs.debian.org/962138 Suppress an ExtUtils::MakeMaker warning about our non-default @INC
    DEBPKG:fixes/io_socket_ip_ipv6 - Disable getaddrinfo(3) AI_ADDRCONFIG for localhost and IPv4 numeric addresses
    DEBPKG:debian/usrmerge-lib64 - https://bugs.debian.org/914128 Configure / libpth.U: Do not adjust glibpth when /usr/lib64 is present.
    DEBPKG:debian/usrmerge-realpath - https://bugs.debian.org/914128 Configure / libpth.U: use realpath --no-symlinks on Debian
    DEBPKG:fixes/x32-io-msg-skip - https://bugs.debian.org/922609 Skip io/msg.t on x32 due to broken System V message queues
    DEBPKG:debian/configure-regen - https://bugs.debian.org/762638 Regenerate Configure et al. after probe unit changes
    DEBPKG:fixes/bignum-recursion - https://bugs.debian.org/1012704 [rt.cpan.org #146411] Fix CPAN RT #146411
    DEBPKG:fixes/math-bigfloat-subclass - https://bugs.debian.org/1043234 Fix Math::BigFloat subclass numeric comparison
    DEBPKG:fixes/unbreak-locale-initialization - [GH #21366] https://bugs.debian.org/1060679 Revert "locale.c: Do uselocale() earlier in init process"
  Built under linux
  Compiled at Apr  5 2024 19:57:12
  %ENV:
    PERL5LIB="/home/tib/perl5/lib/perl5"
    PERL_LOCAL_LIB_ROOT="/home/tib/perl5"
    PERL_MB_OPT="--install_base "/home/tib/perl5""
    PERL_MM_OPT="INSTALL_BASE=/home/tib/perl5"
  @INC:
    /home/tib/perl5/lib/perl5/x86_64-linux-gnu-thread-multi
    /home/tib/perl5/lib/perl5
    /etc/perl
    /usr/local/lib/x86_64-linux-gnu/perl/5.38.2
    /usr/local/share/perl/5.38.2
    /usr/lib/x86_64-linux-gnu/perl5/5.38
    /usr/share/perl5
    /usr/lib/x86_64-linux-gnu/perl-base
    /usr/lib/x86_64-linux-gnu/perl/5.38
    /usr/share/perl/5.38
    /usr/local/lib/site_perl