MKDoc-XML v0.75 Perl 5 v5.24.4 MSWin32-x64-multi-thread
- Status
- Pass
- From
- Roger Cuddy
- Dist
-
MKDoc-XML v0.75
- Platform
- Perl 5 v5.24.4 MSWin32-x64-multi-thread
- Date
- 2020-05-28 04:58:38
- ID
- e0852db9-6dee-1014-a393-7e16337ce66b
This distribution has been tested as part of the CPAN Testers
project, supporting the Perl programming language. See
http://wiki.cpantesters.org/ for more information or email
questions to cpan-testers-discuss@perl.org
--
Dear Bruno Postle,
This is a computer-generated report for MKDoc-XML-0.75
on perl 5.24.4, created by CPAN-Reporter-1.2018.
Thank you for uploading your work to CPAN. Congratulations!
All tests were successful.
Sections of this report:
* Tester comments
* Program output
* Prerequisites
* Environment and other context
------------------------------
TESTER COMMENTS
------------------------------
Additional comments from tester:
this report is from an automated smoke testing program
and was not reviewed by a human for accuracy
------------------------------
PROGRAM OUTPUT
------------------------------
Output from 'C:\home\rcuddy\tools\bb_perls\5.24.4_64\c\bin\dmake.exe test':
"C:\home\rcuddy\tools\bb_perls\5.24.4_64\perl\bin\perl.exe" "-MExtUtils::Command::MM" "-MTest::Harness" "-e" "undef *Test::Harness::Switches; test_harness(0, 'blib\lib', 'blib\arch')" t/*.t
t/000_MKDoc_XML_Token.t ................... ok
t/001_MKDoc_XML_Token_tag_open.t .......... ok
t/002_MKDoc_XML_Token_tag_self_close.t .... ok
t/100_MKDoc_XML_Tokenizer.t ............... ok
t/101_MKDoc_XML_Tokenizer_Comment.t ....... ok
t/102_MKDoc_XML_Tokenizer_Attributes.t .... ok
t/200_MKDoc_XML_TreeBuilder.t ............. ok
t/201_MKDoc_XML_TreeBuilder_Root.t ........ ok
t/300_MKDoc_XML_Tagger.t .................. ok
t/301_MKDoc_XML_Tagger_Preserve.t ......... ok
t/302_MKDoc_XML_Tagger_Spaces.t ........... ok
t/303_MKDoc_XML_Tagger_Nesting.t .......... ok
t/304_MKDoc_XML_Tagger_Numbers.t .......... ok
t/305_MKDoc_XML_tagger_ampersand.t ........ ok
t/400_MKDoc_XML_Stripper.t ................ ok
t/401_MKDoc_XML_Stripper_p_not_closing.t .. ok
t/402_MKDoc_XML_Stripper_def.t ............ ok
t/500_MKDoc_XML_Decode.t .................. ok
t/501_MKDoc_XML_DecodeHO.t ................ ok
t/502_MKDoc_XML_Encode.t .................. ok
t/600_MKDoc_XML_Dumper_Freeze.t ........... ok
t/601_MKDoc_XML_Dumper_Thaw.t ............. ok
t/602_MKDoc_XML_Dumper_Round.t ............ ok
t/603_MKDoc_XML_Dumper_Compat.t ........... ok
t/604_MKDoc_XML_Dumper_Entities.t ......... ok
t/700_MKDoc_XML_TreePrinter.t ............. ok
All tests successful.
Files=26, Tests=400, 5 wallclock secs ( 0.08 usr + 0.05 sys = 0.13 CPU)
Result: PASS
------------------------------
PREREQUISITES
------------------------------
Prerequisite modules loaded:
requires:
Module Need Have
------------------- ---- --------
Scalar::Util 1.07 1.50
Test::More 0.47 1.302135
build_requires:
Module Need Have
------------------- ---- --------
ExtUtils::MakeMaker 0 7.34
------------------------------
ENVIRONMENT AND OTHER CONTEXT
------------------------------
Environment variables:
AUTOMATED_TESTING = 1
COMSPEC = C:\WINDOWS\system32\cmd.exe
NUMBER_OF_PROCESSORS = 12
PATH = C:\home\rcuddy\tools\bb_perls\5.24.4_64\c\bin;C:\home\rcuddy\tools\bb_perls\5.24.4_64\perl\bin;C:\home\rcuddy\tools\bb_perls\5.24.4_64\perl\site\bin;c:\home\rcuddy\tools\berrybrew\bin;C:\Program Files (x86)\Intel\Intel(R) Management Engine Components\iCLS\;C:\Program Files\Intel\Intel(R) Management Engine Components\iCLS\;C:\WINDOWS\system32;C:\WINDOWS;C:\WINDOWS\System32\Wbem;C:\WINDOWS\System32\WindowsPowerShell\v1.0\;C:\home\rcuddy\tools\vim\vim82;C:\WINDOWS\System32\OpenSSH\;C:\Program Files (x86)\Intel\Intel(R) Management Engine Components\DAL;C:\Program Files\Intel\Intel(R) Management Engine Components\DAL;C:\Program Files (x86)\Intel\Intel(R) Management Engine Components\IPT;C:\Program Files\Intel\Intel(R) Management Engine Components\IPT;c:\home\rcuddy\tools\perl5\perl\bin;C:\Program Files (x86)\Calibre2\;C:\Program Files\Intel\WiFi\bin\;C:\Program Files\Common Files\Intel\WirelessCommon\;C:\home\rcuddy\tools\bin;C:\Program Files\Calibre2\;C:\Program Files\TortoiseGit\bin;C:\Program Files\Git\cmd;C:\Program Files\Git\mingw64\bin;C:\Program Files\Git\usr\bin;c:\home\rcuddy\tools\ConEmu;c:\home\rcuddy\tools\vim\vim82;c:\home\rcuddy\tools\bin;c:\home\rcuddy\tools\berrybrew\bin;c:\home\rcuddy\tools\perl5\site\bin;c:\home\rcuddy\tools\perl5\bin;C:\home\rcuddy\tools\perl5\c\bin;c:\home\rcuddy\tools\python;c:\home\rcuddy\tools\python\scripts;C:\home\rcuddy\tools\node;C:\Users\roger\AppData\Local\Microsoft\WindowsApps;C:\home\rcuddy\tools\vsc;C:\home\rcuddy\tools\Neovim\bin;C:\Program Files\Multipass\bin
PERL5LIB = C:\home\rcuddy\tools\bb_perls\5.24.4_64\cpan\build\Locale-Maketext-Gettext-1.30-0/blib/arch;C:\home\rcuddy\tools\bb_perls\5.24.4_64\cpan\build\Locale-Maketext-Gettext-1.30-0/blib/lib
PERL5OPT =
PERL5_CPANPLUS_IS_RUNNING = 9664
PERL5_CPAN_IS_RUNNING = 9664
PERL5_CPAN_IS_RUNNING_IN_RECURSION = 1384,9664
PERL_CR_SMOKER_CURRENT = Petal-2.26
PERL_EXTUTILS_AUTOINSTALL = --defaultdeps
PERL_MM_USE_DEFAULT = 1
PROCESSOR_IDENTIFIER = Intel64 Family 6 Model 158 Stepping 10, GenuineIntel
TEMP = C:\Users\roger\AppData\Local\Temp
Perl special variables (and OS-specific diagnostics, for MSWin32):
$^X = C:\home\rcuddy\tools\bb_perls\5.24.4_64\perl\bin\perl.exe
$UID/$EUID = 0 / 0
$GID = 0
$EGID = 0
Win32::GetOSName = Win10
Win32::GetOSVersion = , 10, 0, 18362, 2, 0, 0, 256, 1
Win32::FsType = NTFS
Win32::IsAdminUser = 0
Perl module toolchain versions installed:
Module Have
------------------- --------
CPAN 2.16
CPAN::Meta 2.150010
Cwd 3.74
ExtUtils::CBuilder 0.280230
ExtUtils::Command 7.34
ExtUtils::Install 2.14
ExtUtils::MakeMaker 7.34
ExtUtils::Manifest 1.70
ExtUtils::ParseXS 3.35
File::Spec 3.74
JSON 2.97001
JSON::PP 2.97001
Module::Build 0.4224
Module::Signature n/a
Parse::CPAN::Meta 2.150010
Test::Harness 3.42
Test::More 1.302135
YAML 1.24
YAML::Syck 1.32
version 0.9922
--
Summary of my perl5 (revision 5 version 24 subversion 4) configuration:
Platform:
osname=MSWin32, osvers=10.0, archname=MSWin32-x64-multi-thread
uname='Win32 strawberry-perl 5.24.4.1 #1 Sun Apr 15 19:39:13 2018 x64'
config_args='undef'
hint=recommended, useposix=true, d_sigaction=undef
useithreads=define, usemultiplicity=define
use64bitint=define, use64bitall=undef, uselongdouble=undef
usemymalloc=n, bincompat5005=undef
Compiler:
cc='gcc', ccflags =' -s -O2 -DWIN32 -DWIN64 -DCONSERVATIVE -DPERL_TEXTMODE_SCRIPTS -DPERL_IMPLICIT_CONTEXT -DPERL_IMPLICIT_SYS -fwrapv -fno-strict-aliasing -mms-bitfields',
optimize='-s -O2',
cppflags='-DWIN32'
ccversion='', gccversion='4.9.2', gccosandvers=''
intsize=4, longsize=4, ptrsize=8, doublesize=8, byteorder=12345678, doublekind=3
d_longlong=define, longlongsize=8, d_longdbl=define, longdblsize=16, longdblkind=3
ivtype='long long', ivsize=8, nvtype='double', nvsize=8, Off_t='long long', lseeksize=8
alignbytes=8, prototype=define
Linker and Libraries:
ld='g++.exe', ldflags ='-s -L"C:\home\rcuddy\tools\bb_perls\5.24.4_64\perl\lib\CORE" -L"C:\home\rcuddy\tools\bb_perls\5.24.4_64\c\lib"'
libpth=C:\home\rcuddy\tools\bb_perls\5.24.4_64\c\lib C:\home\rcuddy\tools\bb_perls\5.24.4_64\c\x86_64-w64-mingw32\lib C:\home\rcuddy\tools\bb_perls\5.24.4_64\c\lib\gcc\x86_64-w64-mingw32\4.9.2
libs=-lmoldname -lkernel32 -luser32 -lgdi32 -lwinspool -lcomdlg32 -ladvapi32 -lshell32 -lole32 -loleaut32 -lnetapi32 -luuid -lws2_32 -lmpr -lwinmm -lversion -lodbc32 -lodbccp32 -lcomctl32
perllibs=-lmoldname -lkernel32 -luser32 -lgdi32 -lwinspool -lcomdlg32 -ladvapi32 -lshell32 -lole32 -loleaut32 -lnetapi32 -luuid -lws2_32 -lmpr -lwinmm -lversion -lodbc32 -lodbccp32 -lcomctl32
libc=, so=dll, useshrplib=true, libperl=libperl524.a
gnulibc_version=''
Dynamic Linking:
dlsrc=dl_win32.xs, dlext=xs.dll, d_dlsymun=undef, ccdlflags=' '
cccdlflags=' ', lddlflags='-mdll -s -L"C:\home\rcuddy\tools\bb_perls\5.24.4_64\perl\lib\CORE" -L"C:\home\rcuddy\tools\bb_perls\5.24.4_64\c\lib"'
Characteristics of this binary (from libperl):
Compile-time options: HAS_TIMES HAVE_INTERP_INTERN MULTIPLICITY
PERLIO_LAYERS PERL_COPY_ON_WRITE
PERL_DONT_CREATE_GVSV
PERL_HASH_FUNC_ONE_AT_A_TIME_HARD
PERL_IMPLICIT_CONTEXT PERL_IMPLICIT_SYS
PERL_MALLOC_WRAP PERL_PRESERVE_IVUV USE_64_BIT_INT
USE_ITHREADS USE_LARGE_FILES USE_LOCALE
USE_LOCALE_COLLATE USE_LOCALE_CTYPE
USE_LOCALE_NUMERIC USE_LOCALE_TIME USE_PERLIO
USE_PERL_ATOF
Built under MSWin32
Compiled at Apr 15 2018 19:43:12
%ENV:
PERL5LIB="C:\home\rcuddy\tools\bb_perls\5.24.4_64\cpan\build\Locale-Maketext-Gettext-1.30-0/blib/arch;C:\home\rcuddy\tools\bb_perls\5.24.4_64\cpan\build\Locale-Maketext-Gettext-1.30-0/blib/lib"
PERL5_CPANPLUS_IS_RUNNING="9664"
PERL5_CPAN_IS_RUNNING="9664"
PERL5_CPAN_IS_RUNNING_IN_RECURSION="1384,9664"
PERL_CR_SMOKER_CURRENT="Petal-2.26"
PERL_EXTUTILS_AUTOINSTALL="--defaultdeps"
PERL_MM_USE_DEFAULT="1"
@INC:
C:\home\rcuddy\tools\bb_perls\5.24.4_64\cpan\build\Locale-Maketext-Gettext-1.30-0/blib/arch
C:\home\rcuddy\tools\bb_perls\5.24.4_64\cpan\build\Locale-Maketext-Gettext-1.30-0/blib/lib
C:/home/rcuddy/tools/bb_perls/5.24.4_64/perl/site/lib
C:/home/rcuddy/tools/bb_perls/5.24.4_64/perl/vendor/lib
C:/home/rcuddy/tools/bb_perls/5.24.4_64/perl/lib
.