Report for Dist-Zilla-Plugin-CheckExtraTests-0.025

Back
From: metabase:user:314402c4-2aae-11df-837a-5e0a49663a4f
Subject: PASS Dist-Zilla-Plugin-CheckExtraTests-0.025 v5.21.6 FreeBSD
Date: 2014-12-10T10:25:34Z

This distribution has been tested as part of the CPAN Testers
project, supporting the Perl programming language.  See
http://wiki.cpantesters.org/ for more information or email
questions to cpan-testers-discuss@perl.org


--
Dear David Golden,

This is a computer-generated report for Dist-Zilla-Plugin-CheckExtraTests-0.025
on perl 5.21.6, created by CPAN-Reporter-1.2011.

Thank you for uploading your work to CPAN.  Congratulations!
All tests were successful.

Sections of this report:

    * Tester comments
    * Program output
    * Prerequisites
    * Environment and other context

------------------------------
TESTER COMMENTS
------------------------------

Additional comments from tester:

none provided

------------------------------
PROGRAM OUTPUT
------------------------------

Output from '/usr/bin/make test':

PERL_DL_NONLAZY=1 "/usr/perl5.21.6/bin/perl5.21.6" "-MExtUtils::Command::MM" "-MTest::Harness" "-e" "undef *Test::Harness::Switches; test_harness(0, 'blib/lib', 'blib/arch')" t/*.t

# Versions for all modules listed in MYMETA.json (including optional ones):
# 
# === Configure Requires ===
# 
#     Module              Want Have
#     ------------------- ---- ----
#     ExtUtils::MakeMaker 6.17 7.02
# 
# === Build Requires ===
# 
#     Module              Want Have
#     ------------------- ---- ----
#     ExtUtils::MakeMaker  any 7.02
# 
# === Test Requires ===
# 
#     Module                   Want         Have
#     ------------------------ ---- ------------
#     Capture::Tiny             any         0.27
#     Dist::Zilla::App::Tester  any        5.026
#     Dist::Zilla::Tester       any        5.026
#     ExtUtils::MakeMaker       any         7.02
#     File::Spec                any         3.51
#     Params::Util              any         1.07
#     Sub::Exporter             any        0.987
#     Test::More               0.88 1.301001_075
#     Test::Requires            any         0.08
#     Try::Tiny                 any         0.22
#     lib                       any         0.63
# 
# === Test Recommends ===
# 
#     Module         Want     Have
#     ---------- -------- --------
#     CPAN::Meta 2.120900 2.143240
# 
# === Runtime Requires ===
# 
#     Module                            Want   Have
#     -------------------------------- ----- ------
#     App::Prove                        3.00   3.34
#     Archive::Tar                       any   2.02
#     Dist::Zilla                        4.3  5.026
#     Dist::Zilla::App                   any  5.026
#     Dist::Zilla::Role::BeforeRelease   any  5.026
#     Dist::Zilla::Role::TestRunner      any  5.026
#     File::pushd                        any  1.009
#     Moose                                2 2.1402
#     Path::Iterator::Rule               any  1.008
#     Path::Tiny                       0.013  0.061
#     namespace::autoclean              0.09   0.22
#     strict                             any   1.08
#     warnings                           any   1.29
# 
t/00-report-prereqs.t .. ok
Constants from lexical variables potentially modified elsewhere are deprecated at /usr/perl5.21.6/lib/site_perl/5.21.6/aliased.pm line 46.
t/checkxt.t ............ ok
Constants from lexical variables potentially modified elsewhere are deprecated at /usr/perl5.21.6/lib/site_perl/5.21.6/aliased.pm line 46.
t/runxt.t .............. ok
Constants from lexical variables potentially modified elsewhere are deprecated at /usr/perl5.21.6/lib/site_perl/5.21.6/aliased.pm line 46.
t/withblib.t ........... ok
All tests successful.
Files=4, Tests=16, 21 wallclock secs ( 0.07 usr  0.03 sys + 17.55 cusr  3.26 csys = 20.91 CPU)
Result: PASS

------------------------------
PREREQUISITES
------------------------------

Prerequisite modules loaded:

requires:

    Module                           Need     Have        
    -------------------------------- -------- ------------
    App::Prove                       3.00     3.34        
    Archive::Tar                     0        2.02        
    Dist::Zilla                      4.3      5.026       
    Dist::Zilla::App                 0        5.026       
    Dist::Zilla::Role::BeforeRelease 0        5.026       
    Dist::Zilla::Role::TestRunner    0        5.026       
    File::pushd                      0        1.009       
    Moose                            2        2.1402      
    namespace::autoclean             0.09     0.22        
    Path::Iterator::Rule             0        1.008       
    Path::Tiny                       0.013    0.061       
    perl                             5.006    5.021006    
    strict                           0        1.08        
    warnings                         0        1.29        

build_requires:

    Module                           Need     Have        
    -------------------------------- -------- ------------
    Capture::Tiny                    0        0.27        
    Dist::Zilla::App::Tester         0        5.026       
    Dist::Zilla::Tester              0        5.026       
    ExtUtils::MakeMaker              0        7.02        
    File::Spec                       0        3.51        
    lib                              0        0.63        
    Params::Util                     0        1.07        
    Sub::Exporter                    0        0.987       
    Test::More                       0.88     1.301001_075
    Test::Requires                   0        0.08        
    Try::Tiny                        0        0.22        

configure_requires:

    Module                           Need     Have        
    -------------------------------- -------- ------------
    ExtUtils::MakeMaker              6.17     7.02        
    perl                             5.006    5.021006    

opt_build_requires:

    Module                           Need     Have        
    -------------------------------- -------- ------------
    CPAN::Meta                       2.120900 2.143240    


------------------------------
ENVIRONMENT AND OTHER CONTEXT
------------------------------

Environment variables:

    DBIC_NO_WARN_BAD_PERL = 1
    LC_ALL = de_DE.ISO8859-1
    PATH = /usr/local/bin:/usr/bin:/bin:/usr/local/sbin:/usr/sbin:/sbin:/home/cpansand/bin/freebsd10.0:/home/cpansand/bin/sh:/home/cpansand/bin:/usr/games:/home/cpansand/devel:/usr/home/eserte/src/srezic-misc/scripts
    PERL5LIB = 
    PERL5OPT = 
    PERL5_CPANPLUS_IS_RUNNING = 73854
    PERL5_CPAN_IS_RUNNING = 73854
    PERL5_CPAN_IS_RUNNING_IN_RECURSION = 73814,73854
    PERLDOC = -MPod::Perldoc::ToTextOverstrike
    PERL_BATCH = yes
    PERL_CPAN_REPORTER_CONFIG = /var/tmp/cpansmoker-1023/1d4LSFxnnq_config.ini
    PERL_EXTUTILS_AUTOINSTALL = --defaultdeps
    PERL_HTML_DISPLAY_CLASS = HTML::Display::Mozilla
    SHELL = /usr/local/bin/zsh
    TERM = screen
    TMPDIR = /var/tmp/cpansmoker-1023

Perl special variables (and OS-specific diagnostics, for MSWin32):

    $^X = /usr/perl5.21.6/bin/perl5.21.6
    $UID/$EUID = 1023 / 1023
    $GID = 1023 1023
    $EGID = 1023 1023

Perl module toolchain versions installed:

    Module              Have        
    ------------------- ------------
    CPAN                2.05        
    CPAN::Meta          2.143240    
    Cwd                 3.51        
    ExtUtils::CBuilder  0.280220    
    ExtUtils::Command   1.18        
    ExtUtils::Install   2.04        
    ExtUtils::MakeMaker 7.02        
    ExtUtils::Manifest  1.69        
    ExtUtils::ParseXS   3.26        
    File::Spec          3.51        
    JSON                2.90        
    JSON::PP            2.27300     
    Module::Build       0.4210      
    Module::Signature   n/a         
    Parse::CPAN::Meta   1.4414      
    Test::Harness       3.34        
    Test::More          1.301001_075
    YAML                1.13        
    YAML::Syck          1.27        
    version             0.9909      


--

Summary of my perl5 (revision 5 version 21 subversion 6) configuration:
   
  Platform:
    osname=freebsd, osvers=10.1-release, archname=amd64-freebsd
    uname='freebsd cvrsnica-freebsd-101.herceg.de 10.1-release freebsd 10.1-release #0 r274401: tue nov 11 21:02:49 utc 2014 root@releng1.nyi.freebsd.org:usrobjusrsrcsysgeneric amd64 '
    config_args='-ds -e -Dprefix=/usr/perl5.21.6 -Dusedevel -Dusemallocwrap=no -Ui_fenv'
    hint=recommended, useposix=true, d_sigaction=define
    useithreads=undef, usemultiplicity=undef
    use64bitint=define, use64bitall=define, uselongdouble=undef
    usemymalloc=n, bincompat5005=undef
  Compiler:
    cc='cc', ccflags ='-DHAS_FPSETMASK -DHAS_FLOATINGPOINT_H -fno-strict-aliasing -pipe -fstack-protector -I/usr/local/include -D_FORTIFY_SOURCE=2',
    optimize='-O',
    cppflags='-DHAS_FPSETMASK -DHAS_FLOATINGPOINT_H -fno-strict-aliasing -pipe -fstack-protector -I/usr/local/include'
    ccversion='', gccversion='4.2.1 Compatible FreeBSD Clang 3.4.1 (tags/RELEASE_34/dot1-final 208032)', gccosandvers=''
    intsize=4, longsize=8, ptrsize=8, doublesize=8, byteorder=12345678, doublekind=3
    d_longlong=define, longlongsize=8, d_longdbl=define, longdblsize=16, longdblkind=3
    ivtype='long', ivsize=8, nvtype='double', nvsize=8, Off_t='off_t', lseeksize=8
    alignbytes=8, prototype=define
  Linker and Libraries:
    ld='cc', ldflags ='-Wl,-E  -fstack-protector -L/usr/local/lib'
    libpth=/usr/lib /usr/local/lib /usr/include/clang/3.4.1 /usr/lib
    libs=-lm -lcrypt -lutil -lc
    perllibs=-lm -lcrypt -lutil -lc
    libc=, so=so, useshrplib=false, libperl=libperl.a
    gnulibc_version=''
  Dynamic Linking:
    dlsrc=dl_dlopen.xs, dlext=so, d_dlsymun=undef, ccdlflags=' '
    cccdlflags='-DPIC -fPIC', lddlflags='-shared  -L/usr/local/lib -fstack-protector'


Characteristics of this binary (from libperl): 
  Compile-time options: HAS_TIMES PERLIO_LAYERS PERL_DONT_CREATE_GVSV
                        PERL_HASH_FUNC_ONE_AT_A_TIME_HARD
                        PERL_NEW_COPY_ON_WRITE PERL_PRESERVE_IVUV
                        PERL_USE_DEVEL USE_64_BIT_ALL USE_64_BIT_INT
                        USE_LARGE_FILES USE_LOCALE USE_LOCALE_COLLATE
                        USE_LOCALE_CTYPE USE_LOCALE_NUMERIC USE_LOCALE_TIME
                        USE_PERLIO USE_PERL_ATOF
  Built under freebsd
  Compiled at Nov 27 2014 22:53:10
  %ENV:
    PERL5LIB=""
    PERL5OPT=""
    PERL5_CPANPLUS_IS_RUNNING="73854"
    PERL5_CPAN_IS_RUNNING="73854"
    PERL5_CPAN_IS_RUNNING_IN_RECURSION="73814,73854"
    PERLDOC="-MPod::Perldoc::ToTextOverstrike"
    PERL_BATCH="yes"
    PERL_CPAN_REPORTER_CONFIG="/var/tmp/cpansmoker-1023/1d4LSFxnnq_config.ini"
    PERL_EXTUTILS_AUTOINSTALL="--defaultdeps"
    PERL_HTML_DISPLAY_CLASS="HTML::Display::Mozilla"
  @INC:
    /usr/perl5.21.6/lib/site_perl/5.21.6/amd64-freebsd
    /usr/perl5.21.6/lib/site_perl/5.21.6
    /usr/perl5.21.6/lib/5.21.6/amd64-freebsd
    /usr/perl5.21.6/lib/5.21.6
    .