Dist-Zilla-Plugin-CheckExtraTests v0.029 Perl 5 v5.24.3 i86pc-solaris
        
            - Status
- Pass
- From
- Serguei Trouchelle (STRO)
- Dist
- 
                Dist-Zilla-Plugin-CheckExtraTests v0.029
            
- Platform
- Perl 5 v5.24.3 i86pc-solaris
- Date
- 2017-10-29 19:10:49
- ID
- dffbbfbe-bcdc-11e7-9afc-edd812b9258d
This distribution has been tested as part of the CPAN Testers
project, supporting the Perl programming language.  See
http://wiki.cpantesters.org/ for more information or email
questions to cpan-testers-discuss@perl.org
--
Dear David Golden,
This is a computer-generated report for Dist-Zilla-Plugin-CheckExtraTests-0.029
on perl 5.24.3, created by CPAN-Reporter-1.2018.
Thank you for uploading your work to CPAN.  Congratulations!
All tests were successful.
Sections of this report:
    * Tester comments
    * Program output
    * Prerequisites
    * Environment and other context
------------------------------
TESTER COMMENTS
------------------------------
Additional comments from tester:
this report is from an automated smoke testing program
and was not reviewed by a human for accuracy
------------------------------
PROGRAM OUTPUT
------------------------------
Output from '/usr/bin/make test':
PERL_DL_NONLAZY=1 "/home/stro/perl/5.24.3/bin/perl" "-MExtUtils::Command::MM" "-MTest::Harness" "-e" "undef *Test::Harness::Switches; test_harness(0, 'blib/lib', 'blib/arch')" t/*.t
# 
# Versions for all modules listed in MYMETA.json (including optional ones):
# 
# === Configure Requires ===
# 
#     Module              Want Have
#     ------------------- ---- ----
#     ExtUtils::MakeMaker 6.17 7.30
# 
# === Configure Suggests ===
# 
#     Module      Want Have
#     -------- ------- ----
#     JSON::PP 2.27300 2.94
# 
# === Build Requires ===
# 
#     Module              Want Have
#     ------------------- ---- ----
#     ExtUtils::MakeMaker  any 7.30
# 
# === Test Requires ===
# 
#     Module                   Want     Have
#     ------------------------ ---- --------
#     Capture::Tiny             any     0.46
#     Dist::Zilla::App::Tester  any    6.010
#     ExtUtils::MakeMaker       any     7.30
#     File::Spec                any  3.63_01
#     Params::Util              any     1.07
#     Sub::Exporter             any    0.987
#     Test::More               0.88 1.302106
#     Test::Requires            any     0.10
#     Try::Tiny                 any     0.28
#     lib                       any     0.63
# 
# === Test Recommends ===
# 
#     Module         Want     Have
#     ---------- -------- --------
#     CPAN::Meta 2.120900 2.150005
# 
# === Runtime Requires ===
# 
#     Module                            Want    Have
#     -------------------------------- ----- -------
#     App::Prove                        3.00 3.36_01
#     Archive::Tar                       any 2.04_01
#     Dist::Zilla                        4.3   6.010
#     Dist::Zilla::App                   any   6.010
#     Dist::Zilla::Role::BeforeRelease   any   6.010
#     Dist::Zilla::Role::TestRunner      any   6.010
#     File::pushd                        any   1.014
#     Moose                                2  2.2006
#     Path::Iterator::Rule               any   1.012
#     Path::Tiny                       0.013   0.104
#     namespace::autoclean              0.09    0.28
#     strict                             any    1.11
#     warnings                           any    1.36
# 
t/00-report-prereqs.t .. ok
t/checkxt.t ............ ok
t/runxt.t .............. ok
t/withblib.t ........... ok
All tests successful.
Files=4, Tests=20, 11 wallclock secs ( 0.04 usr  0.01 sys +  7.07 cusr  1.33 csys =  8.45 CPU)
Result: PASS
------------------------------
PREREQUISITES
------------------------------
Prerequisite modules loaded:
requires:
    Module                           Need     Have    
    -------------------------------- -------- --------
    App::Prove                       3.00     3.36_01 
    Archive::Tar                     0        2.04_01 
    Dist::Zilla                      4.3      6.010   
    Dist::Zilla::App                 0        6.010   
    Dist::Zilla::Role::BeforeRelease 0        6.010   
    Dist::Zilla::Role::TestRunner    0        6.010   
    File::pushd                      0        1.014   
    Moose                            2        2.2006  
    namespace::autoclean             0.09     0.28    
    Path::Iterator::Rule             0        1.012   
    Path::Tiny                       0.013    0.104   
    perl                             5.006    5.024003
    strict                           0        1.11    
    warnings                         0        1.36    
build_requires:
    Module                           Need     Have    
    -------------------------------- -------- --------
    Capture::Tiny                    0        0.46    
    Dist::Zilla::App::Tester         0        6.010   
    ExtUtils::MakeMaker              0        7.30    
    File::Spec                       0        3.63_01 
    lib                              0        0.63    
    Params::Util                     0        1.07    
    Sub::Exporter                    0        0.987   
    Test::More                       0.88     1.302106
    Test::Requires                   0        0.10    
    Try::Tiny                        0        0.28    
configure_requires:
    Module                           Need     Have    
    -------------------------------- -------- --------
    ExtUtils::MakeMaker              6.17     7.30    
    perl                             5.006    5.024003
opt_build_requires:
    Module                           Need     Have    
    -------------------------------- -------- --------
    CPAN::Meta                       2.120900 2.150005
------------------------------
ENVIRONMENT AND OTHER CONTEXT
------------------------------
Environment variables:
    AUTOMATED_TESTING = 1
    LANG = en_US.UTF-8
    PATH = /usr/gnu/bin:/usr/bin:/usr/sbin:/sbin:/usr/sfw/bin:
    PERL5LIB = 
    PERL5OPT = 
    PERL5_CPANPLUS_IS_RUNNING = 20385
    PERL5_CPAN_IS_RUNNING = 20385
    PERL5_CPAN_IS_RUNNING_IN_RECURSION = 15393,20385
    PERL_CR_SMOKER_CURRENT = Dist-Zilla-PluginBundle-Author-AMON-0.000001
    PERL_EXTUTILS_AUTOINSTALL = --defaultdeps
    PERL_MM_USE_DEFAULT = 1
    SHELL = /bin/bash
    TERM = xterm-256color
Perl special variables (and OS-specific diagnostics, for MSWin32):
    $^X = /home/stro/perl/5.24.3/bin/perl
    $UID/$EUID = 101 / 101
    $GID = 10 10
    $EGID = 10 10
Perl module toolchain versions installed:
    Module              Have      
    ------------------- ----------
    CPAN                2.16      
    CPAN::Meta          2.150005  
    Cwd                 3.63_01   
    ExtUtils::CBuilder  0.280225  
    ExtUtils::Command   7.30      
    ExtUtils::Install   2.06      
    ExtUtils::MakeMaker 7.30      
    ExtUtils::Manifest  1.70      
    ExtUtils::ParseXS   3.31      
    File::Spec          3.63_01   
    JSON                2.94      
    JSON::PP            2.94      
    Module::Build       0.4224    
    Module::Signature   n/a       
    Parse::CPAN::Meta   1.4417_001
    Test::Harness       3.36_01   
    Test::More          1.302106  
    YAML                1.23      
    YAML::Syck          1.30      
    version             0.9916    
--
Summary of my perl5 (revision 5 version 24 subversion 3) configuration:
   
  Platform:
    osname=solaris, osvers=2.11, archname=i86pc-solaris
    uname='sunos vm-openindiana-001 5.11 illumos-ed992b0aac i86pc i386 i86pc solaris '
    config_args=''
    hint=recommended, useposix=true, d_sigaction=define
    useithreads=undef, usemultiplicity=undef
    use64bitint=undef, use64bitall=undef, uselongdouble=undef
    usemymalloc=n, bincompat5005=undef
  Compiler:
    cc='/opt/SUNWspro/bin/cc', ccflags ='-I/usr/gnu/include -D_LARGEFILE_SOURCE -D_FILE_OFFSET_BITS=64 -DPERL_USE_SAFE_PUTENV',
    optimize='-O',
    cppflags='-I/usr/gnu/include'
    ccversion='Sun C 5.10 SunOS_i386 2009/06/03', gccversion='', gccosandvers=''
    intsize=4, longsize=4, ptrsize=4, doublesize=8, byteorder=1234, doublekind=3
    d_longlong=define, longlongsize=8, d_longdbl=define, longdblsize=12, longdblkind=3
    ivtype='long', ivsize=4, nvtype='double', nvsize=8, Off_t='off_t', lseeksize=8
    alignbytes=4, prototype=define
  Linker and Libraries:
    ld='/opt/SUNWspro/bin/cc', ldflags =' -L/usr/lib -L/usr/ccs/lib -L/opt/sunstudio12.1/prod/lib -L/lib -L/usr/gnu/lib '
    libpth=/usr/lib /usr/ccs/lib /opt/sunstudio12.1/prod/lib /lib /usr/gnu/lib
    libs=-lpthread -lsocket -lnsl -lgdbm -ldb -ldl -lm -lc
    perllibs=-lpthread -lsocket -lnsl -ldl -lm -lc
    libc=/lib/libc.so, so=so, useshrplib=true, libperl=libperl.so
    gnulibc_version=''
  Dynamic Linking:
    dlsrc=dl_dlopen.xs, dlext=so, d_dlsymun=undef, ccdlflags='  -R /home/stro/perl/5.24.3/lib/5.24.3/i86pc-solaris/CORE'
    cccdlflags='-KPIC', lddlflags='-G -L/usr/lib -L/usr/ccs/lib -L/opt/sunstudio12.1/prod/lib -L/lib -L/usr/gnu/lib'
Characteristics of this binary (from libperl): 
  Compile-time options: HAS_TIMES PERLIO_LAYERS PERL_COPY_ON_WRITE
                        PERL_DONT_CREATE_GVSV
                        PERL_HASH_FUNC_ONE_AT_A_TIME_HARD PERL_MALLOC_WRAP
                        PERL_PRESERVE_IVUV PERL_USE_SAFE_PUTENV
                        USE_LARGE_FILES USE_LOCALE USE_LOCALE_COLLATE
                        USE_LOCALE_CTYPE USE_LOCALE_NUMERIC USE_LOCALE_TIME
                        USE_PERLIO USE_PERL_ATOF
  Built under solaris
  Compiled at Sep 22 2017 19:07:15
  %ENV:
    PERL5LIB=""
    PERL5OPT=""
    PERL5_CPANPLUS_IS_RUNNING="20385"
    PERL5_CPAN_IS_RUNNING="20385"
    PERL5_CPAN_IS_RUNNING_IN_RECURSION="15393,20385"
    PERL_CR_SMOKER_CURRENT="Dist-Zilla-PluginBundle-Author-AMON-0.000001"
    PERL_EXTUTILS_AUTOINSTALL="--defaultdeps"
    PERL_MM_USE_DEFAULT="1"
  @INC:
    /home/stro/perl/5.24.3/lib/site_perl/5.24.3/i86pc-solaris
    /home/stro/perl/5.24.3/lib/site_perl/5.24.3
    /home/stro/perl/5.24.3/lib/5.24.3/i86pc-solaris
    /home/stro/perl/5.24.3/lib/5.24.3
    .