LaTeXML v0.8.5_2 Perl 5 v5.18.2 MSWin32-x86-multi-thread-64int

Status
Pass
From
Alexandr Ciornii (CHORNY)
Dist
LaTeXML v0.8.5_2
Platform
Perl 5 v5.18.2 MSWin32-x86-multi-thread-64int
Date
2020-11-13 11:28:15
ID
dfdc470d-6bf6-1014-b96a-2ee7bf6d6340
This distribution has been tested as part of the CPAN Testers
project, supporting the Perl programming language.  See
http://wiki.cpantesters.org/ for more information or email
questions to cpan-testers-discuss@perl.org


--
Dear Bruce Miller,

This is a computer-generated report for LaTeXML-0.8.5_2
on perl 5.18.2, created by CPAN-Reporter-1.2018.

Thank you for uploading your work to CPAN.  Congratulations!
All tests were successful.

Sections of this report:

    * Tester comments
    * Program output
    * Prerequisites
    * Environment and other context

------------------------------
TESTER COMMENTS
------------------------------

Additional comments from tester:

this report is from an automated smoke testing program
and was not reviewed by a human for accuracy

------------------------------
PROGRAM OUTPUT
------------------------------

Output from 'C:\strawberry182\c\bin\dmake.exe test':

¥ 㤠¥âáï ­ ©â¨ 㪠§ ­­ë© ä ©«.
C:\strawberry182\perl\bin\perl.exe "-MExtUtils::Command::MM" "-MTest::Harness" "-e" "undef *Test::Harness::Switches; test_harness(0, 'blib\lib', 'blib\arch')" t/*.t
t/002_unit_findfile.t ..... ok
t/00_unittest.t ........... ok
t/05_tokenize.t ........... ok
# Skip: Missing requirement etoolbox.sty for t/expansion/etoolbox
# Skip: Missing requirement ifthen.sty for t/expansion/ifthen
# Skip: Missing requirement t1enc.def for t/expansion/meaning
# Skip: Missing requirement textcase.sty for t/expansion/textcase
t/10_expansion.t .......... ok
t/12_grouping.t ........... ok
t/170_grammar_coverage.t .. skipped: Only checked in continuous integration.
t/20_digestion.t .......... ok
t/22_fonts.t .............. ok
# Skip: Missing requirement ansinew.def for t/encoding/ansinew
# Skip: Missing requirement applemac.def for t/encoding/applemac
# Skip: Missing requirement cp1250.def for t/encoding/cp1250
# Skip: Missing requirement cp1252.def for t/encoding/cp1252
# Skip: Missing requirement cp437.def for t/encoding/cp437
# Skip: Missing requirement cp437de.def for t/encoding/cp437de
# Skip: Missing requirement cp850.def for t/encoding/cp850
# Skip: Missing requirement cp852.def for t/encoding/cp852
# Skip: Missing requirement cp858.def for t/encoding/cp858
# Skip: Missing requirement cp865.def for t/encoding/cp865
# Skip: Missing requirement decmulti.def for t/encoding/decmulti
# Skip: Missing requirement latin1.def for t/encoding/latin1
# Skip: Missing requirement latin10.def for t/encoding/latin10
# Skip: Missing requirement latin2.def for t/encoding/latin2
# Skip: Missing requirement latin3.def for t/encoding/latin3
# Skip: Missing requirement latin4.def for t/encoding/latin4
# Skip: Missing requirement latin5.def for t/encoding/latin5
# Skip: Missing requirement latin9.def for t/encoding/latin9
# Skip: Missing requirement ly1enc.def for t/encoding/ly1
# Skip: Missing requirement ot1enc.def for t/encoding/ot1
# Skip: Missing requirement t1enc.def for t/encoding/t1
# Skip: Missing requirement t2aenc.def for t/encoding/t2a
# Skip: Missing requirement t2benc.def for t/encoding/t2b
# Skip: Missing requirement t2cenc.def for t/encoding/t2c
# Skip: Missing requirement ts1enc.def for t/encoding/ts1
t/30_encoding.t ........... ok
# Skip: Missing requirement xkvview.sty for t/keyval/xkeyvalview
t/32_keyval.t ............. ok
t/33_keyval_options.t ..... ok
t/40_math.t ............... ok
# Skip: Missing requirement amsart.cls for t/structure/amsarticle
# Skip: Missing requirement csquotes.sty for t/structure/csquotes
# Skip: Missing requirement glossaries.sty for t/structure/glossary
t/50_structure.t .......... ok
t/52_namespace.t .......... ok
# Skip: Missing requirement algorithm.sty for t/alignment/algx
# Skip: Missing requirement makecell.sty for t/alignment/cells
# Skip: Missing requirement listings.cfg for t/alignment/listing
t/53_alignment.t .......... ok
# Skip: Missing requirement ntheorem.std for t/theorem/ntheorem
t/55_theorem.t ............ ok
t/56_ams.t ................ ok
# Skip: Missing requirement dvipsnam.def for t/graphics/colors
# Skip: Missing requirement dvipsnam.def for t/graphics/xcolors
t/65_graphics.t ........... ok
t/70_parse.t .............. ok
# Skip: Missing requirement siunitx.sty for t/complex/si
t/80_complex.t ............ ok
# Skip: Missing requirement babel.sty for t/babel/csquotes
# Skip: Missing requirement babel.sty for t/babel/french
# Skip: Missing requirement babel.sty for t/babel/german
# Skip: Missing requirement babel.sty for t/babel/greek
# Skip: Missing requirement babel.sty for t/babel/numprints
# Skip: Missing requirement babel.sty for t/babel/page545
t/81_babel.t .............. ok
t/82_moderncv.t ........... ok
# Skip: Missing requirement expl3.sty for t/expl3/tilde_tricks
# Skip: Missing requirement expl3.sty for t/expl3/xparse
t/83_expl3.t .............. ok
t/90_latexmlpost.t ........ ok
t/91_latexmlc_api.t ....... ok
# Skip: Missing requirement dvipsnam.def for t/daemon/profiles/fragment
# Skip: Missing requirement dvipsnam.def for t/daemon/profiles/math
t/92_profiles.t ........... ok
t/931_epub.t .............. ok
# Skip: Missing requirement amsart.cls for t/daemon/formats/jats
# Skip: Missing requirement amsart.cls for t/daemon/formats/tei
t/93_formats.t ............ ok
t/94_runtimes.t ........... ok
t/95_complex_config.t ..... ok
t/96_fatal.t .............. ok
t/97_manifest.t ........... skipped: Only checked in continuous integration.
All tests successful.
Files=32, Tests=425, 538 wallclock secs ( 0.21 usr +  0.16 sys =  0.37 CPU)
Result: PASS

------------------------------
PREREQUISITES
------------------------------

Prerequisite modules loaded:

requires:

    Module              Need     Have    
    ------------------- -------- --------
    Archive::Zip        0        1.36    
    DB_File             0        1.831   
    File::Which         0        1.09    
    Getopt::Long        2.37     2.42    
    Image::Size         0        3.232   
    IO::String          0        1.08    
    JSON::XS            0        3.01    
    LWP                 0        6.05    
    MIME::Base64        0        3.14    
    Parse::RecDescent   0        1.967009
    perl                5.010001 5.018002
    Pod::Parser         0        1.61    
    Test::More          0        1.001002
    Text::Unidecode     0        0.04    
    Time::HiRes         0        1.9726  
    URI                 0        1.60    
    version             0        0.9904  
    XML::LibXML         1.61     2.0108  
    XML::LibXSLT        1.58     1.84    

build_requires:

    Module              Need     Have    
    ------------------- -------- --------
    ExtUtils::MakeMaker 0        6.84    

configure_requires:

    Module              Need     Have    
    ------------------- -------- --------
    version             0.77     0.9904  


------------------------------
ENVIRONMENT AND OTHER CONTEXT
------------------------------

Environment variables:

    AUTOMATED_TESTING = 1
    COMSPEC = C:\WINDOWS\system32\cmd.exe
    NUMBER_OF_PROCESSORS = 1
    PATH = C:\WINDOWS\system32;C:\WINDOWS;C:\WINDOWS\System32\Wbem;C:\strawberry182\c\bin;C:\strawberry182\perl\site\bin;C:\strawberry182\perl\bin
    PERL5LIB = 
    PERL5OPT = 
    PERL5_CPANPLUS_IS_RUNNING = 1868
    PERL5_CPAN_IS_RUNNING = 1868
    PERL5_CPAN_IS_RUNNING_IN_RECURSION = 1724,1868
    PERL_CR_SMOKER_CURRENT = LaTeXML-0.8.5_2
    PERL_CR_SMOKER_RUNONCE = 1
    PERL_EXTUTILS_AUTOINSTALL = --defaultdeps
    PERL_HASH_SEED = 0x11111111
    PERL_MM_USE_DEFAULT = 1
    PROCESSOR_IDENTIFIER = x86 Family 18 Model 1 Stepping 0, AuthenticAMD
    TEMP = C:\DOCUME~1\c\LOCALS~1\Temp
    TERM = dumb

Perl special variables (and OS-specific diagnostics, for MSWin32):

    $^X = C:\strawberry182\perl\bin\perl.exe
    $UID/$EUID = 0 / 0
    $GID = 0
    $EGID = 0
    Win32::GetOSName = WinXP/.Net
    Win32::GetOSVersion = Service Pack 3, 5, 1, 2600, 2, 3, 0, 256, 1
    Win32::FsType = NTFS
    Win32::IsAdminUser = 1

Perl module toolchain versions installed:

    Module              Have    
    ------------------- --------
    CPAN                2.16    
    CPAN::Meta          2.133380
    Cwd                 3.40    
    ExtUtils::CBuilder  0.280212
    ExtUtils::Command   1.18    
    ExtUtils::Install   1.59    
    ExtUtils::MakeMaker 6.84    
    ExtUtils::Manifest  1.63    
    ExtUtils::ParseXS   3.22    
    File::Spec          3.40    
    JSON                2.90    
    JSON::PP            2.27203 
    Module::Build       0.4203  
    Module::Signature   n/a     
    Parse::CPAN::Meta   1.4414  
    Test::Harness       3.30    
    Test::More          1.001002
    YAML                0.90    
    YAML::Syck          1.27    
    version             0.9904  


--

Summary of my perl5 (revision 5 version 18 subversion 2) configuration:
   
  Platform:
    osname=MSWin32, osvers=6.2, archname=MSWin32-x86-multi-thread-64int
    uname='Win32 strawberry-perl 5.18.2.1 #1 Tue Jan  7 16:30:36 2014 i386'
    config_args='undef'
    hint=recommended, useposix=true, d_sigaction=undef
    useithreads=define, usemultiplicity=define
    useperlio=define, d_sfio=undef, uselargefiles=define, usesocks=undef
    use64bitint=define, use64bitall=undef, uselongdouble=undef
    usemymalloc=n, bincompat5005=undef
  Compiler:
    cc='gcc', ccflags =' -s -O2 -DWIN32  -DPERL_TEXTMODE_SCRIPTS -DPERL_IMPLICIT_CONTEXT -DPERL_IMPLICIT_SYS -DUSE_PERLIO -fno-strict-aliasing -mms-bitfields',
    optimize='-s -O2',
    cppflags='-DWIN32'
    ccversion='', gccversion='4.7.3', gccosandvers=''
    intsize=4, longsize=4, ptrsize=4, doublesize=8, byteorder=12345678
    d_longlong=define, longlongsize=8, d_longdbl=define, longdblsize=12
    ivtype='long long', ivsize=8, nvtype='double', nvsize=8, Off_t='long long', lseeksize=8
    alignbytes=8, prototype=define
  Linker and Libraries:
    ld='g++', ldflags ='-s -L"C:\strawberry182\perl\lib\CORE" -L"C:\strawberry182\c\lib"'
    libpth=C:\strawberry182\c\lib C:\strawberry182\c\i686-w64-mingw32\lib C:\strawberry182\c\lib\gcc\i686-w64-mingw32\4.7.3
    libs=-lmoldname -lkernel32 -luser32 -lgdi32 -lwinspool -lcomdlg32 -ladvapi32 -lshell32 -lole32 -loleaut32 -lnetapi32 -luuid -lws2_32 -lmpr -lwinmm -lversion -lodbc32 -lodbccp32 -lcomctl32
    perllibs=-lmoldname -lkernel32 -luser32 -lgdi32 -lwinspool -lcomdlg32 -ladvapi32 -lshell32 -lole32 -loleaut32 -lnetapi32 -luuid -lws2_32 -lmpr -lwinmm -lversion -lodbc32 -lodbccp32 -lcomctl32
    libc=, so=dll, useshrplib=true, libperl=libperl518.a
    gnulibc_version=''
  Dynamic Linking:
    dlsrc=dl_win32.xs, dlext=dll, d_dlsymun=undef, ccdlflags=' '
    cccdlflags=' ', lddlflags='-mdll -s -L"C:\strawberry182\perl\lib\CORE" -L"C:\strawberry182\c\lib"'


Characteristics of this binary (from libperl): 
  Compile-time options: HAS_TIMES HAVE_INTERP_INTERN MULTIPLICITY
                        PERLIO_LAYERS PERL_DONT_CREATE_GVSV
                        PERL_HASH_FUNC_ONE_AT_A_TIME_HARD
                        PERL_IMPLICIT_CONTEXT PERL_IMPLICIT_SYS
                        PERL_MALLOC_WRAP PERL_PRESERVE_IVUV PERL_SAWAMPERSAND
                        USE_64_BIT_INT USE_ITHREADS USE_LARGE_FILES
                        USE_LOCALE USE_LOCALE_COLLATE USE_LOCALE_CTYPE
                        USE_LOCALE_NUMERIC USE_PERLIO USE_PERL_ATOF
  Built under MSWin32
  Compiled at Jan  7 2014 16:39:31
  %ENV:
    PERL5_CPANPLUS_IS_RUNNING="1868"
    PERL5_CPAN_IS_RUNNING="1868"
    PERL5_CPAN_IS_RUNNING_IN_RECURSION="1724,1868"
    PERL_CR_SMOKER_CURRENT="LaTeXML-0.8.5_2"
    PERL_CR_SMOKER_RUNONCE="1"
    PERL_EXTUTILS_AUTOINSTALL="--defaultdeps"
    PERL_HASH_SEED="0x11111111"
    PERL_MM_USE_DEFAULT="1"
  @INC:
    C:/strawberry182/perl/site/lib
    C:/strawberry182/perl/vendor/lib
    C:/strawberry182/perl/lib
    .