Back
From: metabase:user:30977d10-2aae-11df-837a-5e0a49663a4f
Subject: PASS Test-TempDir-0.10 v5.14.4 GNU/Linux
Date: 2015-09-03T11:13:59Z
This distribution has been tested as part of the CPAN Testers
project, supporting the Perl programming language. See
http://wiki.cpantesters.org/ for more information or email
questions to cpan-testers-discuss@perl.org
--
Dear Karen Etheridge,
This is a computer-generated report for Test-TempDir-0.10
on perl 5.14.4, created by CPAN-Reporter-1.2015.
Thank you for uploading your work to CPAN. Congratulations!
All tests were successful.
Sections of this report:
* Tester comments
* Program output
* Prerequisites
* Environment and other context
------------------------------
TESTER COMMENTS
------------------------------
Additional comments from tester:
this report is from an automated smoke testing program
and was not reviewed by a human for accuracy
------------------------------
PROGRAM OUTPUT
------------------------------
Output from '/usr/bin/make test':
PERL_DL_NONLAZY=1 "/home/stro/perl/5.14.4/bin/perl" "-MExtUtils::Command::MM" "-MTest::Harness" "-e" "undef *Test::Harness::Switches; test_harness(0, 'blib/lib', 'blib/arch')" t/*.t
#
# Versions for all modules listed in MYMETA.json (including optional ones):
#
# === Configure Requires ===
#
# Module Want Have
# ------------------- ----- -----
# Module::Build::Tiny 0.039 0.039
#
# === Build Requires ===
#
# Module Want Have
# ------------------- ---- ----
# ExtUtils::MakeMaker any 7.04
#
# === Test Requires ===
#
# Module Want Have
# ------------------- ---- --------
# ExtUtils::MakeMaker any 7.04
# File::Path 2.04 2.11
# File::Spec any 3.47
# Test::More 0.88 1.001014
# Test::Requires any 0.10
# ok any 0.16
#
# === Test Recommends ===
#
# Module Want Have
# ---------- -------- --------
# CPAN::Meta 2.120900 2.150005
#
# === Runtime Requires ===
#
# Module Want Have
# ---------------------------- ---- --------
# Carp any 1.36
# File::NFSLock any 1.27
# File::Spec any 3.47
# File::Temp any 0.2304
# Moose any 2.1602
# Moose::Util::TypeConstraints any 2.1602
# MooseX::Types::Path::Class any 0.07
# Path::Class any 0.35
# Sub::Exporter any 0.987
# Test::Builder any 1.001014
# namespace::autoclean 0.08 0.26
# strict any 1.04
# warnings any 1.12
#
# === Runtime Recommends ===
#
# Module Want Have
# ------------------ ---- ----
# Directory::Scratch any 0.18
#
t/00-report-prereqs.t .. ok
t/00_load.t ............ ok
t/basic.t .............. ok
Warning: not cleaning up files in t/tmp/eHCfx9W2h1 at t/directory_scratch.t line 0.
t/directory_scratch.t .. ok
t/factory.t ............ ok
t/handle.t ............. ok
All tests successful.
Files=6, Tests=73, 2 wallclock secs ( 0.03 usr 0.00 sys + 1.35 cusr 0.06 csys = 1.44 CPU)
Result: PASS
------------------------------
PREREQUISITES
------------------------------
Prerequisite modules loaded:
requires:
Module Need Have
---------------------------- ----- --------
Carp 0 1.36
File::NFSLock 0 1.27
File::Spec 0 3.47
File::Temp 0 0.2304
Moose 0 2.1602
Moose::Util::TypeConstraints 0 2.1602
MooseX::Types::Path::Class 0 0.07
namespace::autoclean 0.08 0.26
Path::Class 0 0.35
perl 5.006 5.014004
strict 0 1.04
Sub::Exporter 0 0.987
Test::Builder 0 1.001014
warnings 0 1.12
build_requires:
Module Need Have
---------------------------- ----- --------
ExtUtils::MakeMaker 0 7.04
File::Path 2.04 2.11
File::Spec 0 3.47
ok 0 0.16
Test::More 0.88 1.001014
Test::Requires 0 0.10
configure_requires:
Module Need Have
---------------------------- ----- --------
Module::Build::Tiny 0.039 0.039
perl 5.006 5.014004
------------------------------
ENVIRONMENT AND OTHER CONTEXT
------------------------------
Environment variables:
AUTOMATED_TESTING = 1
LANG = en_US.UTF-8
PATH = /usr/local/bin:/usr/bin:/bin:/usr/local/games:/usr/games
PERL5LIB =
PERL5OPT =
PERL5_CPANPLUS_IS_RUNNING = 14357
PERL5_CPAN_IS_RUNNING = 14357
PERL5_CPAN_IS_RUNNING_IN_RECURSION = 7685,14357
PERL_CR_SMOKER_CURRENT = Text-Tradition-Analysis-2.0.2
PERL_EXTUTILS_AUTOINSTALL = --defaultdeps
PERL_MM_USE_DEFAULT = 1
SHELL = /bin/bash
TERM = xterm
Perl special variables (and OS-specific diagnostics, for MSWin32):
$^X = /home/stro/perl/5.14.4/bin/perl
$UID/$EUID = 1000 / 1000
$GID = 1000 24 25 29 30 44 46 108 114 1000
$EGID = 1000 24 25 29 30 44 46 108 114 1000
Perl module toolchain versions installed:
Module Have
------------------- ---------
CPAN 1.9600_01
CPAN::Meta 2.150005
Cwd 3.47
ExtUtils::CBuilder 0.280223
ExtUtils::Command 1.17
ExtUtils::Install 1.56
ExtUtils::MakeMaker 7.04
ExtUtils::Manifest 1.70
ExtUtils::ParseXS 3.24
File::Spec 3.47
JSON 2.90
JSON::PP 2.27203
Module::Build 0.4214
Module::Signature n/a
Parse::CPAN::Meta 1.4417
Test::Harness 3.35
Test::More 1.001014
YAML 1.15
YAML::Syck 1.29
version 0.9912
--
Summary of my perl5 (revision 5 version 14 subversion 4) configuration:
Platform:
osname=linux, osvers=3.16.0-4-amd64, archname=x86_64-linux
uname='linux vm-debian-001 3.16.0-4-amd64 #1 smp debian 3.16.7-ckt11-1 (2015-05-24) x86_64 gnulinux '
config_args=''
hint=recommended, useposix=true, d_sigaction=define
useithreads=undef, usemultiplicity=undef
useperlio=define, d_sfio=undef, uselargefiles=define, usesocks=undef
use64bitint=define, use64bitall=define, uselongdouble=undef
usemymalloc=n, bincompat5005=undef
Compiler:
cc='cc', ccflags ='-fno-strict-aliasing -pipe -fstack-protector -I/usr/local/include -D_LARGEFILE_SOURCE -D_FILE_OFFSET_BITS=64',
optimize='-O2',
cppflags='-fno-strict-aliasing -pipe -fstack-protector -I/usr/local/include'
ccversion='', gccversion='4.9.2', gccosandvers=''
intsize=4, longsize=8, ptrsize=8, doublesize=8, byteorder=12345678
d_longlong=define, longlongsize=8, d_longdbl=define, longdblsize=16
ivtype='long', ivsize=8, nvtype='double', nvsize=8, Off_t='off_t', lseeksize=8
alignbytes=8, prototype=define
Linker and Libraries:
ld='cc', ldflags =' -fstack-protector -L/usr/local/lib'
libpth=/usr/local/lib /lib/x86_64-linux-gnu /lib/../lib /usr/lib/x86_64-linux-gnu /usr/lib/../lib /lib /usr/lib
libs=-lnsl -ldl -lm -lcrypt -lutil -lc
perllibs=-lnsl -ldl -lm -lcrypt -lutil -lc
libc=, so=so, useshrplib=false, libperl=libperl.a
gnulibc_version='2.19'
Dynamic Linking:
dlsrc=dl_dlopen.xs, dlext=so, d_dlsymun=undef, ccdlflags='-Wl,-E'
cccdlflags='-fPIC', lddlflags='-shared -O2 -L/usr/local/lib -fstack-protector'
Characteristics of this binary (from libperl):
Compile-time options: PERL_DONT_CREATE_GVSV PERL_MALLOC_WRAP
PERL_PRESERVE_IVUV USE_64_BIT_ALL USE_64_BIT_INT
USE_LARGE_FILES USE_PERLIO USE_PERL_ATOF
Built under linux
Compiled at Jul 11 2015 01:43:29
%ENV:
PERL5LIB=""
PERL5OPT=""
PERL5_CPANPLUS_IS_RUNNING="14357"
PERL5_CPAN_IS_RUNNING="14357"
PERL5_CPAN_IS_RUNNING_IN_RECURSION="7685,14357"
PERL_CR_SMOKER_CURRENT="Text-Tradition-Analysis-2.0.2"
PERL_EXTUTILS_AUTOINSTALL="--defaultdeps"
PERL_MM_USE_DEFAULT="1"
@INC:
/home/stro/perl/5.14.4/lib/site_perl/5.14.4/x86_64-linux
/home/stro/perl/5.14.4/lib/site_perl/5.14.4
/home/stro/perl/5.14.4/lib/5.14.4/x86_64-linux
/home/stro/perl/5.14.4/lib/5.14.4
.