Test-BrewBuild v2.22 Perl 5 v5.14.4 x86_64-linux

Status
Pass
From
Slaven Rezić (SREZIC)
Dist
Test-BrewBuild v2.22
Platform
Perl 5 v5.14.4 x86_64-linux
Date
2019-10-21 14:55:50
ID
df64b4d8-f412-11e9-8e81-9e501f24ea8f
This distribution has been tested as part of the CPAN Testers
project, supporting the Perl programming language.  See
http://wiki.cpantesters.org/ for more information or email
questions to cpan-testers-discuss@perl.org


--
Dear Steve Bertrand,

This is a computer-generated report for Test-BrewBuild-2.22
on perl 5.14.4, created by CPAN-Reporter-1.2018.

Thank you for uploading your work to CPAN.  Congratulations!
All tests were successful.

Sections of this report:

    * Tester comments
    * Program output
    * Prerequisites
    * Environment and other context

------------------------------
TESTER COMMENTS
------------------------------

Additional comments from tester:

none provided

------------------------------
PROGRAM OUTPUT
------------------------------

Output from '/usr/bin/make test':

PERL_DL_NONLAZY=1 "/data/perl/perl-5.14.4/bin/perl" "-MExtUtils::Command::MM" "-MTest::Harness" "-e" "undef *Test::Harness::Switches; test_harness(0, 'blib/lib', 'blib/arch')" t/*.t t/*/*.t
t/00-00-load.t ...................................... ok
t/test_api/00-api-BB_plugins.t ...................... ok
t/test_api/05-api-BB_brew_info.t .................... skipped: perlbrew not installed... skipping
t/test_api/10-api-BB_perls_avaliable.t .............. skipped: perlbrew not installed... skipping
t/test_api/100-api-BB_install_all.t ................. skipped: developer tests only
t/test_api/105-re.t ................................. ok
t/test_api/15-api-BB_is_win.t ....................... skipped: developer tests only
t/test_api/20-api-BB_perls_installed.t .............. skipped: perlbrew not installed... skipping
t/test_api/25-api-BB_log.t .......................... skipped: perlbrew not installed... skipping
t/test_api/30-api-BC.t .............................. skipped: developer tests only
t/test_api/35-api-BB_instance_remove.t .............. ok
t/test_api/40-api-BB_instance_install.t ............. skipped: developer tests only
t/test_api/45-api-TestPluginInst.t .................. ok
t/test_api/50-api-BC_using.t ........................ skipped: developer tests only
t/test_api/55-api-BB_workdir.t ...................... ok
t/test_api/60-api-Git.t ............................. skipped: developer tests only
t/test_api/65-api-Dispatch_forks.t .................. ok
t/test_api/70-api-BB_legacy.t ....................... ok
t/test_api/75-api-Tester.t .......................... skipped: developer tests only
t/test_api/80-api-BB_install_timeout.t .............. skipped: developer tests only
t/test_api/85-api-BB_inst_rand_dups.t ............... ok
t/test_api/90-api-BB_inst_release_candidates.t ...... skipped: developer tests only
t/test_api/95-api-BB_revdep_with_metacpan_client.t .. skipped: developer only test
t/test_author/99-manifest.t ......................... skipped: Author tests not required for installation
t/test_author/99-pod-coverage.t ..................... skipped: Author tests not required for installation
t/test_author/99-pod.t .............................. skipped: Author tests not required for installation
t/test_bugs/142-tester_handle_non_repo.t ............ skipped: developer tests only
t/test_bugs/164_dispatch_show_help_on_bad_args.t .... skipped: developer tests only
t/test_config/05-tester-config.t .................... skipped: developer tests only
t/test_config/10-brewbuild-config.t ................. ok
t/test_dispatch/05-dispatch-bad_command.t ........... skipped: developer tests only
t/test_dispatch/10-dispatch-revdep_pass.t ........... skipped: developer tests only
t/test_dispatch/15-dispatch-fail.t .................. skipped: developer tests only
t/test_dispatch/25-dispatch-default_port.t .......... skipped: developer tests only
t/test_dispatch/30-dispatch-notest.t ................ skipped: developer tests only
t/test_dispatch/40-dispatch-install.t ............... skipped: developer tests only
t/test_dispatch/45-dispatch-new.t ................... skipped: developer tests only
t/test_log/05-log-revdep_global_full_verbose.t ...... skipped: developer tests only
t/test_log/10-log-revdep_save_log_files.t ........... skipped: developer tests only
t/test_log/15-log-Tester.t .......................... skipped: developer tests only
t/test_log/20-log-Dispatch.t ........................ skipped: developer tests only
t/test_log/25-log-test_global_full_verbose.t ........ skipped: developer tests only
t/test_log/30-Git.t ................................. skipped: developer tests only
t/z_clean.t ......................................... ok
All tests successful.
Files=44, Tests=64,  5 wallclock secs ( 0.08 usr  0.23 sys +  3.57 cusr  1.06 csys =  4.94 CPU)
Result: PASS

------------------------------
PREREQUISITES
------------------------------

Prerequisite modules loaded:

requires:

    Module                               Need  Have    
    ------------------------------------ ----- --------
    App::cpanminus                       0     1.7044  
    Archive::Extract                     0     0.80    
    Capture::Tiny                        0     0.48    
    Config::Tiny                         0     2.23    
    File::Copy::Recursive                0     0.45    
    Logging::Simple                      1.04  1.04    
    LWP::Simple                          0     6.39    
    MetaCPAN::Client                     2.017 2.026000
    Module::Load                         0     0.32    
    Parallel::ForkManager                0     2.02    
    perl                                 5.01  5.014004
    Plugin::Simple                       1.01  1.01    
    POSIX                                0     1.24    
    Proc::Background                     0     1.10    
    Test::BrewBuild::Plugin::Author      0.02  0.03    
    Test::BrewBuild::Plugin::TestAgainst 0.06  0.06    
    version                              0     0.9924  

build_requires:

    Module                               Need  Have    
    ------------------------------------ ----- --------
    Archive::Zip                         0     1.67    
    Mock::Sub                            1.07  1.09    

configure_requires:

    Module                               Need  Have    
    ------------------------------------ ----- --------
    ExtUtils::MakeMaker                  0     7.38    


------------------------------
ENVIRONMENT AND OTHER CONTEXT
------------------------------

Environment variables:

    LANG = C
    PATH = /usr/local/bin:/usr/bin:/bin:/usr/local/sbin:/usr/sbin:/sbin:/home/cpansand/bin/linux-gnu:/home/cpansand/bin/sh:/home/cpansand/bin:/usr/games:/home/cpansand/devel:/home/eserte/src/srezic-misc/scripts
    PERL5LIB = 
    PERL5OPT = 
    PERL5_CPANPLUS_IS_RUNNING = 2420
    PERL5_CPAN_IS_RUNNING = 2420
    PERL5_CPAN_IS_RUNNING_IN_RECURSION = 30741,2420
    PERLDOC = -MPod::Perldoc::ToTextOverstrike
    PERL_BATCH = yes
    PERL_CANARY_STABILITY_NOPROMPT = 1
    PERL_CPAN_REPORTER_CONFIG = /var/tmp/cpansmoker-1023/2019101917/cpanreporter_000_config.ini
    PERL_EXTUTILS_AUTOINSTALL = --defaultdeps
    PERL_USE_UNSAFE_INC = 1
    SHELL = /usr/bin/zsh
    TERM = screen
    TMPDIR = /var/tmp/cpansmoker-1023/2019101917

Perl special variables (and OS-specific diagnostics, for MSWin32):

    $^X = /data/perl/perl-5.14.4/bin/perl
    $UID/$EUID = 1023 / 1023
    $GID = 1023 1023
    $EGID = 1023 1023

Perl module toolchain versions installed:

    Module              Have    
    ------------------- --------
    CPAN                2.26    
    CPAN::Meta          2.150010
    Cwd                 3.75    
    ExtUtils::CBuilder  0.280231
    ExtUtils::Command   7.38    
    ExtUtils::Install   2.06    
    ExtUtils::MakeMaker 7.38    
    ExtUtils::Manifest  1.70    
    ExtUtils::ParseXS   3.35    
    File::Spec          3.75    
    JSON                4.02    
    JSON::PP            4.04    
    Module::Build       0.4229  
    Module::Signature   0.83    
    Parse::CPAN::Meta   2.150010
    Test::Harness       3.42    
    Test::More          1.302164
    YAML                1.29    
    YAML::Syck          1.31    
    version             0.9924  


--

Summary of my perl5 (revision 5 version 14 subversion 4) configuration:
   
  Platform:
    osname=linux, osvers=4.9.0-8-amd64, archname=x86_64-linux
    uname='linux eserte 4.9.0-8-amd64 #1 smp debian 4.9.130-2 (2018-10-27) x86_64 gnulinux '
    config_args='-ds -e -Dprefix=/opt/perl-5.14.4 -Dcf_email=srezic@cpan.org'
    hint=recommended, useposix=true, d_sigaction=define
    useithreads=undef, usemultiplicity=undef
    useperlio=define, d_sfio=undef, uselargefiles=define, usesocks=undef
    use64bitint=define, use64bitall=define, uselongdouble=undef
    usemymalloc=n, bincompat5005=undef
  Compiler:
    cc='cc', ccflags ='-fno-strict-aliasing -pipe -fstack-protector -I/usr/local/include -D_LARGEFILE_SOURCE -D_FILE_OFFSET_BITS=64',
    optimize='-O2',
    cppflags='-fno-strict-aliasing -pipe -fstack-protector -I/usr/local/include'
    ccversion='', gccversion='6.3.0 20170516', gccosandvers=''
    intsize=4, longsize=8, ptrsize=8, doublesize=8, byteorder=12345678
    d_longlong=define, longlongsize=8, d_longdbl=define, longdblsize=16
    ivtype='long', ivsize=8, nvtype='double', nvsize=8, Off_t='off_t', lseeksize=8
    alignbytes=8, prototype=define
  Linker and Libraries:
    ld='cc', ldflags =' -fstack-protector -L/usr/local/lib'
    libpth=/usr/local/lib /lib/x86_64-linux-gnu /lib/../lib /usr/lib/x86_64-linux-gnu /usr/lib/../lib /lib /usr/lib
    libs=-lnsl -ldb -ldl -lm -lcrypt -lutil -lc
    perllibs=-lnsl -ldl -lm -lcrypt -lutil -lc
    libc=libc-2.24.so, so=so, useshrplib=false, libperl=libperl.a
    gnulibc_version='2.24'
  Dynamic Linking:
    dlsrc=dl_dlopen.xs, dlext=so, d_dlsymun=undef, ccdlflags='-Wl,-E'
    cccdlflags='-fPIC', lddlflags='-shared -O2 -L/usr/local/lib -fstack-protector'


Characteristics of this binary (from libperl): 
  Compile-time options: PERL_DONT_CREATE_GVSV PERL_MALLOC_WRAP
                        PERL_PRESERVE_IVUV USE_64_BIT_ALL USE_64_BIT_INT
                        USE_LARGE_FILES USE_PERLIO USE_PERL_ATOF
  Locally applied patches:
	Devel::PatchPerl 1.46
  Built under linux
  Compiled at Jan  4 2019 19:32:45
  %ENV:
    PERL5LIB=""
    PERL5OPT=""
    PERL5_CPANPLUS_IS_RUNNING="2420"
    PERL5_CPAN_IS_RUNNING="2420"
    PERL5_CPAN_IS_RUNNING_IN_RECURSION="30741,2420"
    PERLDOC="-MPod::Perldoc::ToTextOverstrike"
    PERL_BATCH="yes"
    PERL_CANARY_STABILITY_NOPROMPT="1"
    PERL_CPAN_REPORTER_CONFIG="/var/tmp/cpansmoker-1023/2019101917/cpanreporter_000_config.ini"
    PERL_EXTUTILS_AUTOINSTALL="--defaultdeps"
    PERL_USE_UNSAFE_INC="1"
  @INC:
    /opt/perl-5.14.4/lib/site_perl/5.14.4/x86_64-linux
    /opt/perl-5.14.4/lib/site_perl/5.14.4
    /opt/perl-5.14.4/lib/5.14.4/x86_64-linux
    /opt/perl-5.14.4/lib/5.14.4
    .