Back
From: metabase:user:6970b1ae-1421-11e4-ab07-c64c76713efd
Subject: PASS MKDoc-XML-0.75 v5.16.2 Mac OS X
Date: 2014-08-03T22:45:29Z
This distribution has been tested as part of the CPAN Testers
project, supporting the Perl programming language. See
http://wiki.cpantesters.org/ for more information or email
questions to cpan-testers-discuss@perl.org
--
Dear Bruno Postle,
This is a computer-generated report for MKDoc-XML-0.75
on perl 5.16.2, created by CPAN-Reporter-1.2011.
Thank you for uploading your work to CPAN. Congratulations!
All tests were successful.
Sections of this report:
* Tester comments
* Program output
* Prerequisites
* Environment and other context
------------------------------
TESTER COMMENTS
------------------------------
Additional comments from tester:
none provided
------------------------------
PROGRAM OUTPUT
------------------------------
Output from '/usr/bin/make test':
PERL_DL_NONLAZY=1 /usr/bin/perl "-MExtUtils::Command::MM" "-MTest::Harness" "-e" "undef *Test::Harness::Switches; test_harness(0, 'blib/lib', 'blib/arch')" t/*.t
t/000_MKDoc_XML_Token.t ................... ok
t/001_MKDoc_XML_Token_tag_open.t .......... ok
t/002_MKDoc_XML_Token_tag_self_close.t .... ok
t/100_MKDoc_XML_Tokenizer.t ............... ok
t/101_MKDoc_XML_Tokenizer_Comment.t ....... ok
t/102_MKDoc_XML_Tokenizer_Attributes.t .... ok
t/200_MKDoc_XML_TreeBuilder.t ............. ok
t/201_MKDoc_XML_TreeBuilder_Root.t ........ ok
t/300_MKDoc_XML_Tagger.t .................. ok
t/301_MKDoc_XML_Tagger_Preserve.t ......... ok
t/302_MKDoc_XML_Tagger_Spaces.t ........... ok
t/303_MKDoc_XML_Tagger_Nesting.t .......... ok
t/304_MKDoc_XML_Tagger_Numbers.t .......... ok
t/305_MKDoc_XML_tagger_ampersand.t ........ ok
t/400_MKDoc_XML_Stripper.t ................ ok
t/401_MKDoc_XML_Stripper_p_not_closing.t .. ok
t/402_MKDoc_XML_Stripper_def.t ............ ok
t/500_MKDoc_XML_Decode.t .................. ok
t/501_MKDoc_XML_DecodeHO.t ................ ok
t/502_MKDoc_XML_Encode.t .................. ok
t/600_MKDoc_XML_Dumper_Freeze.t ........... ok
t/601_MKDoc_XML_Dumper_Thaw.t ............. ok
t/602_MKDoc_XML_Dumper_Round.t ............ ok
t/603_MKDoc_XML_Dumper_Compat.t ........... ok
t/604_MKDoc_XML_Dumper_Entities.t ......... ok
t/700_MKDoc_XML_TreePrinter.t ............. ok
All tests successful.
Files=26, Tests=400, 1 wallclock secs ( 0.14 usr 0.06 sys + 1.18 cusr 0.20 csys = 1.58 CPU)
Result: PASS
------------------------------
PREREQUISITES
------------------------------
Prerequisite modules loaded:
requires:
Module Need Have
------------------- ---- --------
Scalar::Util 1.07 1.39
Test::More 0.47 1.001003
build_requires:
Module Need Have
------------------- ---- --------
ExtUtils::MakeMaker 0 6.98
------------------------------
ENVIRONMENT AND OTHER CONTEXT
------------------------------
Environment variables:
LANG = en_US.UTF-8
PATH = /usr/bin:/bin:/usr/sbin:/sbin:/usr/local/bin
PERL5LIB =
PERL5OPT =
PERL5_CPANPLUS_IS_RUNNING = 2184
PERL5_CPAN_IS_RUNNING = 2184
SHELL = /bin/bash
TERM = xterm-256color
VERSIONER_PERL_PREFER_32_BIT = no
VERSIONER_PERL_VERSION = 5.16
Perl special variables (and OS-specific diagnostics, for MSWin32):
$^X = /usr/bin/perl
$UID/$EUID = 0 / 0
$GID = 0 0 1 2 3 4 5 8 9 12 20 29 61 80 401 33 98 100 204 398 399
$EGID = 0 0 1 2 3 4 5 8 9 12 20 29 61 80 401 33 98 100 204 398 399
Perl module toolchain versions installed:
Module Have
------------------- --------
CPAN 2.05
CPAN::Meta 2.142060
Cwd 3.47
ExtUtils::CBuilder 0.280206
ExtUtils::Command 1.17
ExtUtils::Install 1.58
ExtUtils::MakeMaker 6.98
ExtUtils::Manifest 1.61
ExtUtils::ParseXS 3.24
File::Spec 3.47
JSON 2.90
JSON::PP 2.27203
Module::Build 0.4206
Module::Signature n/a
Parse::CPAN::Meta 1.4414
Test::Harness 3.32
Test::More 1.001003
YAML 0.97
YAML::Syck 1.21
version 0.9908
--
Summary of my perl5 (revision 5 version 16 subversion 2) configuration:
Platform:
osname=darwin, osvers=13.0, archname=darwin-thread-multi-2level
uname='darwin jackson.apple.com 13.0 darwin kernel version 13.0.0: tue jul 30 20:52:22 pdt 2013; root:xnu-2422.1.53~3release_x86_64 x86_64 '
config_args='-ds -e -Dprefix=/usr -Dccflags=-g -pipe -Dldflags= -Dman3ext=3pm -Duseithreads -Duseshrplib -Dinc_version_list=none -Dcc=cc'
hint=recommended, useposix=true, d_sigaction=define
useithreads=define, usemultiplicity=define
useperlio=define, d_sfio=undef, uselargefiles=define, usesocks=undef
use64bitint=define, use64bitall=define, uselongdouble=undef
usemymalloc=n, bincompat5005=undef
Compiler:
cc='cc', ccflags ='-arch x86_64 -arch i386 -g -pipe -fno-common -DPERL_DARWIN -fno-strict-aliasing -fstack-protector -I/usr/local/include',
optimize='-Os',
cppflags='-g -pipe -fno-common -DPERL_DARWIN -fno-strict-aliasing -fstack-protector -I/usr/local/include'
ccversion='', gccversion='4.2.1 Compatible Apple LLVM 5.0 (clang-500.0.68)', gccosandvers=''
intsize=4, longsize=8, ptrsize=8, doublesize=8, byteorder=12345678
d_longlong=define, longlongsize=8, d_longdbl=define, longdblsize=16
ivtype='long', ivsize=8, nvtype='double', nvsize=8, Off_t='off_t', lseeksize=8
alignbytes=8, prototype=define
Linker and Libraries:
ld='cc -mmacosx-version-min=10.9', ldflags ='-arch x86_64 -arch i386 -fstack-protector -L/usr/local/lib'
libpth=/usr/local/lib /usr/lib
libs=
perllibs=
libc=, so=dylib, useshrplib=true, libperl=libperl.dylib
gnulibc_version=''
Dynamic Linking:
dlsrc=dl_dlopen.xs, dlext=bundle, d_dlsymun=undef, ccdlflags=' '
cccdlflags=' ', lddlflags='-arch x86_64 -arch i386 -bundle -undefined dynamic_lookup -L/usr/local/lib -fstack-protector'
Characteristics of this binary (from libperl):
Compile-time options: HAS_TIMES MULTIPLICITY PERLIO_LAYERS
PERL_DONT_CREATE_GVSV PERL_IMPLICIT_CONTEXT
PERL_MALLOC_WRAP PERL_PRESERVE_IVUV USE_64_BIT_ALL
USE_64_BIT_INT USE_ITHREADS USE_LARGE_FILES
USE_LOCALE USE_LOCALE_COLLATE USE_LOCALE_CTYPE
USE_LOCALE_NUMERIC USE_PERLIO USE_PERL_ATOF
USE_REENTRANT_API
Locally applied patches:
/Library/Perl/Updates/<version> comes before system perl directories
installprivlib and installarchlib points to the Updates directory
CVE-2013-1667 hashtable DOS fix
Built under darwin
Compiled at Aug 25 2013 01:24:40
%ENV:
PERL5LIB=""
PERL5OPT=""
PERL5_CPANPLUS_IS_RUNNING="2184"
PERL5_CPAN_IS_RUNNING="2184"
@INC:
/Library/Perl/5.16/darwin-thread-multi-2level
/Library/Perl/5.16
/Network/Library/Perl/5.16/darwin-thread-multi-2level
/Network/Library/Perl/5.16
/Library/Perl/Updates/5.16.2/darwin-thread-multi-2level
/Library/Perl/Updates/5.16.2
/System/Library/Perl/5.16/darwin-thread-multi-2level
/System/Library/Perl/5.16
/System/Library/Perl/Extras/5.16/darwin-thread-multi-2level
/System/Library/Perl/Extras/5.16
.