Report for Dist-Zilla-Plugin-CheckExtraTests-0.021

Back
From: metabase:user:bde34802-c222-11e2-9634-0f85d716587b
Subject: PASS Dist-Zilla-Plugin-CheckExtraTests-0.021 v5.18.2 GNU/Linux
Date: 2014-03-27T21:43:43Z

This distribution has been tested as part of the CPAN Testers
project, supporting the Perl programming language.  See
http://wiki.cpantesters.org/ for more information or email
questions to cpan-testers-discuss@perl.org


--
Dear DAGOLDEN,

This is a computer-generated report for Dist-Zilla-Plugin-CheckExtraTests-0.021
on perl 5.18.2, created by App::cpanminus::reporter 0.10 (1.7001).

Thank you for uploading your work to CPAN.  Congratulations!
All tests were successful.

Sections of this report:

    * Tester comments
    * Program output
    * Prerequisites
    * Environment and other context

------------------------------
TESTER COMMENTS
------------------------------

Additional comments from tester:

none provided

------------------------------
PROGRAM OUTPUT
------------------------------

Output from '':

Building and testing Dist-Zilla-Plugin-CheckExtraTests-0.021
cp lib/Dist/Zilla/App/Command/xtest.pm blib/lib/Dist/Zilla/App/Command/xtest.pm
cp lib/Dist/Zilla/Plugin/CheckExtraTests.pm blib/lib/Dist/Zilla/Plugin/CheckExtraTests.pm
cp lib/Dist/Zilla/Plugin/RunExtraTests.pm blib/lib/Dist/Zilla/Plugin/RunExtraTests.pm
Manifying blib/man3/Dist::Zilla::App::Command::xtest.3
Manifying blib/man3/Dist::Zilla::Plugin::CheckExtraTests.3
Manifying blib/man3/Dist::Zilla::Plugin::RunExtraTests.3
PERL_DL_NONLAZY=1 /home/rsrchboy/perl5/perlbrew/perls/5.18.2/bin/perl "-MExtUtils::Command::MM" "-MTest::Harness" "-e" "undef *Test::Harness::Switches; test_harness(0, 'blib/lib', 'blib/arch')" t/*.t
# 
# Versions for all modules listed in MYMETA.json (including optional ones):
#    Version Module                          
#   -------- --------------------------------
#       3.30 App::Prove                      
#       1.96 Archive::Tar                    
#   2.140640 CPAN::Meta                      
#      2.125 CPAN::Meta::Requirements        
#       0.24 Capture::Tiny                   
#      5.014 Dist::Zilla                     
#      5.014 Dist::Zilla::App                
#      5.014 Dist::Zilla::App::Tester        
#      5.014 Dist::Zilla::Role::BeforeRelease
#      5.014 Dist::Zilla::Role::TestRunner   
#      5.014 Dist::Zilla::Tester             
#       6.90 ExtUtils::MakeMaker             
#       3.40 File::Spec::Functions           
#      1.005 File::pushd                     
#       1.38 List::Util                      
#     2.1204 Moose                           
#       0.15 Moose::Autobox                  
#       1.07 Params::Util                    
#      1.008 Path::Iterator::Rule            
#      0.052 Path::Tiny                      
#      0.987 Sub::Exporter                   
#   1.001002 Test::More                      
#       0.07 Test::Requires                  
#       0.19 Try::Tiny                       
#       0.63 lib                             
#       0.15 namespace::autoclean            
#       1.07 strict                          
#     0.9902 version                         
#       1.18 warnings                        
t/00-report-prereqs.t .. ok
t/checkxt.t ............ ok
t/runxt.t .............. ok
t/withblib.t ........... ok
All tests successful.
Files=4, Tests=16,  4 wallclock secs ( 0.02 usr  0.00 sys +  4.10 cusr  0.57 csys =  4.69 CPU)
Result: PASS

------------------------------
PREREQUISITES
------------------------------

Prerequisite modules loaded:

    No requirements found

------------------------------
ENVIRONMENT AND OTHER CONTEXT
------------------------------

Environment variables:

    LANG = en_US.UTF-8
    LANGUAGE = en_US
    LC_CTYPE = en_US.UTF-8
    PATH = /home/rsrchboy/.perlbrew/libs/5.18.2@master/bin:/home/rsrchboy/perl5/perlbrew/bin:/home/rsrchboy/perl5/perlbrew/perls/5.18.2/bin:/home/rsrchboy/bin:/home/rsrchboy/.gem/ruby/1.8/bin:/opt/OpenPrinting-Gutenprint/sbin:/opt/OpenPrinting-Gutenprint/bin:/usr/lib/lightdm/lightdm:/usr/local/sbin:/usr/local/bin:/usr/sbin:/usr/bin:/sbin:/bin:/usr/games:/usr/local/games
    PERL5LIB = /home/rsrchboy/.perlbrew/libs/5.18.2@master/lib/perl5
    PERLBREW_BASHRC_VERSION = 0.66
    PERLBREW_HOME = /home/rsrchboy/.perlbrew
    PERLBREW_LIB = master
    PERLBREW_MANPATH = /home/rsrchboy/.perlbrew/libs/5.18.2@master/man:/home/rsrchboy/perl5/perlbrew/perls/5.18.2/man
    PERLBREW_PATH = /home/rsrchboy/.perlbrew/libs/5.18.2@master/bin:/home/rsrchboy/perl5/perlbrew/bin:/home/rsrchboy/perl5/perlbrew/perls/5.18.2/bin
    PERLBREW_PERL = 5.18.2
    PERLBREW_ROOT = /home/rsrchboy/perl5/perlbrew
    PERLBREW_VERSION = 0.66
    PERL_LOCAL_LIB_ROOT = /home/rsrchboy/.perlbrew/libs/5.18.2@master
    PERL_MB_OPT = --install_base /home/rsrchboy/.perlbrew/libs/5.18.2@master
    PERL_MM_OPT = INSTALL_BASE=/home/rsrchboy/.perlbrew/libs/5.18.2@master
    SHELL = /bin/zsh
    TEMP = /tmp/user/1000
    TERM = screen-256color
    TMPDIR = /tmp/user/1000

Perl special variables (and OS-specific diagnostics, for MSWin32):

    EGID = 1000 4 24 27 30 46 104 112 121 124 999 1000
    EUID = 1000
    EXECUTABLE_NAME = /home/rsrchboy/perl5/perlbrew/perls/5.18.2/bin/perl
    GID = 1000 4 24 27 30 46 104 112 121 124 999 1000
    UID = 1000

Perl module toolchain versions installed:

    Module              Have    
    ------------------- --------
    CPAN                2.00    
    CPAN::Meta          2.140640
    Cwd                 3.40    
    ExtUtils::CBuilder  0.280216
    ExtUtils::Command   1.18    
    ExtUtils::Install   1.63    
    ExtUtils::MakeMaker 6.90    
    ExtUtils::Manifest  1.63    
    ExtUtils::ParseXS   3.24    
    File::Spec          3.40    
    JSON                2.90    
    JSON::PP            2.27203 
    Module::Build       0.4205  
    Module::Signature   0.73    
    Parse::CPAN::Meta   1.4414  
    Test::Harness       3.30    
    Test::More          1.001003
    YAML                0.90    
    YAML::Syck          1.27    
    version             0.9908  


--

Summary of my perl5 (revision 5 version 18 subversion 2) configuration:
   
  Platform:
    osname=linux, osvers=3.11.0-18-generic, archname=x86_64-linux
    uname='linux tychon 3.11.0-18-generic #32-ubuntu smp tue feb 18 21:11:14 utc 2014 x86_64 x86_64 x86_64 gnulinux '
    config_args='-de -Dprefix=/home/rsrchboy/perl5/perlbrew/perls/5.18.2 -Aeval:scriptdir=/home/rsrchboy/perl5/perlbrew/perls/5.18.2/bin'
    hint=recommended, useposix=true, d_sigaction=define
    useithreads=undef, usemultiplicity=undef
    useperlio=define, d_sfio=undef, uselargefiles=define, usesocks=undef
    use64bitint=define, use64bitall=define, uselongdouble=undef
    usemymalloc=n, bincompat5005=undef
  Compiler:
    cc='cc', ccflags ='-fno-strict-aliasing -pipe -fstack-protector -I/usr/local/include -D_LARGEFILE_SOURCE -D_FILE_OFFSET_BITS=64',
    optimize='-O2',
    cppflags='-fno-strict-aliasing -pipe -fstack-protector -I/usr/local/include'
    ccversion='', gccversion='4.8.1', gccosandvers=''
    intsize=4, longsize=8, ptrsize=8, doublesize=8, byteorder=12345678
    d_longlong=define, longlongsize=8, d_longdbl=define, longdblsize=16
    ivtype='long', ivsize=8, nvtype='double', nvsize=8, Off_t='off_t', lseeksize=8
    alignbytes=8, prototype=define
  Linker and Libraries:
    ld='cc', ldflags =' -fstack-protector -L/usr/local/lib'
    libpth=/usr/local/lib /lib/x86_64-linux-gnu /lib/../lib /usr/lib/x86_64-linux-gnu /usr/lib/../lib /lib /usr/lib
    libs=-lnsl -ldl -lm -lcrypt -lutil -lc
    perllibs=-lnsl -ldl -lm -lcrypt -lutil -lc
    libc=libc-2.17.so, so=so, useshrplib=false, libperl=libperl.a
    gnulibc_version='2.17'
  Dynamic Linking:
    dlsrc=dl_dlopen.xs, dlext=so, d_dlsymun=undef, ccdlflags='-Wl,-E'
    cccdlflags='-fPIC', lddlflags='-shared -O2 -L/usr/local/lib -fstack-protector'


Characteristics of this binary (from libperl): 
  Compile-time options: HAS_TIMES PERLIO_LAYERS PERL_DONT_CREATE_GVSV
                        PERL_HASH_FUNC_ONE_AT_A_TIME_HARD PERL_MALLOC_WRAP
                        PERL_PRESERVE_IVUV PERL_SAWAMPERSAND USE_64_BIT_ALL
                        USE_64_BIT_INT USE_LARGE_FILES USE_LOCALE
                        USE_LOCALE_COLLATE USE_LOCALE_CTYPE
                        USE_LOCALE_NUMERIC USE_PERLIO USE_PERL_ATOF
  Built under linux
  Compiled at Mar 11 2014 13:51:08
  %ENV:
    PERL5LIB="/home/rsrchboy/.perlbrew/libs/5.18.2@master/lib/perl5"
    PERLBREW_BASHRC_VERSION="0.66"
    PERLBREW_HOME="/home/rsrchboy/.perlbrew"
    PERLBREW_LIB="master"
    PERLBREW_MANPATH="/home/rsrchboy/.perlbrew/libs/5.18.2@master/man:/home/rsrchboy/perl5/perlbrew/perls/5.18.2/man"
    PERLBREW_PATH="/home/rsrchboy/.perlbrew/libs/5.18.2@master/bin:/home/rsrchboy/perl5/perlbrew/bin:/home/rsrchboy/perl5/perlbrew/perls/5.18.2/bin"
    PERLBREW_PERL="5.18.2"
    PERLBREW_ROOT="/home/rsrchboy/perl5/perlbrew"
    PERLBREW_VERSION="0.66"
    PERL_LOCAL_LIB_ROOT="/home/rsrchboy/.perlbrew/libs/5.18.2@master"
    PERL_MB_OPT="--install_base /home/rsrchboy/.perlbrew/libs/5.18.2@master"
    PERL_MM_OPT="INSTALL_BASE=/home/rsrchboy/.perlbrew/libs/5.18.2@master"
  @INC:
    /home/rsrchboy/.perlbrew/libs/5.18.2@master/lib/perl5/x86_64-linux
    /home/rsrchboy/.perlbrew/libs/5.18.2@master/lib/perl5
    /home/rsrchboy/perl5/perlbrew/perls/5.18.2/lib/site_perl/5.18.2/x86_64-linux
    /home/rsrchboy/perl5/perlbrew/perls/5.18.2/lib/site_perl/5.18.2
    /home/rsrchboy/perl5/perlbrew/perls/5.18.2/lib/5.18.2/x86_64-linux
    /home/rsrchboy/perl5/perlbrew/perls/5.18.2/lib/5.18.2
    .