MouseX-NativeTraits v1.09 Perl 5 v5.35.11 x86_64-dragonfly
- Status
- Pass
- From
- Carlos Guevara
- Dist
-
MouseX-NativeTraits v1.09
- Platform
- Perl 5 v5.35.11 x86_64-dragonfly
- Date
- 2022-03-26 14:06:00
- ID
- dd85490a-ad0d-11ec-a089-49b5bf46417d
This distribution has been tested as part of the CPAN Testers
project, supporting the Perl programming language. See
http://wiki.cpantesters.org/ for more information or email
questions to cpan-testers-discuss@perl.org
--
Dear Goro Fuji,
This is a computer-generated report for MouseX-NativeTraits-1.09
on perl 5.35.11, created by CPAN-Reporter-1.2018.
Thank you for uploading your work to CPAN. Congratulations!
All tests were successful.
Sections of this report:
* Tester comments
* Program output
* Prerequisites
* Environment and other context
------------------------------
TESTER COMMENTS
------------------------------
Additional comments from tester:
this report is from an automated smoke testing program
and was not reviewed by a human for accuracy
------------------------------
PROGRAM OUTPUT
------------------------------
Output from '/usr/bin/make test':
PERL_DL_NONLAZY=1 "/home/cpan/bin/perl-blead/bin/perl5.35.11" "-MExtUtils::Command::MM" "-MTest::Harness" "-e" "\$ENV{q{ANY_MOOSE}} = q{Mouse}; undef *Test::Harness::Switches; test_harness(0, 'inc', 'blib/lib', 'blib/arch'); " t/*.t t/070_native_traits/*.t
# Testing MouseX::NativeTraits/1.09
# Dependencies:
# Mouse/v2.5.10
t/00_load.t ...................................... ok
Any::Moose is deprecated. Please use Moo instead at t/01_basic.t line 8.
t/01_basic.t ..................................... ok
Any::Moose is deprecated. Please use Moo instead at t/02_meta.t line 7.
t/02_meta.t ...................................... ok
t/03_extra.t ..................................... ok
t/04_counter.t ................................... ok
t/05_remain_tied.t ............................... ok
Any::Moose is deprecated. Please use Moo instead at t/070_native_traits/010_trait_array.t line 8.
t/070_native_traits/010_trait_array.t ............ ok
Any::Moose is deprecated. Please use Moo instead at t/070_native_traits/011_array_subtypes.t line 8.
t/070_native_traits/011_array_subtypes.t ......... ok
t/070_native_traits/012_array_trigger.t .......... ok
t/070_native_traits/013_array_coerce.t ........... skipped: Not supported by MouseX::NativeTraits
Any::Moose is deprecated. Please use Moo instead at t/070_native_traits/020_trait_bool.t line 8.
t/070_native_traits/020_trait_bool.t ............. ok
Any::Moose is deprecated. Please use Moo instead at t/070_native_traits/030_trait_code.t line 6.
t/070_native_traits/030_trait_code.t ............. ok
Any::Moose is deprecated. Please use Moo instead at t/070_native_traits/040_trait_counter.t line 8.
t/070_native_traits/040_trait_counter.t .......... ok
Any::Moose is deprecated. Please use Moo instead at t/070_native_traits/050_trait_hash.t line 8.
t/070_native_traits/050_trait_hash.t ............. ok
t/070_native_traits/051_hash_subtypes.t .......... ok
t/070_native_traits/052_hash_trigger.t ........... ok
t/070_native_traits/053_hash_coerce.t ............ skipped: Not supported by MouseX::NativeTraits
Any::Moose is deprecated. Please use Moo instead at t/070_native_traits/060_trait_number.t line 8.
t/070_native_traits/060_trait_number.t ........... ok
Any::Moose is deprecated. Please use Moo instead at t/070_native_traits/070_trait_string.t line 8.
t/070_native_traits/070_trait_string.t ........... ok
t/070_native_traits/100_array_from_role.t ........ ok
t/070_native_traits/101_remove_attribute.t ....... skipped: Not supported by MouseX::NativeTraits
t/070_native_traits/102_collection_with_roles.t .. ok
t/070_native_traits/103_custom_instance.t ........ skipped: not supproted by MouseX::NativeTraits
All tests successful.
Files=23, Tests=3482, 5 wallclock secs ( 0.55 usr 0.18 sys + 3.49 cusr 0.83 csys = 5.05 CPU)
Result: PASS
------------------------------
PREREQUISITES
------------------------------
Prerequisite modules loaded:
requires:
Module Need Have
------------------- -------- --------
Mouse 0.82 v2.5.10
perl 5.006002 5.035011
build_requires:
Module Need Have
------------------- -------- --------
Any::Moose 0.13 0.27
ExtUtils::MakeMaker 6.59 7.64
Test::Fatal 0.003 0.016
Test::More 0.88 1.302190
configure_requires:
Module Need Have
------------------- -------- --------
ExtUtils::MakeMaker 6.59 7.64
------------------------------
ENVIRONMENT AND OTHER CONTEXT
------------------------------
Environment variables:
AUTOMATED_TESTING = 1
DATE_MANIP_TEST_DM5 = 1
LC_ALL = C
NONINTERACTIVE_TESTING = 1
PATH = /home/cpan/bin/perl-blead/bin:/home/cpan/bin:/sbin:/bin:/usr/sbin:/usr/bin:/usr/games:/usr/local/sbin:/usr/local/bin:/usr/pkg/sbin:/usr/pkg/bin:/home/cpan/bin
PERL5LIB =
PERL5OPT =
PERL5_CPANPLUS_IS_RUNNING = 304091
PERL5_CPAN_IS_RUNNING = 304091
PERL_MM_USE_DEFAULT = 1
PERL_USE_UNSAFE_INC = 1
PERL_VERSION = blead
SHELL = /usr/local/bin/bash
TERM = screen
TMPDIR = /home/cpan/tmp
Perl special variables (and OS-specific diagnostics, for MSWin32):
$^X = /home/cpan/bin/perl-blead/bin/perl5.35.11
$UID/$EUID = 1002 / 1002
$GID = 1002 1002
$EGID = 1002 1002
Perl module toolchain versions installed:
Module Have
------------------- --------
CPAN 2.33
CPAN::Meta 2.150010
Cwd 3.84
ExtUtils::CBuilder 0.280236
ExtUtils::Command 7.64
ExtUtils::Install 2.20
ExtUtils::MakeMaker 7.64
ExtUtils::Manifest 1.73
ExtUtils::ParseXS 3.45
File::Spec 3.84
JSON 4.05
JSON::PP 4.07
Module::Build 0.4231
Module::Signature n/a
Parse::CPAN::Meta 2.150010
Test::Harness 3.43
Test::More 1.302190
YAML 1.30
YAML::Syck 1.34
version 0.9929
--
Summary of my perl5 (revision 5 version 35 subversion 11) configuration:
Commit id: 9e3e2820c0b1a62da54172be27a025f57e691166
Platform:
osname=dragonfly
osvers=6.0-release
archname=x86_64-dragonfly
uname='dragonfly cjg-dragonfly6 6.0-release dragonfly v6.0.1-release #3: mon oct 11 23:59:07 edt 2021 root@www.shiningsilence.com:usrobjhomejustinrelease6_0sysx86_64_generic x86_64 '
config_args='-des -Dprefix=~/bin/perl-blead -Dscriptdir=~/bin/perl-blead/bin -Dusedevel -Duse64bitall'
hint=recommended
useposix=true
d_sigaction=define
useithreads=undef
usemultiplicity=undef
use64bitint=define
use64bitall=define
uselongdouble=undef
usemymalloc=n
default_inc_excludes_dot=define
Compiler:
cc='cc'
ccflags ='-DHAS_FPSETMASK -DHAS_FLOATINGPOINT_H -fwrapv -fno-strict-aliasing -pipe -fstack-protector-strong -I/usr/local/include -D_FORTIFY_SOURCE=2'
optimize='-O2'
cppflags='-DHAS_FPSETMASK -DHAS_FLOATINGPOINT_H -fwrapv -fno-strict-aliasing -pipe -fstack-protector-strong -I/usr/local/include'
ccversion=''
gccversion='8.3 [DragonFly] Release/2019-02-22'
gccosandvers=''
intsize=4
longsize=8
ptrsize=8
doublesize=8
byteorder=12345678
doublekind=3
d_longlong=define
longlongsize=8
d_longdbl=define
longdblsize=16
longdblkind=3
ivtype='long'
ivsize=8
nvtype='double'
nvsize=8
Off_t='off_t'
lseeksize=8
alignbytes=8
prototype=define
Linker and Libraries:
ld='cc'
ldflags ='-Wl,-E -fstack-protector-strong -L/usr/local/lib'
libpth=/usr/lib /usr/local/lib
libs=-lpthread -ldl -lm -lcrypt -lutil -lc
perllibs=-lpthread -ldl -lm -lcrypt -lutil -lc
libc=
so=so
useshrplib=false
libperl=libperl.a
gnulibc_version=''
Dynamic Linking:
dlsrc=dl_dlopen.xs
dlext=so
d_dlsymun=undef
ccdlflags=' '
cccdlflags='-DPIC -fPIC'
lddlflags='-shared -L/usr/local/lib -fstack-protector-strong'
Characteristics of this binary (from libperl):
Compile-time options:
HAS_TIMES
PERLIO_LAYERS
PERL_COPY_ON_WRITE
PERL_DONT_CREATE_GVSV
PERL_MALLOC_WRAP
PERL_OP_PARENT
PERL_PRESERVE_IVUV
PERL_USE_DEVEL
USE_64_BIT_ALL
USE_64_BIT_INT
USE_LARGE_FILES
USE_LOCALE
USE_LOCALE_COLLATE
USE_LOCALE_CTYPE
USE_LOCALE_NUMERIC
USE_LOCALE_TIME
USE_PERLIO
USE_PERL_ATOF
Built under dragonfly
Compiled at Mar 25 2022 22:52:59
%ENV:
PERL5LIB=""
PERL5OPT=""
PERL5_CPANPLUS_IS_RUNNING="304091"
PERL5_CPAN_IS_RUNNING="304091"
PERL_MM_USE_DEFAULT="1"
PERL_USE_UNSAFE_INC="1"
PERL_VERSION="blead"
@INC:
/home/cpan/bin/perl-blead/lib/site_perl/5.35.11/x86_64-dragonfly
/home/cpan/bin/perl-blead/lib/site_perl/5.35.11
/home/cpan/bin/perl-blead/lib/5.35.11/x86_64-dragonfly
/home/cpan/bin/perl-blead/lib/5.35.11
.