Back
From: metabase:user:320bfe00-2aae-11df-837a-5e0a49663a4f
Subject: PASS Slurm-Sacctmgr-1.1.0 v5.25.8 GNU/Linux
Date: 2017-03-16T14:21:37Z
This distribution has been tested as part of the CPAN Testers
project, supporting the Perl programming language. See
http://wiki.cpantesters.org/ for more information or email
questions to cpan-testers-discuss@perl.org
--
Dear Tom Payerle,
This is a computer-generated report for Slurm-Sacctmgr-1.1.0
on perl 5.25.8, created by CPAN-Reporter-1.2018.
Thank you for uploading your work to CPAN. Congratulations!
All tests were successful.
Sections of this report:
* Tester comments
* Program output
* Prerequisites
* Environment and other context
------------------------------
TESTER COMMENTS
------------------------------
Additional comments from tester:
this report is from an automated smoke testing program
and was not reviewed by a human for accuracy
------------------------------
PROGRAM OUTPUT
------------------------------
Output from '/usr/bin/make test':
PERL_DL_NONLAZY=1 "/home/sand/src/perl/repoperls/installed-perls/host/k93msid/v5.25.8/89ad/bin/perl" "-MExtUtils::Command::MM" "-MTest::Harness" "-e" "undef *Test::Harness::Switches; test_harness(0, 'blib/lib', 'blib/arch')" t/*.t
t/000_Slurm-Sacctmgr-use.t .......... ok
t/050_pod.t ......................... skipped: Author tests not required for installation
[VERBOSE] /tmp/loop_over_bdir-32029-Ct7Eh0/Slurm-Sacctmgr-1.1.0-0/t/helpers/echo_cmdline_to_stderr create cluster test-cluster
[VERBOSE] /tmp/loop_over_bdir-32029-Ct7Eh0/Slurm-Sacctmgr-1.1.0-0/t/helpers/echo_cmdline_to_stderr show user cluster='test-cluster' --readonly
[VERBOSE] /tmp/loop_over_bdir-32029-Ct7Eh0/Slurm-Sacctmgr-1.1.0-0/t/helpers/echo_cmdline_to_stderr show user cluster='test-cluster' --parsable2 --noheader --readonly
[DRYRUN] /tmp/loop_over_bdir-32029-Ct7Eh0/Slurm-Sacctmgr-1.1.0-0/t/helpers/echo_cmdline_to_stderr create cluster test-cluster
t/100_Slurm-Sacctmgr-basic.t ........ ok
t/110_lowlevel-utilities.t .......... ok
t/150_Slurm-Sacctmgr-taint.t ........ ok
[DRYRUN] /tmp/loop_over_bdir-32029-Ct7Eh0/Slurm-Sacctmgr-1.1.0-0/t/helpers/echo_cmdline -i add account cluster=yottascale name=abc124 organization=nsa parent=special
[DRYRUN] /tmp/loop_over_bdir-32029-Ct7Eh0/Slurm-Sacctmgr-1.1.0-0/t/helpers/echo_cmdline -i modify account where account=abc124 cluster=yottascale organization=nsa set parent=topsecret rawusage=0
[DRYRUN] /tmp/loop_over_bdir-32029-Ct7Eh0/Slurm-Sacctmgr-1.1.0-0/t/helpers/echo_cmdline -i delete account where account=abc124 cluster=yottascale
[DRYRUN] /tmp/loop_over_bdir-32029-Ct7Eh0/Slurm-Sacctmgr-1.1.0-0/t/helpers/echo_cmdline -i add account cluster=yottascale name=abc124 organization=nsa parent=special
[DRYRUN] /tmp/loop_over_bdir-32029-Ct7Eh0/Slurm-Sacctmgr-1.1.0-0/t/helpers/echo_cmdline -i modify account where account=abc124 cluster=yottascale organization=nsa set parent=topsecret rawusage=0
[DRYRUN] /tmp/loop_over_bdir-32029-Ct7Eh0/Slurm-Sacctmgr-1.1.0-0/t/helpers/echo_cmdline -i delete account where account=abc124 cluster=yottascale
t/200_Slurm-SAAccount-echo.t ........ ok
t/205_Slurm-SAAssoc-echo.t .......... ok
[DRYRUN] /tmp/loop_over_bdir-32029-Ct7Eh0/Slurm-Sacctmgr-1.1.0-0/t/helpers/echo_cmdline -i add cluster cluster=yottascale controlhost=ys-master1 controlport=6817 cpucount=20000000 nodecount=1000000 nodenames=compute-[0-99999] rpc=7168
[DRYRUN] /tmp/loop_over_bdir-32029-Ct7Eh0/Slurm-Sacctmgr-1.1.0-0/t/helpers/echo_cmdline -i add cluster cluster=yottascale controlhost=ys-master1 controlport=6817 nodenames=compute-[0-99999] rpc=7168 tres=cpu=20000000,node=1000000
[DRYRUN] /tmp/loop_over_bdir-32029-Ct7Eh0/Slurm-Sacctmgr-1.1.0-0/t/helpers/echo_cmdline -i add cluster cluster=yottascale controlhost=ys-master1 controlport=6817 nodenames=compute-[0-99999] rpc=7168 tres=cpu=20000000,node=1000000
[DRYRUN] /tmp/loop_over_bdir-32029-Ct7Eh0/Slurm-Sacctmgr-1.1.0-0/t/helpers/echo_cmdline -i modify cluster where cluster=yottascale set classificiation=virtual
[DRYRUN] /tmp/loop_over_bdir-32029-Ct7Eh0/Slurm-Sacctmgr-1.1.0-0/t/helpers/echo_cmdline -i modify cluster where cluster=yottascale set cpucount=20000010
[DRYRUN] /tmp/loop_over_bdir-32029-Ct7Eh0/Slurm-Sacctmgr-1.1.0-0/t/helpers/echo_cmdline -i modify cluster where cluster=yottascale set tres=cpu=20000020,node=1000001
[DRYRUN] /tmp/loop_over_bdir-32029-Ct7Eh0/Slurm-Sacctmgr-1.1.0-0/t/helpers/echo_cmdline -i delete cluster where cluster=yottascale
[DRYRUN] /tmp/loop_over_bdir-32029-Ct7Eh0/Slurm-Sacctmgr-1.1.0-0/t/helpers/echo_cmdline -i add cluster cluster=yottascale controlhost=ys-master1 controlport=6817 cpucount=20000000 nodecount=1000000 nodenames=compute-[0-99999] rpc=7168
[DRYRUN] /tmp/loop_over_bdir-32029-Ct7Eh0/Slurm-Sacctmgr-1.1.0-0/t/helpers/echo_cmdline -i add cluster cluster=yottascale controlhost=ys-master1 controlport=6817 nodenames=compute-[0-99999] rpc=7168 tres=cpu=20000000,node=1000000
[DRYRUN] /tmp/loop_over_bdir-32029-Ct7Eh0/Slurm-Sacctmgr-1.1.0-0/t/helpers/echo_cmdline -i add cluster cluster=yottascale controlhost=ys-master1 controlport=6817 nodenames=compute-[0-99999] rpc=7168 tres=cpu=20000000,node=1000000
[DRYRUN] /tmp/loop_over_bdir-32029-Ct7Eh0/Slurm-Sacctmgr-1.1.0-0/t/helpers/echo_cmdline -i modify cluster where cluster=yottascale set classificiation=virtual
[DRYRUN] /tmp/loop_over_bdir-32029-Ct7Eh0/Slurm-Sacctmgr-1.1.0-0/t/helpers/echo_cmdline -i modify cluster where cluster=yottascale set cpucount=20000010
[DRYRUN] /tmp/loop_over_bdir-32029-Ct7Eh0/Slurm-Sacctmgr-1.1.0-0/t/helpers/echo_cmdline -i modify cluster where cluster=yottascale set tres=cpu=20000020,node=1000001
[DRYRUN] /tmp/loop_over_bdir-32029-Ct7Eh0/Slurm-Sacctmgr-1.1.0-0/t/helpers/echo_cmdline -i delete cluster where cluster=yottascale
t/210_Slurm-SACluster-echo.t ........ ok
t/230_Slurm-SAEvent-echo.t .......... ok
[DRYRUN] /tmp/loop_over_bdir-32029-Ct7Eh0/Slurm-Sacctmgr-1.1.0-0/t/helpers/echo_cmdline -i add qos 'description=high-priority qos' gracetime=10 grpcpumins=60000 grpcpus=1000 grpjobs=200 grpnodes=100 grpsubmitjobs=150 grpwall=40000 maxcpumins=120000 maxcpus=2000 maxjobs=400 maxnodes=300 maxsubmitjobs=275 maxwall=80000 name=high-priority preempt=scavenger,normal preemptmode=cluster priority=10 usagefactor=2
[DRYRUN] /tmp/loop_over_bdir-32029-Ct7Eh0/Slurm-Sacctmgr-1.1.0-0/t/helpers/echo_cmdline -i delete qos where name=high-priority
[DRYRUN] /tmp/loop_over_bdir-32029-Ct7Eh0/Slurm-Sacctmgr-1.1.0-0/t/helpers/echo_cmdline -i modify qos where name=high-priority set priority=75
[DRYRUN] /tmp/loop_over_bdir-32029-Ct7Eh0/Slurm-Sacctmgr-1.1.0-0/t/helpers/echo_cmdline -i add qos 'description=high-priority qos' gracetime=10 grpcpumins=60000 grpcpus=1000 grpjobs=200 grpnodes=100 grpsubmitjobs=150 grpwall=40000 maxcpumins=120000 maxcpus=2000 maxjobs=400 maxnodes=300 maxsubmitjobs=275 maxwall=80000 name=high-priority preempt=scavenger,normal preemptmode=cluster priority=10 usagefactor=2
[DRYRUN] /tmp/loop_over_bdir-32029-Ct7Eh0/Slurm-Sacctmgr-1.1.0-0/t/helpers/echo_cmdline -i delete qos where name=high-priority
[DRYRUN] /tmp/loop_over_bdir-32029-Ct7Eh0/Slurm-Sacctmgr-1.1.0-0/t/helpers/echo_cmdline -i modify qos where name=high-priority set priority=75
t/260_Slurm-SACQos-echo.t ........... ok
[DRYRUN] /tmp/loop_over_bdir-32029-Ct7Eh0/Slurm-Sacctmgr-1.1.0-0/t/helpers/echo_cmdline -i add resource allocated=100 cluster=yottascale count=10 description=test name=abaqus percentallowed=100 server=flexlm.umd.edu servertype=flexlm type=License
[DRYRUN] /tmp/loop_over_bdir-32029-Ct7Eh0/Slurm-Sacctmgr-1.1.0-0/t/helpers/echo_cmdline -i modify resource where name=abaqus set count=20
[DRYRUN] /tmp/loop_over_bdir-32029-Ct7Eh0/Slurm-Sacctmgr-1.1.0-0/t/helpers/echo_cmdline -i delete resource where name=abaqus
[DRYRUN] /tmp/loop_over_bdir-32029-Ct7Eh0/Slurm-Sacctmgr-1.1.0-0/t/helpers/echo_cmdline -i add resource allocated=100 cluster=yottascale count=10 description=test name=abaqus percentallowed=100 server=flexlm.umd.edu servertype=flexlm type=License
[DRYRUN] /tmp/loop_over_bdir-32029-Ct7Eh0/Slurm-Sacctmgr-1.1.0-0/t/helpers/echo_cmdline -i modify resource where name=abaqus set count=20
[DRYRUN] /tmp/loop_over_bdir-32029-Ct7Eh0/Slurm-Sacctmgr-1.1.0-0/t/helpers/echo_cmdline -i delete resource where name=abaqus
t/262_Slurm-SAResource-echo.t ....... ok
t/265_Slurm-SATransaction-echo.t .... ok
t/267_Slurm-SATres-echo.t ........... ok
[DRYRUN] /tmp/loop_over_bdir-32029-Ct7Eh0/Slurm-Sacctmgr-1.1.0-0/t/helpers/echo_cmdline -i add user adminlevel=Admin defaultaccount=nsa user=george
[DRYRUN] /tmp/loop_over_bdir-32029-Ct7Eh0/Slurm-Sacctmgr-1.1.0-0/t/helpers/echo_cmdline -i modify user where user=george set defaultaccount=abc124 rawusage=0
[DRYRUN] /tmp/loop_over_bdir-32029-Ct7Eh0/Slurm-Sacctmgr-1.1.0-0/t/helpers/echo_cmdline -i delete user where name=george
[DRYRUN] /tmp/loop_over_bdir-32029-Ct7Eh0/Slurm-Sacctmgr-1.1.0-0/t/helpers/echo_cmdline -i add user adminlevel=Admin defaultaccount=nsa user=george
[DRYRUN] /tmp/loop_over_bdir-32029-Ct7Eh0/Slurm-Sacctmgr-1.1.0-0/t/helpers/echo_cmdline -i modify user where user=george set defaultaccount=abc124 rawusage=0
[DRYRUN] /tmp/loop_over_bdir-32029-Ct7Eh0/Slurm-Sacctmgr-1.1.0-0/t/helpers/echo_cmdline -i delete user where name=george
t/270_Slurm-SAUser-echo.t ........... ok
t/280_Slurm-SAWCKey-echo.t .......... ok
t/500_Slurm-SAAccount-parse.t ....... ok
t/505_Slurm-SAAssoc-parse.t ......... ok
t/510_Slurm-SACluster-parse.t ....... ok
t/530_Slurm-SAEvent-parse.t ......... ok
t/560_Slurm-SAQos-parse.t ........... ok
t/562_Slurm-SAResource-parse.t ...... ok
t/565_Slurm-SATransaction-parse.t ... ok
t/567_Slurm-SATres-parse.t .......... ok
t/570_Slurm-SAUser-parse.t .......... ok
t/580_Slurm-SAWCKey-parse.t ......... ok
[DRYRUN] /tmp/loop_over_bdir-32029-Ct7Eh0/Slurm-Sacctmgr-1.1.0-0/t/helpers/fake_sacctmgr_show+echo -i add account account=xxx 'description=new account' organization=xx
[DRYRUN] /tmp/loop_over_bdir-32029-Ct7Eh0/Slurm-Sacctmgr-1.1.0-0/t/helpers/fake_sacctmgr_show+echo -i delete account where account=aaa
[DRYRUN] /tmp/loop_over_bdir-32029-Ct7Eh0/Slurm-Sacctmgr-1.1.0-0/t/helpers/fake_sacctmgr_show+echo -i delete account where account=aab
[DRYRUN] /tmp/loop_over_bdir-32029-Ct7Eh0/Slurm-Sacctmgr-1.1.0-0/t/helpers/fake_sacctmgr_show+echo -i delete account where account=bbb
[DRYRUN] /tmp/loop_over_bdir-32029-Ct7Eh0/Slurm-Sacctmgr-1.1.0-0/t/helpers/fake_sacctmgr_show+echo -i delete account where account=ccc
[DRYRUN] /tmp/loop_over_bdir-32029-Ct7Eh0/Slurm-Sacctmgr-1.1.0-0/t/helpers/fake_sacctmgr_show+echo -i modify account where account=aaa set 'description=new desc' 'organization=new org'
[DRYRUN] /tmp/loop_over_bdir-32029-Ct7Eh0/Slurm-Sacctmgr-1.1.0-0/t/helpers/fake_sacctmgr_show+echo -i modify account where account=aab set 'description=new desc' 'organization=new org'
[DRYRUN] /tmp/loop_over_bdir-32029-Ct7Eh0/Slurm-Sacctmgr-1.1.0-0/t/helpers/fake_sacctmgr_show+echo -i modify account where account=bbb set 'description=new desc' 'organization=new org'
[DRYRUN] /tmp/loop_over_bdir-32029-Ct7Eh0/Slurm-Sacctmgr-1.1.0-0/t/helpers/fake_sacctmgr_show+echo -i modify account where account=ccc set 'description=new desc' 'organization=new org'
[DRYRUN] /tmp/loop_over_bdir-32029-Ct7Eh0/Slurm-Sacctmgr-1.1.0-0/t/helpers/fake_sacctmgr_show+echo -i add account account=xxx 'description=new account' extra_flag=772 organization=xx
[DRYRUN] /tmp/loop_over_bdir-32029-Ct7Eh0/Slurm-Sacctmgr-1.1.0-0/t/helpers/fake_sacctmgr_show+echo -i modify account where account=aaa set extra_flag=772
[DRYRUN] /tmp/loop_over_bdir-32029-Ct7Eh0/Slurm-Sacctmgr-1.1.0-0/t/helpers/fake_sacctmgr_show+echo -i modify account where account=aab set extra_flag=772 'organization=new org'
[DRYRUN] /tmp/loop_over_bdir-32029-Ct7Eh0/Slurm-Sacctmgr-1.1.0-0/t/helpers/fake_sacctmgr_show+echo -i modify account where account=bbb set 'description=new desc' extra_flag=772
[DRYRUN] /tmp/loop_over_bdir-32029-Ct7Eh0/Slurm-Sacctmgr-1.1.0-0/t/helpers/fake_sacctmgr_show+echo -i modify account where account=ccc set 'description=new desc' extra_flag=772 'organization=new org'
[DRYRUN] /tmp/loop_over_bdir-32029-Ct7Eh0/Slurm-Sacctmgr-1.1.0-0/t/helpers/fake_sacctmgr_show+echo -i modify account where account=aab set 'organization=new org'
[DRYRUN] /tmp/loop_over_bdir-32029-Ct7Eh0/Slurm-Sacctmgr-1.1.0-0/t/helpers/fake_sacctmgr_show+echo -i modify account where account=bbb set 'description=new desc'
[DRYRUN] /tmp/loop_over_bdir-32029-Ct7Eh0/Slurm-Sacctmgr-1.1.0-0/t/helpers/fake_sacctmgr_show+echo -i modify account where account=ccc set 'description=new desc' 'organization=new org'
[DRYRUN] /tmp/loop_over_bdir-32029-Ct7Eh0/Slurm-Sacctmgr-1.1.0-0/t/helpers/fake_sacctmgr_show+echo -i add account account=xxx 'description=new account' organization=xx
[DRYRUN] /tmp/loop_over_bdir-32029-Ct7Eh0/Slurm-Sacctmgr-1.1.0-0/t/helpers/fake_sacctmgr_show+echo -i delete account where account=aaa
[DRYRUN] /tmp/loop_over_bdir-32029-Ct7Eh0/Slurm-Sacctmgr-1.1.0-0/t/helpers/fake_sacctmgr_show+echo -i delete account where account=aab
[DRYRUN] /tmp/loop_over_bdir-32029-Ct7Eh0/Slurm-Sacctmgr-1.1.0-0/t/helpers/fake_sacctmgr_show+echo -i delete account where account=bbb
[DRYRUN] /tmp/loop_over_bdir-32029-Ct7Eh0/Slurm-Sacctmgr-1.1.0-0/t/helpers/fake_sacctmgr_show+echo -i delete account where account=ccc
[DRYRUN] /tmp/loop_over_bdir-32029-Ct7Eh0/Slurm-Sacctmgr-1.1.0-0/t/helpers/fake_sacctmgr_show+echo -i modify account where account=aaa set 'description=new desc' 'organization=new org'
[DRYRUN] /tmp/loop_over_bdir-32029-Ct7Eh0/Slurm-Sacctmgr-1.1.0-0/t/helpers/fake_sacctmgr_show+echo -i modify account where account=aab set 'description=new desc' 'organization=new org'
[DRYRUN] /tmp/loop_over_bdir-32029-Ct7Eh0/Slurm-Sacctmgr-1.1.0-0/t/helpers/fake_sacctmgr_show+echo -i modify account where account=bbb set 'description=new desc' 'organization=new org'
[DRYRUN] /tmp/loop_over_bdir-32029-Ct7Eh0/Slurm-Sacctmgr-1.1.0-0/t/helpers/fake_sacctmgr_show+echo -i modify account where account=ccc set 'description=new desc' 'organization=new org'
[DRYRUN] /tmp/loop_over_bdir-32029-Ct7Eh0/Slurm-Sacctmgr-1.1.0-0/t/helpers/fake_sacctmgr_show+echo -i add account account=xxx 'description=new account' extra_flag=772 organization=xx
[DRYRUN] /tmp/loop_over_bdir-32029-Ct7Eh0/Slurm-Sacctmgr-1.1.0-0/t/helpers/fake_sacctmgr_show+echo -i modify account where account=aaa set extra_flag=772
[DRYRUN] /tmp/loop_over_bdir-32029-Ct7Eh0/Slurm-Sacctmgr-1.1.0-0/t/helpers/fake_sacctmgr_show+echo -i modify account where account=aab set extra_flag=772 'organization=new org'
[DRYRUN] /tmp/loop_over_bdir-32029-Ct7Eh0/Slurm-Sacctmgr-1.1.0-0/t/helpers/fake_sacctmgr_show+echo -i modify account where account=bbb set 'description=new desc' extra_flag=772
[DRYRUN] /tmp/loop_over_bdir-32029-Ct7Eh0/Slurm-Sacctmgr-1.1.0-0/t/helpers/fake_sacctmgr_show+echo -i modify account where account=ccc set 'description=new desc' extra_flag=772 'organization=new org'
[DRYRUN] /tmp/loop_over_bdir-32029-Ct7Eh0/Slurm-Sacctmgr-1.1.0-0/t/helpers/fake_sacctmgr_show+echo -i modify account where account=aab set 'organization=new org'
[DRYRUN] /tmp/loop_over_bdir-32029-Ct7Eh0/Slurm-Sacctmgr-1.1.0-0/t/helpers/fake_sacctmgr_show+echo -i modify account where account=bbb set 'description=new desc'
[DRYRUN] /tmp/loop_over_bdir-32029-Ct7Eh0/Slurm-Sacctmgr-1.1.0-0/t/helpers/fake_sacctmgr_show+echo -i modify account where account=ccc set 'description=new desc' 'organization=new org'
t/600_Slurm-SAAccount-foo_me.t ...... ok
t/605_Slurm-SAAssoc-foo_me.t ........ ok
[DRYRUN] /tmp/loop_over_bdir-32029-Ct7Eh0/Slurm-Sacctmgr-1.1.0-0/t/helpers/fake_sacctmgr_show+echo -i add cluster classification=new cluster=newcluster controlhost=new-master controlport=6818 cpucount=1600 flags=virtual nodecount=100 rpc=7169
[DRYRUN] /tmp/loop_over_bdir-32029-Ct7Eh0/Slurm-Sacctmgr-1.1.0-0/t/helpers/fake_sacctmgr_show+echo -i delete cluster where cluster=test1
[DRYRUN] /tmp/loop_over_bdir-32029-Ct7Eh0/Slurm-Sacctmgr-1.1.0-0/t/helpers/fake_sacctmgr_show+echo -i delete cluster where cluster=yottascale
[DRYRUN] /tmp/loop_over_bdir-32029-Ct7Eh0/Slurm-Sacctmgr-1.1.0-0/t/helpers/fake_sacctmgr_show+echo -i modify cluster where cluster=test1 set 'classification=newer class' flags=deprecated
[DRYRUN] /tmp/loop_over_bdir-32029-Ct7Eh0/Slurm-Sacctmgr-1.1.0-0/t/helpers/fake_sacctmgr_show+echo -i modify cluster where cluster=yottascale set 'classification=newer class' flags=deprecated
[DRYRUN] /tmp/loop_over_bdir-32029-Ct7Eh0/Slurm-Sacctmgr-1.1.0-0/t/helpers/fake_sacctmgr_show+echo -i add cluster classification=new cluster=newcluster controlhost=new-master controlport=6818 cpucount=1600 extra_flag=772 flags=virtual nodecount=100 rpc=7169
[DRYRUN] /tmp/loop_over_bdir-32029-Ct7Eh0/Slurm-Sacctmgr-1.1.0-0/t/helpers/fake_sacctmgr_show+echo -i modify cluster where cluster=test1 set extra_flag=772
[DRYRUN] /tmp/loop_over_bdir-32029-Ct7Eh0/Slurm-Sacctmgr-1.1.0-0/t/helpers/fake_sacctmgr_show+echo -i modify cluster where cluster=yottascale set extra_flag=772 flags=updated
[DRYRUN] /tmp/loop_over_bdir-32029-Ct7Eh0/Slurm-Sacctmgr-1.1.0-0/t/helpers/fake_sacctmgr_show+echo -i modify cluster where cluster=yottascale set flags=updated
[DRYRUN] /tmp/loop_over_bdir-32029-Ct7Eh0/Slurm-Sacctmgr-1.1.0-0/t/helpers/fake_sacctmgr_show+echo -i add cluster classification=new cluster=newcluster controlhost=new-master controlport=6818 flags=virtual rpc=7169 tres=cpu=1600,mem=12800000,node=100
[DRYRUN] /tmp/loop_over_bdir-32029-Ct7Eh0/Slurm-Sacctmgr-1.1.0-0/t/helpers/fake_sacctmgr_show+echo -i delete cluster where cluster=test1
[DRYRUN] /tmp/loop_over_bdir-32029-Ct7Eh0/Slurm-Sacctmgr-1.1.0-0/t/helpers/fake_sacctmgr_show+echo -i delete cluster where cluster=yottascale
[DRYRUN] /tmp/loop_over_bdir-32029-Ct7Eh0/Slurm-Sacctmgr-1.1.0-0/t/helpers/fake_sacctmgr_show+echo -i modify cluster where cluster=test1 set 'classification=newer class' flags=deprecated
[DRYRUN] /tmp/loop_over_bdir-32029-Ct7Eh0/Slurm-Sacctmgr-1.1.0-0/t/helpers/fake_sacctmgr_show+echo -i modify cluster where cluster=yottascale set 'classification=newer class' flags=deprecated
[DRYRUN] /tmp/loop_over_bdir-32029-Ct7Eh0/Slurm-Sacctmgr-1.1.0-0/t/helpers/fake_sacctmgr_show+echo -i add cluster classification=new cluster=newcluster controlhost=new-master controlport=6818 extra_flag=772 flags=virtual rpc=7169 tres=cpu=1600,mem=12800000,node=100
[DRYRUN] /tmp/loop_over_bdir-32029-Ct7Eh0/Slurm-Sacctmgr-1.1.0-0/t/helpers/fake_sacctmgr_show+echo -i modify cluster where cluster=test1 set extra_flag=772
[DRYRUN] /tmp/loop_over_bdir-32029-Ct7Eh0/Slurm-Sacctmgr-1.1.0-0/t/helpers/fake_sacctmgr_show+echo -i modify cluster where cluster=yottascale set extra_flag=772 flags=updated
[DRYRUN] /tmp/loop_over_bdir-32029-Ct7Eh0/Slurm-Sacctmgr-1.1.0-0/t/helpers/fake_sacctmgr_show+echo -i modify cluster where cluster=yottascale set flags=updated
t/610_Slurm_SACluster-foo_me.t ...... ok
t/630_Slurm-SAEvent-foo_me.t ........ ok
[DRYRUN] /tmp/loop_over_bdir-32029-Ct7Eh0/Slurm-Sacctmgr-1.1.0-0/t/helpers/fake_sacctmgr_show+echo -i add qos 'description=GPU qos' gracetime=57 grpcpumins=1000000 grpcpus=1000 grpjobs=200 grpnodes=50 grpsubmitjobs=100 id=4 maxcpumins=60000 maxcpus=2000 maxcpusperuser=500 maxjobs=300 maxnodes=100 maxnodesperuser=25 maxsubmitjobs=150 maxwall=6000 mincpus=10 name=gpu preempt=scavenger preemptmode=cluster priority=25 usagefactor=3
[DRYRUN] /tmp/loop_over_bdir-32029-Ct7Eh0/Slurm-Sacctmgr-1.1.0-0/t/helpers/fake_sacctmgr_show+echo -i delete qos where name=high-priority
[DRYRUN] /tmp/loop_over_bdir-32029-Ct7Eh0/Slurm-Sacctmgr-1.1.0-0/t/helpers/fake_sacctmgr_show+echo -i delete qos where name=scavenger
[DRYRUN] /tmp/loop_over_bdir-32029-Ct7Eh0/Slurm-Sacctmgr-1.1.0-0/t/helpers/fake_sacctmgr_show+echo -i delete qos where name=standard
[DRYRUN] /tmp/loop_over_bdir-32029-Ct7Eh0/Slurm-Sacctmgr-1.1.0-0/t/helpers/fake_sacctmgr_show+echo -i modify qos where name=high-priority set 'description=new desc' 'organization=new org'
[DRYRUN] /tmp/loop_over_bdir-32029-Ct7Eh0/Slurm-Sacctmgr-1.1.0-0/t/helpers/fake_sacctmgr_show+echo -i modify qos where name=scavenger set 'description=new desc' 'organization=new org'
[DRYRUN] /tmp/loop_over_bdir-32029-Ct7Eh0/Slurm-Sacctmgr-1.1.0-0/t/helpers/fake_sacctmgr_show+echo -i modify qos where name=standard set 'description=new desc' 'organization=new org'
[DRYRUN] /tmp/loop_over_bdir-32029-Ct7Eh0/Slurm-Sacctmgr-1.1.0-0/t/helpers/fake_sacctmgr_show+echo -i add qos 'description=GPU qos' gracetime=57 grpjobs=200 grpsubmitjobs=100 grptres=cpu=1000,node=50 grptresmins=cpu=1000000 id=4 maxjobs=300 maxsubmitjobs=150 maxtresmins=cpu=60000 maxtresperjob=cpu=2000,node=100 maxtresperuser=cpu=500,node=25 maxwall=6000 mintresperjob=cpu=10,node=1 name=gpu preempt=scavenger preemptmode=cluster priority=25 usagefactor=3
[DRYRUN] /tmp/loop_over_bdir-32029-Ct7Eh0/Slurm-Sacctmgr-1.1.0-0/t/helpers/fake_sacctmgr_show+echo -i delete qos where name=high-priority
[DRYRUN] /tmp/loop_over_bdir-32029-Ct7Eh0/Slurm-Sacctmgr-1.1.0-0/t/helpers/fake_sacctmgr_show+echo -i delete qos where name=scavenger
[DRYRUN] /tmp/loop_over_bdir-32029-Ct7Eh0/Slurm-Sacctmgr-1.1.0-0/t/helpers/fake_sacctmgr_show+echo -i delete qos where name=standard
[DRYRUN] /tmp/loop_over_bdir-32029-Ct7Eh0/Slurm-Sacctmgr-1.1.0-0/t/helpers/fake_sacctmgr_show+echo -i modify qos where name=high-priority set 'description=new desc' 'organization=new org'
[DRYRUN] /tmp/loop_over_bdir-32029-Ct7Eh0/Slurm-Sacctmgr-1.1.0-0/t/helpers/fake_sacctmgr_show+echo -i modify qos where name=scavenger set 'description=new desc' 'organization=new org'
[DRYRUN] /tmp/loop_over_bdir-32029-Ct7Eh0/Slurm-Sacctmgr-1.1.0-0/t/helpers/fake_sacctmgr_show+echo -i modify qos where name=standard set 'description=new desc' 'organization=new org'
t/660_Slurm-SAQos-foo_me.t .......... ok
[DRYRUN] /tmp/loop_over_bdir-32029-Ct7Eh0/Slurm-Sacctmgr-1.1.0-0/t/helpers/fake_sacctmgr_show+echo -i add resource cluster=yottascale count=10 description=test name=abaqus percentallowed=100 server=flexlm.umd.edu servertype=flexlm type=License
[DRYRUN] /tmp/loop_over_bdir-32029-Ct7Eh0/Slurm-Sacctmgr-1.1.0-0/t/helpers/fake_sacctmgr_show+echo -i delete resource where cluster=yottascale name=foo
[DRYRUN] /tmp/loop_over_bdir-32029-Ct7Eh0/Slurm-Sacctmgr-1.1.0-0/t/helpers/fake_sacctmgr_show+echo -i delete resource where cluster=yottascale name=matlab
[DRYRUN] /tmp/loop_over_bdir-32029-Ct7Eh0/Slurm-Sacctmgr-1.1.0-0/t/helpers/fake_sacctmgr_show+echo -i delete resource where cluster=testcluster name=matlab
[DRYRUN] /tmp/loop_over_bdir-32029-Ct7Eh0/Slurm-Sacctmgr-1.1.0-0/t/helpers/fake_sacctmgr_show+echo -i modify resource where cluster=yottascale name=foo set count=999
[DRYRUN] /tmp/loop_over_bdir-32029-Ct7Eh0/Slurm-Sacctmgr-1.1.0-0/t/helpers/fake_sacctmgr_show+echo -i modify resource where cluster=yottascale name=matlab set count=999
[DRYRUN] /tmp/loop_over_bdir-32029-Ct7Eh0/Slurm-Sacctmgr-1.1.0-0/t/helpers/fake_sacctmgr_show+echo -i modify resource where cluster=testcluster name=matlab set count=999
[DRYRUN] /tmp/loop_over_bdir-32029-Ct7Eh0/Slurm-Sacctmgr-1.1.0-0/t/helpers/fake_sacctmgr_show+echo -i add resource cluster=yottascale count=10 description=test extra_flag=772 name=abaqus percentallowed=100 server=flexlm.umd.edu servertype=flexlm type=License
[DRYRUN] /tmp/loop_over_bdir-32029-Ct7Eh0/Slurm-Sacctmgr-1.1.0-0/t/helpers/fake_sacctmgr_show+echo -i modify resource where cluster=yottascale name=foo set extra_flag=772
[DRYRUN] /tmp/loop_over_bdir-32029-Ct7Eh0/Slurm-Sacctmgr-1.1.0-0/t/helpers/fake_sacctmgr_show+echo -i modify resource where cluster=yottascale name=matlab set count=999 extra_flag=772
[DRYRUN] /tmp/loop_over_bdir-32029-Ct7Eh0/Slurm-Sacctmgr-1.1.0-0/t/helpers/fake_sacctmgr_show+echo -i modify resource where cluster=testcluster name=matlab set count=999 'description=new descr' extra_flag=772
[DRYRUN] /tmp/loop_over_bdir-32029-Ct7Eh0/Slurm-Sacctmgr-1.1.0-0/t/helpers/fake_sacctmgr_show+echo -i modify resource where cluster=yottascale name=matlab set count=999
[DRYRUN] /tmp/loop_over_bdir-32029-Ct7Eh0/Slurm-Sacctmgr-1.1.0-0/t/helpers/fake_sacctmgr_show+echo -i modify resource where cluster=testcluster name=matlab set count=999 'description=new descr'
[DRYRUN] /tmp/loop_over_bdir-32029-Ct7Eh0/Slurm-Sacctmgr-1.1.0-0/t/helpers/fake_sacctmgr_show+echo -i add resource cluster=yottascale count=10 description=test name=abaqus percentallowed=100 server=flexlm.umd.edu servertype=flexlm type=License
[DRYRUN] /tmp/loop_over_bdir-32029-Ct7Eh0/Slurm-Sacctmgr-1.1.0-0/t/helpers/fake_sacctmgr_show+echo -i delete resource where cluster=yottascale name=foo
[DRYRUN] /tmp/loop_over_bdir-32029-Ct7Eh0/Slurm-Sacctmgr-1.1.0-0/t/helpers/fake_sacctmgr_show+echo -i delete resource where cluster=yottascale name=matlab
[DRYRUN] /tmp/loop_over_bdir-32029-Ct7Eh0/Slurm-Sacctmgr-1.1.0-0/t/helpers/fake_sacctmgr_show+echo -i delete resource where cluster=testcluster name=matlab
[DRYRUN] /tmp/loop_over_bdir-32029-Ct7Eh0/Slurm-Sacctmgr-1.1.0-0/t/helpers/fake_sacctmgr_show+echo -i modify resource where cluster=yottascale name=foo set count=999
[DRYRUN] /tmp/loop_over_bdir-32029-Ct7Eh0/Slurm-Sacctmgr-1.1.0-0/t/helpers/fake_sacctmgr_show+echo -i modify resource where cluster=yottascale name=matlab set count=999
[DRYRUN] /tmp/loop_over_bdir-32029-Ct7Eh0/Slurm-Sacctmgr-1.1.0-0/t/helpers/fake_sacctmgr_show+echo -i modify resource where cluster=testcluster name=matlab set count=999
[DRYRUN] /tmp/loop_over_bdir-32029-Ct7Eh0/Slurm-Sacctmgr-1.1.0-0/t/helpers/fake_sacctmgr_show+echo -i add resource cluster=yottascale count=10 description=test extra_flag=772 name=abaqus percentallowed=100 server=flexlm.umd.edu servertype=flexlm type=License
[DRYRUN] /tmp/loop_over_bdir-32029-Ct7Eh0/Slurm-Sacctmgr-1.1.0-0/t/helpers/fake_sacctmgr_show+echo -i modify resource where cluster=yottascale name=foo set extra_flag=772
[DRYRUN] /tmp/loop_over_bdir-32029-Ct7Eh0/Slurm-Sacctmgr-1.1.0-0/t/helpers/fake_sacctmgr_show+echo -i modify resource where cluster=yottascale name=matlab set count=999 extra_flag=772
[DRYRUN] /tmp/loop_over_bdir-32029-Ct7Eh0/Slurm-Sacctmgr-1.1.0-0/t/helpers/fake_sacctmgr_show+echo -i modify resource where cluster=testcluster name=matlab set count=999 'description=new descr' extra_flag=772
[DRYRUN] /tmp/loop_over_bdir-32029-Ct7Eh0/Slurm-Sacctmgr-1.1.0-0/t/helpers/fake_sacctmgr_show+echo -i modify resource where cluster=yottascale name=matlab set count=999
[DRYRUN] /tmp/loop_over_bdir-32029-Ct7Eh0/Slurm-Sacctmgr-1.1.0-0/t/helpers/fake_sacctmgr_show+echo -i modify resource where cluster=testcluster name=matlab set count=999 'description=new descr'
t/662_Slurm-SAResource-foo_me.t ..... ok
t/665_Slurm-SATransaction-foo_me.t .. ok
t/667_Slurm-SATres-foo_me.t ......... ok
[DRYRUN] /tmp/loop_over_bdir-32029-Ct7Eh0/Slurm-Sacctmgr-1.1.0-0/t/helpers/fake_sacctmgr_show+echo -i add user adminlevel=Administrator defaultaccount=abc124 user=xxx
[DRYRUN] /tmp/loop_over_bdir-32029-Ct7Eh0/Slurm-Sacctmgr-1.1.0-0/t/helpers/fake_sacctmgr_show+echo -i delete user where user=aaa
[DRYRUN] /tmp/loop_over_bdir-32029-Ct7Eh0/Slurm-Sacctmgr-1.1.0-0/t/helpers/fake_sacctmgr_show+echo -i delete user where user=bbb
[DRYRUN] /tmp/loop_over_bdir-32029-Ct7Eh0/Slurm-Sacctmgr-1.1.0-0/t/helpers/fake_sacctmgr_show+echo -i delete user where user=ccc
[DRYRUN] /tmp/loop_over_bdir-32029-Ct7Eh0/Slurm-Sacctmgr-1.1.0-0/t/helpers/fake_sacctmgr_show+echo -i delete user where user=ddd
[DRYRUN] /tmp/loop_over_bdir-32029-Ct7Eh0/Slurm-Sacctmgr-1.1.0-0/t/helpers/fake_sacctmgr_show+echo -i modify user where user=aaa set adminlevel=Admin defaultaccount=newacct
[DRYRUN] /tmp/loop_over_bdir-32029-Ct7Eh0/Slurm-Sacctmgr-1.1.0-0/t/helpers/fake_sacctmgr_show+echo -i modify user where user=bbb set adminlevel=Admin defaultaccount=newacct
[DRYRUN] /tmp/loop_over_bdir-32029-Ct7Eh0/Slurm-Sacctmgr-1.1.0-0/t/helpers/fake_sacctmgr_show+echo -i modify user where user=ccc set adminlevel=Admin defaultaccount=newacct
[DRYRUN] /tmp/loop_over_bdir-32029-Ct7Eh0/Slurm-Sacctmgr-1.1.0-0/t/helpers/fake_sacctmgr_show+echo -i modify user where user=ddd set adminlevel=Admin defaultaccount=newacct
[DRYRUN] /tmp/loop_over_bdir-32029-Ct7Eh0/Slurm-Sacctmgr-1.1.0-0/t/helpers/fake_sacctmgr_show+echo -i add user adminlevel=Administrator defaultaccount=abc124 extra_flag=772 user=xxx
[DRYRUN] /tmp/loop_over_bdir-32029-Ct7Eh0/Slurm-Sacctmgr-1.1.0-0/t/helpers/fake_sacctmgr_show+echo -i modify user where user=aaa set extra_flag=772
[DRYRUN] /tmp/loop_over_bdir-32029-Ct7Eh0/Slurm-Sacctmgr-1.1.0-0/t/helpers/fake_sacctmgr_show+echo -i modify user where user=bbb set defaultaccount=newacct extra_flag=772
[DRYRUN] /tmp/loop_over_bdir-32029-Ct7Eh0/Slurm-Sacctmgr-1.1.0-0/t/helpers/fake_sacctmgr_show+echo -i modify user where user=ccc set adminlevel=SuperUser defaultaccount=newacct extra_flag=772
[DRYRUN] /tmp/loop_over_bdir-32029-Ct7Eh0/Slurm-Sacctmgr-1.1.0-0/t/helpers/fake_sacctmgr_show+echo -i modify user where user=ddd set extra_flag=772
[DRYRUN] /tmp/loop_over_bdir-32029-Ct7Eh0/Slurm-Sacctmgr-1.1.0-0/t/helpers/fake_sacctmgr_show+echo -i modify user where user=bbb set defaultaccount=newacct
[DRYRUN] /tmp/loop_over_bdir-32029-Ct7Eh0/Slurm-Sacctmgr-1.1.0-0/t/helpers/fake_sacctmgr_show+echo -i modify user where user=ccc set adminlevel=SuperUser defaultaccount=newacct
[DRYRUN] /tmp/loop_over_bdir-32029-Ct7Eh0/Slurm-Sacctmgr-1.1.0-0/t/helpers/fake_sacctmgr_show+echo -i add user adminlevel=Administrator defaultaccount=abc124 user=xxx
[DRYRUN] /tmp/loop_over_bdir-32029-Ct7Eh0/Slurm-Sacctmgr-1.1.0-0/t/helpers/fake_sacctmgr_show+echo -i delete user where user=aaa
[DRYRUN] /tmp/loop_over_bdir-32029-Ct7Eh0/Slurm-Sacctmgr-1.1.0-0/t/helpers/fake_sacctmgr_show+echo -i delete user where user=bbb
[DRYRUN] /tmp/loop_over_bdir-32029-Ct7Eh0/Slurm-Sacctmgr-1.1.0-0/t/helpers/fake_sacctmgr_show+echo -i delete user where user=ccc
[DRYRUN] /tmp/loop_over_bdir-32029-Ct7Eh0/Slurm-Sacctmgr-1.1.0-0/t/helpers/fake_sacctmgr_show+echo -i delete user where user=ddd
[DRYRUN] /tmp/loop_over_bdir-32029-Ct7Eh0/Slurm-Sacctmgr-1.1.0-0/t/helpers/fake_sacctmgr_show+echo -i modify user where user=aaa set adminlevel=Admin defaultaccount=newacct
[DRYRUN] /tmp/loop_over_bdir-32029-Ct7Eh0/Slurm-Sacctmgr-1.1.0-0/t/helpers/fake_sacctmgr_show+echo -i modify user where user=bbb set adminlevel=Admin defaultaccount=newacct
[DRYRUN] /tmp/loop_over_bdir-32029-Ct7Eh0/Slurm-Sacctmgr-1.1.0-0/t/helpers/fake_sacctmgr_show+echo -i modify user where user=ccc set adminlevel=Admin defaultaccount=newacct
[DRYRUN] /tmp/loop_over_bdir-32029-Ct7Eh0/Slurm-Sacctmgr-1.1.0-0/t/helpers/fake_sacctmgr_show+echo -i modify user where user=ddd set adminlevel=Admin defaultaccount=newacct
[DRYRUN] /tmp/loop_over_bdir-32029-Ct7Eh0/Slurm-Sacctmgr-1.1.0-0/t/helpers/fake_sacctmgr_show+echo -i add user adminlevel=Administrator defaultaccount=abc124 extra_flag=772 user=xxx
[DRYRUN] /tmp/loop_over_bdir-32029-Ct7Eh0/Slurm-Sacctmgr-1.1.0-0/t/helpers/fake_sacctmgr_show+echo -i modify user where user=aaa set extra_flag=772
[DRYRUN] /tmp/loop_over_bdir-32029-Ct7Eh0/Slurm-Sacctmgr-1.1.0-0/t/helpers/fake_sacctmgr_show+echo -i modify user where user=bbb set defaultaccount=newacct extra_flag=772
[DRYRUN] /tmp/loop_over_bdir-32029-Ct7Eh0/Slurm-Sacctmgr-1.1.0-0/t/helpers/fake_sacctmgr_show+echo -i modify user where user=ccc set adminlevel=SuperUser defaultaccount=newacct extra_flag=772
[DRYRUN] /tmp/loop_over_bdir-32029-Ct7Eh0/Slurm-Sacctmgr-1.1.0-0/t/helpers/fake_sacctmgr_show+echo -i modify user where user=ddd set extra_flag=772
[DRYRUN] /tmp/loop_over_bdir-32029-Ct7Eh0/Slurm-Sacctmgr-1.1.0-0/t/helpers/fake_sacctmgr_show+echo -i modify user where user=bbb set defaultaccount=newacct
[DRYRUN] /tmp/loop_over_bdir-32029-Ct7Eh0/Slurm-Sacctmgr-1.1.0-0/t/helpers/fake_sacctmgr_show+echo -i modify user where user=ccc set adminlevel=SuperUser defaultaccount=newacct
t/670_Slurm-SAUser-foo_me.t ......... ok
t/680_Slurm-SAWCKey-foo_me.t ........ ok
[DRYRUN] /tmp/loop_over_bdir-32029-Ct7Eh0/Slurm-Sacctmgr-1.1.0-0/t/helpers/fake_sacctmgr_show+echo -i modify account where cluster=yottascale name=abc124 set rawusage=0
[DRYRUN] /tmp/loop_over_bdir-32029-Ct7Eh0/Slurm-Sacctmgr-1.1.0-0/t/helpers/fake_sacctmgr_show+echo -i modify account where cluster=test-cluster name=test-account set rawusage=0
[DRYRUN] /tmp/loop_over_bdir-32029-Ct7Eh0/Slurm-Sacctmgr-1.1.0-0/t/helpers/fake_sacctmgr_show+echo -i modify account where cluster=yottascale name=abc124 set grpcpumins=13571024
[DRYRUN] /tmp/loop_over_bdir-32029-Ct7Eh0/Slurm-Sacctmgr-1.1.0-0/t/helpers/fake_sacctmgr_show+echo -i modify account where cluster=yottascale name=abc124 set grpcpumins=13571025
[DRYRUN] /tmp/loop_over_bdir-32029-Ct7Eh0/Slurm-Sacctmgr-1.1.0-0/t/helpers/fake_sacctmgr_show+echo -i modify account where cluster=yottascale name=abc124 set grpcpumins=13571026
[DRYRUN] /tmp/loop_over_bdir-32029-Ct7Eh0/Slurm-Sacctmgr-1.1.0-0/t/helpers/fake_sacctmgr_show+echo -i modify account where cluster=yottascale name=abc124 set grpcpumins=13571027
[DRYRUN] /tmp/loop_over_bdir-32029-Ct7Eh0/Slurm-Sacctmgr-1.1.0-0/t/helpers/fake_sacctmgr_show+echo -i modify account where cluster=yottascale name=abc124 set rawusage=0
[DRYRUN] /tmp/loop_over_bdir-32029-Ct7Eh0/Slurm-Sacctmgr-1.1.0-0/t/helpers/fake_sacctmgr_show+echo -i modify account where cluster=test-cluster name=test-account set rawusage=0
[DRYRUN] /tmp/loop_over_bdir-32029-Ct7Eh0/Slurm-Sacctmgr-1.1.0-0/t/helpers/fake_sacctmgr_show+echo -i modify account where cluster=yottascale name=abc124 set grptresmins=cpu=13571024
[DRYRUN] /tmp/loop_over_bdir-32029-Ct7Eh0/Slurm-Sacctmgr-1.1.0-0/t/helpers/fake_sacctmgr_show+echo -i modify account where cluster=yottascale name=abc124 set grptresmins=cpu=13571025
[DRYRUN] /tmp/loop_over_bdir-32029-Ct7Eh0/Slurm-Sacctmgr-1.1.0-0/t/helpers/fake_sacctmgr_show+echo -i modify account where cluster=yottascale name=abc124 set grptresmins=cpu=13571026
[DRYRUN] /tmp/loop_over_bdir-32029-Ct7Eh0/Slurm-Sacctmgr-1.1.0-0/t/helpers/fake_sacctmgr_show+echo -i modify account where cluster=yottascale name=abc124 set grptresmins=cpu=13571027,mem=100000
t/800_Slurm-SAAccount-extra.t ....... ok
All tests successful.
Files=36, Tests=886, 72 wallclock secs ( 0.29 usr 0.24 sys + 3.96 cusr 6.13 csys = 10.62 CPU)
Result: PASS
------------------------------
PREREQUISITES
------------------------------
Prerequisite modules loaded:
requires:
Module Need Have
------------------- ----- --------
base 0 2.24
Carp 0 1.42
Class::Accessor 0 0.34
perl 5.006 5.025008
POSIX 0 1.76
strict 0 1.11
version 0 0.9917
warnings 0 1.37
build_requires:
Module Need Have
------------------- ----- --------
Cwd 0 3.66
File::Basename 0 2.85
Test::More 0 1.302078
configure_requires:
Module Need Have
------------------- ----- --------
ExtUtils::MakeMaker 0 7.24
------------------------------
ENVIRONMENT AND OTHER CONTEXT
------------------------------
Environment variables:
AUTOMATED_TESTING = 1
LANG = en_US.UTF-8
PATH = /home/sand/bin:/usr/local/bin:/usr/bin:/bin:/usr/games:/usr/local/perl/bin:/usr/X11/bin:/sbin:/usr/sbin
PERL5LIB =
PERL5OPT =
PERL5_CPANPLUS_IS_RUNNING = 32485
PERL5_CPAN_IS_RUNNING = 32485
PERL_CANARY_STABILITY_NOPROMPT = 1
PERL_MM_USE_DEFAULT = 1
PERL_USE_UNSAFE_INC = 1
SHELL = /usr/bin/zsh
TERM = screen
Perl special variables (and OS-specific diagnostics, for MSWin32):
$^X = /home/sand/src/perl/repoperls/installed-perls/host/k93msid/v5.25.8/89ad/bin/perl
$UID/$EUID = 1005 / 1005
$GID = 1005 1005
$EGID = 1005 1005
Perl module toolchain versions installed:
Module Have
------------------- --------
CPAN 2.17
CPAN::Meta 2.150010
Cwd 3.66
ExtUtils::CBuilder 0.280224
ExtUtils::Command 7.24
ExtUtils::Install 2.04
ExtUtils::MakeMaker 7.24
ExtUtils::Manifest 1.70
ExtUtils::ParseXS 3.33
File::Spec 3.66
JSON 2.91_04
JSON::PP 2.91_03
Module::Build 0.4220
Module::Signature 0.81
Parse::CPAN::Meta 2.150010
Test::Harness 3.38
Test::More 1.302078
YAML 1.23
YAML::Syck 1.29
version 0.9917
--
Summary of my perl5 (revision 5 version 25 subversion 8) configuration:
Commit id: ee155a491947e3524243994320d7e60f9332bcaf
Platform:
osname=linux
osvers=4.8.0-2-amd64
archname=x86_64-linux
uname='linux k93msid 4.8.0-2-amd64 #1 smp debian 4.8.11-1 (2016-12-02) x86_64 gnulinux '
config_args='-Dprefix=/home/sand/src/perl/repoperls/installed-perls/host/k93msid/v5.25.8/89ad -Dmyhostname=k93msid -Dinstallusrbinperl=n -Uversiononly -Dusedevel -des -Ui_db -Dlibswanted=cl pthread socket inet nsl gdbm dbm malloc dl ld sun m crypt sec util c cposix posix ucb BSD gdbm_compat -Uuseithreads -Uuselongdouble -DDEBUGGING=-g'
hint=recommended
useposix=true
d_sigaction=define
useithreads=undef
usemultiplicity=undef
use64bitint=define
use64bitall=define
uselongdouble=undef
usemymalloc=n
bincompat5005=undef
Compiler:
cc='cc'
ccflags ='-fwrapv -fno-strict-aliasing -pipe -fstack-protector-strong -I/usr/local/include -D_LARGEFILE_SOURCE -D_FILE_OFFSET_BITS=64'
optimize='-O2 -g'
cppflags='-fwrapv -fno-strict-aliasing -pipe -fstack-protector-strong -I/usr/local/include'
ccversion=''
gccversion='6.2.1 20161124'
gccosandvers=''
intsize=4
longsize=8
ptrsize=8
doublesize=8
byteorder=12345678
doublekind=3
d_longlong=define
longlongsize=8
d_longdbl=define
longdblsize=16
longdblkind=3
ivtype='long'
ivsize=8
nvtype='double'
nvsize=8
Off_t='off_t'
lseeksize=8
alignbytes=8
prototype=define
Linker and Libraries:
ld='cc'
ldflags =' -fstack-protector-strong -L/usr/local/lib'
libpth=/usr/local/lib /usr/lib/gcc/x86_64-linux-gnu/6/include-fixed /usr/include/x86_64-linux-gnu /usr/lib /lib/x86_64-linux-gnu /lib/../lib /usr/lib/x86_64-linux-gnu /usr/lib/../lib /lib
libs=-lpthread -lnsl -ldl -lm -lcrypt -lutil -lc
perllibs=-lpthread -lnsl -ldl -lm -lcrypt -lutil -lc
libc=libc-2.24.so
so=so
useshrplib=false
libperl=libperl.a
gnulibc_version='2.24'
Dynamic Linking:
dlsrc=dl_dlopen.xs
dlext=so
d_dlsymun=undef
ccdlflags='-Wl,-E'
cccdlflags='-fPIC'
lddlflags='-shared -O2 -g -L/usr/local/lib -fstack-protector-strong'
Characteristics of this binary (from libperl):
Compile-time options:
HAS_TIMES
PERLIO_LAYERS
PERL_COPY_ON_WRITE
PERL_DONT_CREATE_GVSV
PERL_MALLOC_WRAP
PERL_OP_PARENT
PERL_PRESERVE_IVUV
PERL_USE_DEVEL
USE_64_BIT_ALL
USE_64_BIT_INT
USE_LARGE_FILES
USE_LOCALE
USE_LOCALE_COLLATE
USE_LOCALE_CTYPE
USE_LOCALE_NUMERIC
USE_LOCALE_TIME
USE_PERLIO
USE_PERL_ATOF
Built under linux
Compiled at Dec 22 2016 19:13:49
%ENV:
PERL5LIB=""
PERL5OPT=""
PERL5_CPANPLUS_IS_RUNNING="32485"
PERL5_CPAN_IS_RUNNING="32485"
PERL_CANARY_STABILITY_NOPROMPT="1"
PERL_MM_USE_DEFAULT="1"
PERL_USE_UNSAFE_INC="1"
@INC:
/home/sand/src/perl/repoperls/installed-perls/host/k93msid/v5.25.8/89ad/lib/site_perl/5.25.8/x86_64-linux
/home/sand/src/perl/repoperls/installed-perls/host/k93msid/v5.25.8/89ad/lib/site_perl/5.25.8
/home/sand/src/perl/repoperls/installed-perls/host/k93msid/v5.25.8/89ad/lib/5.25.8/x86_64-linux
/home/sand/src/perl/repoperls/installed-perls/host/k93msid/v5.25.8/89ad/lib/5.25.8
.