Dist-Zilla-Plugin-Git v2.043 Perl 5 v5.27.11 OpenBSD.amd64-openbsd-thread-multi
- Status
- Pass
- From
- Alceu Rodrigues de Freitas Junior
- Dist
-
Dist-Zilla-Plugin-Git v2.043
- Platform
- Perl 5 v5.27.11 OpenBSD.amd64-openbsd-thread-multi
- Date
- 2018-04-05 17:36:25
- ID
- dd4047c6-38f7-11e8-903b-58123ad5366c
This distribution has been tested as part of the CPAN Testers
project, supporting the Perl programming language. See
http://wiki.cpantesters.org/ for more information or email
questions to cpan-testers-discuss@perl.org
--
Dear Karen Etheridge,
This is a computer-generated report for Dist-Zilla-Plugin-Git-2.043
on perl 5.27.11, created by CPAN-Reporter-1.2018.
Thank you for uploading your work to CPAN. Congratulations!
All tests were successful.
Sections of this report:
* Tester comments
* Program output
* Prerequisites
* Environment and other context
------------------------------
TESTER COMMENTS
------------------------------
Additional comments from tester:
this report is from an automated smoke testing program
and was not reviewed by a human for accuracy
------------------------------
PROGRAM OUTPUT
------------------------------
Output from '/usr/bin/make test':
"/home/vegeta/perl5/perlbrew/perls/perl-blead/bin/perl5.27.11" "-Iblib/arch" "-Iblib/lib" Makefile_git.PL Makefile_git
PERL_DL_NONLAZY=1 "/home/vegeta/perl5/perlbrew/perls/perl-blead/bin/perl5.27.11" "-MExtUtils::Command::MM" "-MTest::Harness" "-e" "undef *Test::Harness::Switches; test_harness(0, 'blib/lib', 'blib/arch')" t/*.t
#
# Versions for all modules listed in MYMETA.json (including optional ones):
#
# === Configure Requires ===
#
# Module Want Have
# ------------------- ---- ------
# ExtUtils::MakeMaker any 7.34
# Text::ParseWords any 3.30
# version any 0.9918
#
# === Build Requires ===
#
# Module Want Have
# ------------------- ---- ----
# ExtUtils::MakeMaker any 7.34
#
# === Test Requires ===
#
# Module Want Have
# -------------------------------- ----- --------
# CPAN::Meta::Check 0.011 0.014
# CPAN::Meta::Requirements any 2.140
# Devel::SimpleTrace any 0.08
# Dist::Zilla::File::InMemory any 6.011
# Dist::Zilla::Plugin::Config::Git any 0.92
# Dist::Zilla::Role::Releaser any 6.011
# Dist::Zilla::Tester any 6.011
# Encode any 2.97
# Exporter any 5.73
# ExtUtils::MakeMaker any 7.34
# File::Copy any 2.33
# File::Copy::Recursive any 0.40
# File::Path 2.07 2.15
# File::Spec any 3.74
# File::Which any 1.22
# File::pushd any 1.014
# Log::Dispatchouli any 2.016
# Test::DZil any 6.011
# Test::Fatal any 0.014
# Test::More 0.88 1.302135
# lib any 0.64
# utf8 any 1.21
#
# === Test Recommends ===
#
# Module Want Have
# ---------- -------- --------
# CPAN::Meta 2.120900 2.150010
#
# === Runtime Requires ===
#
# Module Want Have
# ---------------------------------- -------- --------
# Cwd any 3.74
# DateTime any 1.48
# Dist::Zilla 4 6.011
# Dist::Zilla::Plugin::GatherDir 4.200016 6.011
# Dist::Zilla::Role::AfterBuild any 6.011
# Dist::Zilla::Role::AfterMint any 6.011
# Dist::Zilla::Role::AfterRelease any 6.011
# Dist::Zilla::Role::BeforeRelease any 6.011
# Dist::Zilla::Role::FilePruner any 6.011
# Dist::Zilla::Role::GitConfig any 0.92
# Dist::Zilla::Role::PluginBundle any 6.011
# Dist::Zilla::Role::VersionProvider any 6.011
# File::Spec::Functions any 3.74
# File::Temp any 0.2304
# File::chdir any 0.1010
# Git::Wrapper 0.021 0.048
# IPC::Open3 any 1.20
# IPC::System::Simple any 1.25
# List::Util 1.45 1.50
# Module::Runtime any 0.016
# Moose any 2.2010
# Moose::Role any 2.2010
# Moose::Util::TypeConstraints any 2.2010
# MooseX::Has::Sugar any 1.000006
# MooseX::Types::Moose any 0.50
# MooseX::Types::Path::Tiny 0.010 0.012
# Path::Tiny 0.048 0.104
# String::Formatter any 0.102084
# Try::Tiny any 0.30
# Version::Next any 1.000
# constant any 1.33
# namespace::autoclean 0.09 0.28
# strict any 1.11
# version 0.80 0.9918
# warnings any 1.42
#
# === Other Modules ===
#
# Module Have
# ------------- -------
# JSON::PP 2.97001
# Pod::Coverage 0.23
# Sub::Name 0.21
# YAML 1.24
# autodie 2.29
#
t/00-report-prereqs.t ........... ok
# git version 2.14.2
t/000-report-git-version.t ...... ok
t/check.t ....................... ok
t/commit-build-custom.t ......... ok
t/commit-build-src-as-parent.t .. ok
t/commit-build.t ................ ok
t/commit-dirtydir.t ............. ok
t/commit-message.t .............. ok
t/commit-utf8.t ................. ok
t/commit-ws.t ................... ok
t/commit.t ...................... ok
t/gatherdir-multi.t ............. ok
t/gatherdir.t ................... ok
t/push-gitconfig.t .............. ok
t/push-multi.t .................. ok
t/push.t ........................ ok
t/repo-dir.t .................... ok
t/tag-signed.t .................. skipped: gpg couldn't be located in $PATH; required for GPG-signed tags
t/tag.t ......................... ok
t/version-by-branch.t ........... ok
t/version-default.t ............. ok
t/version-extraction.t .......... ok
t/version-regexp.t .............. ok
t/zzz-check-breaks.t ............ ok
All tests successful.
Files=24, Tests=199, 70 wallclock secs ( 0.11 usr 0.22 sys + 32.14 cusr 32.03 csys = 64.50 CPU)
Result: PASS
------------------------------
PREREQUISITES
------------------------------
Prerequisite modules loaded:
requires:
Module Need Have
---------------------------------- -------- --------
constant 0 1.33
Cwd 0 3.74
DateTime 0 1.48
Dist::Zilla 4 6.011
Dist::Zilla::Plugin::GatherDir 4.200016 6.011
Dist::Zilla::Role::AfterBuild 0 6.011
Dist::Zilla::Role::AfterMint 0 6.011
Dist::Zilla::Role::AfterRelease 0 6.011
Dist::Zilla::Role::BeforeRelease 0 6.011
Dist::Zilla::Role::FilePruner 0 6.011
Dist::Zilla::Role::GitConfig 0 0.92
Dist::Zilla::Role::PluginBundle 0 6.011
Dist::Zilla::Role::VersionProvider 0 6.011
File::chdir 0 0.1010
File::Spec::Functions 0 3.74
File::Temp 0 0.2304
Git::Wrapper 0.021 0.048
IPC::Open3 0 1.20
IPC::System::Simple 0 1.25
List::Util 1.45 1.50
Module::Runtime 0 0.016
Moose 0 2.2010
Moose::Role 0 2.2010
Moose::Util::TypeConstraints 0 2.2010
MooseX::Has::Sugar 0 1.000006
MooseX::Types::Moose 0 0.50
MooseX::Types::Path::Tiny 0.010 0.012
namespace::autoclean 0.09 0.28
Path::Tiny 0.048 0.104
perl 5.010 5.027011
strict 0 1.11
String::Formatter 0 0.102084
Try::Tiny 0 0.30
version 0.80 0.9918
Version::Next 0 1.000
warnings 0 1.42
build_requires:
Module Need Have
---------------------------------- -------- --------
CPAN::Meta::Check 0.011 0.014
CPAN::Meta::Requirements 0 2.140
Devel::SimpleTrace 0 0.08
Dist::Zilla::File::InMemory 0 6.011
Dist::Zilla::Plugin::Config::Git 0 0.92
Dist::Zilla::Role::Releaser 0 6.011
Dist::Zilla::Tester 0 6.011
Encode 0 2.97
Exporter 0 5.73
ExtUtils::MakeMaker 0 7.34
File::Copy 0 2.33
File::Copy::Recursive 0 0.40
File::Path 2.07 2.15
File::pushd 0 1.014
File::Spec 0 3.74
File::Which 0 1.22
lib 0 0.64
Log::Dispatchouli 0 2.016
Test::DZil 0 6.011
Test::Fatal 0 0.014
Test::More 0.88 1.302135
utf8 0 1.21
configure_requires:
Module Need Have
---------------------------------- -------- --------
ExtUtils::MakeMaker 0 7.34
perl 5.010 5.027011
Text::ParseWords 0 3.30
version 0 0.9918
opt_build_requires:
Module Need Have
---------------------------------- -------- --------
CPAN::Meta 2.120900 2.150010
------------------------------
ENVIRONMENT AND OTHER CONTEXT
------------------------------
Environment variables:
AUTOMATED_TESTING = 1
DBD_MYSQL_TESTDB = test
DBD_MYSQL_TESTHOST = localhost
DBD_MYSQL_TESTPASSWORD =
DBD_MYSQL_TESTPORT = 3306
DBD_MYSQL_TESTUSER = vegeta
EXTENDED_TESTING = 1
PATH = /home/vegeta/perl5/perlbrew/bin:/home/vegeta/perl5/perlbrew/perls/perl-blead/bin:/home/vegeta/bin:/usr/bin:/bin:/usr/sbin:/sbin:/usr/X11R6/bin:/usr/local/bin:/usr/local/sbin
PERL5LIB =
PERL5OPT =
PERL5_CPANPLUS_IS_RUNNING = 70059
PERL5_CPAN_IS_RUNNING = 70059
PERL5_CPAN_IS_RUNNING_IN_RECURSION = 53113,70059
PERLBREW_HOME = /home/vegeta/.perlbrew
PERLBREW_MANPATH = /home/vegeta/perl5/perlbrew/perls/perl-blead/man
PERLBREW_PATH = /home/vegeta/perl5/perlbrew/bin:/home/vegeta/perl5/perlbrew/perls/perl-blead/bin
PERLBREW_PERL = perl-blead
PERLBREW_ROOT = /home/vegeta/perl5/perlbrew
PERLBREW_SHELLRC_VERSION = 0.82
PERLBREW_VERSION = 0.82
PERL_CR_SMOKER_CURRENT = Dist-Zilla-Plugin-Git-RequireUnixEOL-1.000
PERL_EXTUTILS_AUTOINSTALL = --defaultdeps
PERL_MM_USE_DEFAULT = 1
PERL_USE_UNSAFE_INC = 1
SHELL = /usr/local/bin/bash
TERM = xterm
Perl special variables (and OS-specific diagnostics, for MSWin32):
$^X = /home/vegeta/perl5/perlbrew/perls/perl-blead/bin/perl5.27.11
$UID/$EUID = 1001 / 1001
$GID = 998 998 1001
$EGID = 998 998 1001
Perl module toolchain versions installed:
Module Have
------------------- --------
CPAN 2.20
CPAN::Meta 2.150010
Cwd 3.74
ExtUtils::CBuilder 0.280230
ExtUtils::Command 7.34
ExtUtils::Install 2.14
ExtUtils::MakeMaker 7.34
ExtUtils::Manifest 1.70
ExtUtils::ParseXS 3.39
File::Spec 3.74
JSON 2.97001
JSON::PP 2.97001
Module::Build 0.4224
Module::Signature n/a
Parse::CPAN::Meta 2.150010
Test::Harness 3.42
Test::More 1.302135
YAML 1.24
YAML::Syck n/a
version 0.9918
--
Summary of my perl5 (revision 5 version 27 subversion 11) configuration:
Snapshot of: 2f49491f5d1c7c1014a5af26c13a743812995ee1
Platform:
osname=openbsd
osvers=6.2
archname=OpenBSD.amd64-openbsd-thread-multi
uname='openbsd cpan-smoker-openbsd 6.2 generic.mp#134 amd64 '
config_args='-de -Dprefix=/home/vegeta/perl5/perlbrew/perls/perl-blead -Dman1dir=none -Dman3dir=none -Duse64bitint -Dusethreads -Dusemultiplicity -Duse64bitall -Dusedevel'
hint=recommended
useposix=true
d_sigaction=define
useithreads=define
usemultiplicity=define
use64bitint=define
use64bitall=define
uselongdouble=undef
usemymalloc=n
default_inc_excludes_dot=define
bincompat5005=undef
Compiler:
cc='cc'
ccflags ='-pthread -fno-strict-aliasing -pipe -fstack-protector-strong -I/usr/local/include -D_FORTIFY_SOURCE=2'
optimize='-O2'
cppflags='-pthread -fno-strict-aliasing -pipe -fstack-protector-strong -I/usr/local/include'
ccversion=''
gccversion='4.2.1 Compatible OpenBSD Clang 4.0.0 (tags/RELEASE_400/final)'
gccosandvers=''
intsize=4
longsize=8
ptrsize=8
doublesize=8
byteorder=12345678
doublekind=3
d_longlong=define
longlongsize=8
d_longdbl=define
longdblsize=16
longdblkind=3
ivtype='long'
ivsize=8
nvtype='double'
nvsize=8
Off_t='off_t'
lseeksize=8
alignbytes=8
prototype=define
Linker and Libraries:
ld='cc'
ldflags ='-pthread -Wl,-E -fstack-protector-strong -L/usr/local/lib'
libpth=/usr/lib /usr/local/lib
libs=-lpthread -lm -lutil -lc
perllibs=-lpthread -lm -lutil -lc
libc=/usr/lib/libc.so.90.0
so=so
useshrplib=false
libperl=libperl.a
gnulibc_version=''
Dynamic Linking:
dlsrc=dl_dlopen.xs
dlext=so
d_dlsymun=undef
ccdlflags=' '
cccdlflags='-DPIC -fPIC '
lddlflags='-shared -fPIC -L/usr/local/lib -fstack-protector-strong'
Characteristics of this binary (from libperl):
Compile-time options:
HAS_TIMES
MULTIPLICITY
PERLIO_LAYERS
PERL_COPY_ON_WRITE
PERL_DONT_CREATE_GVSV
PERL_IMPLICIT_CONTEXT
PERL_MALLOC_WRAP
PERL_OP_PARENT
PERL_PRESERVE_IVUV
PERL_USE_DEVEL
USE_64_BIT_ALL
USE_64_BIT_INT
USE_ITHREADS
USE_LARGE_FILES
USE_LOCALE
USE_LOCALE_COLLATE
USE_LOCALE_CTYPE
USE_LOCALE_NUMERIC
USE_LOCALE_TIME
USE_PERLIO
USE_PERL_ATOF
USE_REENTRANT_API
Locally applied patches:
Devel::PatchPerl 1.48
Built under openbsd
Compiled at Apr 4 2018 17:50:48
%ENV:
PERL5LIB=""
PERL5OPT=""
PERL5_CPANPLUS_IS_RUNNING="70059"
PERL5_CPAN_IS_RUNNING="70059"
PERL5_CPAN_IS_RUNNING_IN_RECURSION="53113,70059"
PERLBREW_HOME="/home/vegeta/.perlbrew"
PERLBREW_MANPATH="/home/vegeta/perl5/perlbrew/perls/perl-blead/man"
PERLBREW_PATH="/home/vegeta/perl5/perlbrew/bin:/home/vegeta/perl5/perlbrew/perls/perl-blead/bin"
PERLBREW_PERL="perl-blead"
PERLBREW_ROOT="/home/vegeta/perl5/perlbrew"
PERLBREW_SHELLRC_VERSION="0.82"
PERLBREW_VERSION="0.82"
PERL_CR_SMOKER_CURRENT="Dist-Zilla-Plugin-Git-RequireUnixEOL-1.000"
PERL_EXTUTILS_AUTOINSTALL="--defaultdeps"
PERL_MM_USE_DEFAULT="1"
PERL_USE_UNSAFE_INC="1"
@INC:
/home/vegeta/perl5/perlbrew/perls/perl-blead/lib/site_perl/5.27.11/OpenBSD.amd64-openbsd-thread-multi
/home/vegeta/perl5/perlbrew/perls/perl-blead/lib/site_perl/5.27.11
/home/vegeta/perl5/perlbrew/perls/perl-blead/lib/5.27.11/OpenBSD.amd64-openbsd-thread-multi
/home/vegeta/perl5/perlbrew/perls/perl-blead/lib/5.27.11
.