RDF-Simple v0.421 Perl 5 v5.18.4 x86_64-linux-thread-multi
- Status
- Pass
- From
- David Cantrell (DCANTRELL)
- Dist
-
RDF-Simple v0.421
- Platform
- Perl 5 v5.18.4 x86_64-linux-thread-multi
- Date
- 2020-03-09 21:42:24
- ID
- dd297780-624e-11ea-967d-464c052d0de1
This distribution has been tested as part of the CPAN Testers
project, supporting the Perl programming language. See
http://wiki.cpantesters.org/ for more information or email
questions to cpan-testers-discuss@perl.org
--
Dear Martin 'Kingpin' Thurn,
This is a computer-generated report for RDF-Simple-0.421
on perl 5.18.4, created by CPAN-Reporter-1.2018.
Thank you for uploading your work to CPAN. Congratulations!
All tests were successful.
Sections of this report:
* Tester comments
* Program output
* Prerequisites
* Environment and other context
------------------------------
TESTER COMMENTS
------------------------------
Additional comments from tester:
this report is from an automated smoke testing program
and was not reviewed by a human for accuracy
------------------------------
PROGRAM OUTPUT
------------------------------
Output from '/usr/bin/make test':
Skip blib/lib/RDF/Simple/NS.pm (unchanged)
Skip blib/lib/RDF/Simple/Serializer.pm (unchanged)
Skip blib/lib/RDF/Simple/Serialiser.pm (unchanged)
Skip blib/lib/RDF/Simple/Parser/Attribs.pm (unchanged)
Skip blib/lib/RDF/Simple/Parser.pm (unchanged)
Skip blib/lib/RDF/Simple/Parser/Handler.pm (unchanged)
Skip blib/lib/RDF/Simple.pm (unchanged)
Skip blib/lib/RDF/Simple/Parser/Element.pm (unchanged)
"/home/david/cpantesting/perl-5.18.4/bin/perl" "-Iinc" "-Iblib/arch" "-Iinc" "-Iblib/lib" Makefile-orig.PL Makefile-orig
Cannot determine perl version info from lib/RDF/Simple.pm
Generating a Unix-style Makefile
Writing Makefile for RDF::Simple
Writing MYMETA.yml and MYMETA.json
PERL_DL_NONLAZY=1 "/home/david/cpantesting/perl-5.18.4/bin/perl" "-MExtUtils::Command::MM" "-MTest::Harness" "-e" "undef *Test::Harness::Switches; test_harness(0, 'inc', 'blib/lib', 'blib/arch')" t/*.t
t/001_load.t ........... ok
t/coverage.t ........... ok
t/empty.t .............. ok
t/from_file.t .......... ok
t/long.t ............... ok
t/multi-class.t ........ ok
t/pod.t ................ ok
t/rt-44879-resource.t .. ok
t/rt46956.t ............ ok
t/uri.t ................ ok
All tests successful.
Files=10, Tests=52, 12 wallclock secs ( 0.05 usr 0.02 sys + 1.34 cusr 0.21 csys = 1.62 CPU)
Result: PASS
------------------------------
PREREQUISITES
------------------------------
Prerequisite modules loaded:
requires:
Module Need Have
------------------- ----- ----------
Class::MethodMaker 0 2.24
File::Slurp 0 9999.29
LWP::UserAgent 0 6.43
perl 5.005 5.018004
Regexp::Common 0 2017060201
URI::Escape 0 3.31
XML::SAX 0 1.02
build_requires:
Module Need Have
------------------- ----- ----------
ExtUtils::MakeMaker 6.36 7.44
IO::CaptureOutput 0 1.1104
Test::File 0 1.443
Test::Simple 0 1.302172
configure_requires:
Module Need Have
------------------- ----- ----------
ExtUtils::MakeMaker 0 7.44
------------------------------
ENVIRONMENT AND OTHER CONTEXT
------------------------------
Environment variables:
AUTOMATED_TESTING = 1
LANG = en_US.UTF-8
NONINTERACTIVE_TESTING = 1
PATH = /usr/local/bin:/usr/bin:/bin:/usr/local/games:/usr/games
PERL = 5.18.4
PERL5LIB =
PERL5OPT =
PERL5_CPANPLUS_IS_RUNNING = 18571
PERL5_CPAN_IS_RUNNING = 18571
PERLVER = 5.18.4
PERL_INLINE_DIRECTORY = /home/david/.Inline-5.18.4
PERL_MM_USE_DEFAULT = 1
PERL_USE_UNSAFE_INC = 0
SHELL = /bin/bash
TERM = screen
Perl special variables (and OS-specific diagnostics, for MSWin32):
$^X = /home/david/cpantesting/perl-5.18.4/bin/perl
$UID/$EUID = 1000 / 1000
$GID = 1000 27 1000
$EGID = 1000 27 1000
Perl module toolchain versions installed:
Module Have
------------------- --------
CPAN 2.00
CPAN::Meta 2.143240
Cwd 3.40
ExtUtils::CBuilder 0.280234
ExtUtils::Command 7.44
ExtUtils::Install 2.06
ExtUtils::MakeMaker 7.44
ExtUtils::Manifest 1.70
ExtUtils::ParseXS 3.35
File::Spec 3.40
JSON 4.02
JSON::PP 4.02
Module::Build 0.4231
Module::Signature n/a
Parse::CPAN::Meta 1.4414
Test::Harness 3.42
Test::More 1.302172
YAML 1.30
YAML::Syck n/a
version 0.9924
--
Summary of my perl5 (revision 5 version 18 subversion 4) configuration:
Platform:
osname=linux, osvers=4.9.0-8-amd64, archname=x86_64-linux-thread-multi
uname='linux pigsty 4.9.0-8-amd64 #1 smp debian 4.9.144-3 (2019-02-02) x86_64 gnulinux '
config_args='-de -Duse64bitall -Dusethreads -Dprefix=/home/david/cpantesting/perl-5.18.4 -A ccflags=-fwrapv'
hint=previous, useposix=true, d_sigaction=define
useithreads=define, usemultiplicity=define
useperlio=define, d_sfio=undef, uselargefiles=define, usesocks=undef
use64bitint=define, use64bitall=define, uselongdouble=undef
usemymalloc=n, bincompat5005=undef
Compiler:
cc='cc', ccflags ='-D_REENTRANT -D_GNU_SOURCE -fno-strict-aliasing -pipe -fstack-protector -I/usr/local/include -D_LARGEFILE_SOURCE -D_FILE_OFFSET_BITS=64 -fwrapv -fwrapv',
optimize='-O2',
cppflags='-D_REENTRANT -D_GNU_SOURCE -fno-strict-aliasing -pipe -fstack-protector -I/usr/local/include -D_REENTRANT -D_GNU_SOURCE -fno-strict-aliasing -pipe -fstack-protector -I/usr/local/include -D_LARGEFILE_SOURCE -D_FILE_OFFSET_BITS=64 -fwrapv -D_REENTRANT -D_GNU_SOURCE -fno-strict-aliasing -pipe -fstack-protector -I/usr/local/include -D_LARGEFILE_SOURCE -D_FILE_OFFSET_BITS=64 -fwrapv -fwrapv'
ccversion='', gccversion='6.3.0 20170516', gccosandvers=''
intsize=4, longsize=8, ptrsize=8, doublesize=8, byteorder=12345678
d_longlong=define, longlongsize=8, d_longdbl=define, longdblsize=16
ivtype='long', ivsize=8, nvtype='double', nvsize=8, Off_t='off_t', lseeksize=8
alignbytes=8, prototype=define
Linker and Libraries:
ld='cc', ldflags =' -fstack-protector -L/usr/local/lib'
libpth=/usr/local/lib /lib/x86_64-linux-gnu /lib/../lib /usr/lib/x86_64-linux-gnu /usr/lib/../lib /lib /usr/lib
libs=-lnsl -ldb -ldl -lm -lcrypt -lutil -lpthread -lc
perllibs=-lnsl -ldl -lm -lcrypt -lutil -lpthread -lc
libc=libc-2.24.so, so=so, useshrplib=false, libperl=libperl.a
gnulibc_version='2.24'
Dynamic Linking:
dlsrc=dl_dlopen.xs, dlext=so, d_dlsymun=undef, ccdlflags='-Wl,-E'
cccdlflags='-fPIC', lddlflags='-shared -O2 -L/usr/local/lib -fstack-protector'
Characteristics of this binary (from libperl):
Compile-time options: HAS_TIMES MULTIPLICITY PERLIO_LAYERS
PERL_DONT_CREATE_GVSV
PERL_HASH_FUNC_ONE_AT_A_TIME_HARD
PERL_IMPLICIT_CONTEXT PERL_MALLOC_WRAP
PERL_PRESERVE_IVUV PERL_SAWAMPERSAND USE_64_BIT_ALL
USE_64_BIT_INT USE_ITHREADS USE_LARGE_FILES
USE_LOCALE USE_LOCALE_COLLATE USE_LOCALE_CTYPE
USE_LOCALE_NUMERIC USE_PERLIO USE_PERL_ATOF
USE_REENTRANT_API
Locally applied patches:
Devel::PatchPerl 1.56
Built under linux
Compiled at Apr 25 2019 17:34:00
%ENV:
PERL="5.18.4"
PERL5LIB=""
PERL5OPT=""
PERL5_CPANPLUS_IS_RUNNING="18571"
PERL5_CPAN_IS_RUNNING="18571"
PERLVER="5.18.4"
PERL_INLINE_DIRECTORY="/home/david/.Inline-5.18.4"
PERL_MM_USE_DEFAULT="1"
PERL_USE_UNSAFE_INC="0"
@INC:
/home/david/cpantesting/perl-5.18.4/lib/site_perl/5.18.4/x86_64-linux-thread-multi
/home/david/cpantesting/perl-5.18.4/lib/site_perl/5.18.4
/home/david/cpantesting/perl-5.18.4/lib/5.18.4/x86_64-linux-thread-multi
/home/david/cpantesting/perl-5.18.4/lib/5.18.4
.