App-RoboBot v4.004 Perl 5 v5.24.4 RC1 x86_64-linux

Status
Pass
From
Slaven Rezić (SREZIC)
Dist
App-RoboBot v4.004
Platform
Perl 5 v5.24.4 RC1 x86_64-linux
Date
2018-03-26 07:54:08
ID
dced7b70-30ca-11e8-978c-90a8525fbffd
This distribution has been tested as part of the CPAN Testers
project, supporting the Perl programming language.  See
http://wiki.cpantesters.org/ for more information or email
questions to cpan-testers-discuss@perl.org


--
Dear Jon Sime,

This is a computer-generated report for App-RoboBot-4.004
on perl 5.24.4, created by CPAN-Reporter-1.2018.

Thank you for uploading your work to CPAN.  Congratulations!
All tests were successful.

Sections of this report:

    * Tester comments
    * Program output
    * Prerequisites
    * Environment and other context

------------------------------
TESTER COMMENTS
------------------------------

Additional comments from tester:

none provided

------------------------------
PROGRAM OUTPUT
------------------------------

Output from '/usr/bin/make test':

Skip blib/lib/auto/share/dist/App-RoboBot/migrations/revert/p-autoreply-20161128171050.sql (unchanged)
Skip blib/lib/auto/share/dist/App-RoboBot/migrations/verify/p-fakequotes-20161128183237.sql (unchanged)
Skip blib/lib/auto/share/dist/App-RoboBot/migrations/verify/p-markov-20161128212720.sql (unchanged)
Skip blib/lib/auto/share/dist/App-RoboBot/migrations/revert/p-channellink-20161128173743.sql (unchanged)
Skip blib/lib/auto/share/dist/App-RoboBot/migrations/deploy/p-skills-20161128215019.sql (unchanged)
Skip blib/lib/auto/share/dist/App-RoboBot/migrations/revert/p-karma-20161128200656.sql (unchanged)
Skip blib/lib/auto/share/dist/App-RoboBot/migrations/sqitch.plan (unchanged)
Skip blib/lib/auto/share/dist/App-RoboBot/migrations/verify/p-net-http-20161128214753.sql (unchanged)
Skip blib/lib/auto/share/dist/App-RoboBot/migrations/verify/p-autoreply-20161128171050.sql (unchanged)
Skip blib/lib/auto/share/dist/App-RoboBot/migrations/verify/p-achievements-20161128144040.sql (unchanged)
Skip blib/lib/auto/share/dist/App-RoboBot/migrations/verify/p-auth-20161128164909.sql (unchanged)
Skip blib/lib/auto/share/dist/App-RoboBot/migrations/deploy/p-memos-20161128214110.sql (unchanged)
Skip blib/lib/auto/share/dist/App-RoboBot/migrations/verify/p-madlibs-20161128211213.sql (unchanged)
Skip blib/lib/auto/share/dist/App-RoboBot/migrations/verify/p-logger-20161128205533.sql (unchanged)
Skip blib/lib/auto/share/dist/App-RoboBot/migrations/revert/p-alarms-20161128153112.sql (unchanged)
Skip blib/lib/auto/share/dist/App-RoboBot/migrations/verify/base.sql (unchanged)
Skip blib/lib/auto/share/dist/App-RoboBot/migrations/revert/p-macros-20161128210159.sql (unchanged)
Skip blib/lib/auto/share/dist/App-RoboBot/migrations/revert/p-memos-20161128214110.sql (unchanged)
Skip blib/lib/auto/share/dist/App-RoboBot/migrations/deploy/p-alarms-20161128153112.sql (unchanged)
Skip blib/lib/auto/share/dist/App-RoboBot/migrations/deploy/p-skills-20161128231536.sql (unchanged)
Skip blib/lib/auto/share/dist/App-RoboBot/migrations/deploy/p-markov-20161128212720.sql (unchanged)
Skip blib/lib/auto/share/dist/App-RoboBot/migrations/revert/p-net-http-20161128214753.sql (unchanged)
Skip blib/lib/auto/share/dist/App-RoboBot/migrations/deploy/p-madlibs-20161128211213.sql (unchanged)
Skip blib/lib/auto/share/dist/App-RoboBot/migrations/verify/p-location-20161128204426.sql (unchanged)
Skip blib/lib/auto/share/dist/App-RoboBot/migrations/deploy/p-voting-20161128224521.sql (unchanged)
Skip blib/lib/auto/share/dist/App-RoboBot/robobot.conf.sample (unchanged)
Skip blib/lib/auto/share/dist/App-RoboBot/migrations/revert/p-thinge-20161128223332.sql (unchanged)
Skip blib/lib/auto/share/dist/App-RoboBot/migrations/deploy/p-variables-20161128195027.sql (unchanged)
Skip blib/lib/auto/share/dist/App-RoboBot/migrations/revert/p-skills-20161128215019.sql (unchanged)
Skip blib/lib/auto/share/dist/App-RoboBot/migrations/deploy/p-karma-20161128200656.sql (unchanged)
Skip blib/lib/auto/share/dist/App-RoboBot/migrations/verify/p-karma-20161128200656.sql (unchanged)
Skip blib/lib/auto/share/dist/App-RoboBot/migrations/deploy/p-achievements-20161128144040.sql (unchanged)
Skip blib/lib/auto/share/dist/App-RoboBot/migrations/verify/p-alarms-20161128153112.sql (unchanged)
Skip blib/lib/auto/share/dist/App-RoboBot/migrations/deploy/p-net-urls-20161128224203.sql (unchanged)
Skip blib/lib/auto/share/dist/App-RoboBot/migrations/revert/p-github-20161128190436.sql (unchanged)
Skip blib/lib/auto/share/dist/App-RoboBot/migrations/revert/p-variables-20161128195027.sql (unchanged)
Skip blib/lib/auto/share/dist/App-RoboBot/migrations/verify/p-skills-20161128215019.sql (unchanged)
Skip blib/lib/auto/share/dist/App-RoboBot/migrations/sqitch.conf (unchanged)
Skip blib/lib/auto/share/dist/App-RoboBot/migrations/verify/p-macros-20161128210159.sql (unchanged)
Skip blib/lib/auto/share/dist/App-RoboBot/migrations/revert/p-auth-20161128164909.sql (unchanged)
Skip blib/lib/auto/share/dist/App-RoboBot/migrations/verify/p-github-20161128190436.sql (unchanged)
Skip blib/lib/auto/share/dist/App-RoboBot/migrations/revert/p-skills-20161128231536.sql (unchanged)
Skip blib/lib/auto/share/dist/App-RoboBot/migrations/deploy/base.sql (unchanged)
Skip blib/lib/auto/share/dist/App-RoboBot/migrations/verify/p-net-urls-20161128224203.sql (unchanged)
Skip blib/lib/auto/share/dist/App-RoboBot/migrations/deploy/p-fakequotes-20161128183237.sql (unchanged)
Skip blib/lib/auto/share/dist/App-RoboBot/migrations/verify/p-channellink-20161128173743.sql (unchanged)
Skip blib/lib/auto/share/dist/App-RoboBot/migrations/deploy/p-net-http-20161128214753.sql (unchanged)
Skip blib/lib/auto/share/dist/App-RoboBot/Vagrantfile (unchanged)
Skip blib/lib/auto/share/dist/App-RoboBot/migrations/deploy/p-autoreply-20161128171050.sql (unchanged)
Skip blib/lib/auto/share/dist/App-RoboBot/migrations/deploy/p-location-20161128204426.sql (unchanged)
Skip blib/lib/auto/share/dist/App-RoboBot/migrations/revert/base.sql (unchanged)
Skip blib/lib/auto/share/dist/App-RoboBot/migrations/deploy/p-logger-20161128205533.sql (unchanged)
Skip blib/lib/auto/share/dist/App-RoboBot/migrations/revert/p-net-urls-20161128224203.sql (unchanged)
Skip blib/lib/auto/share/dist/App-RoboBot/migrations/revert/p-factoids-20161128182038.sql (unchanged)
Skip blib/lib/auto/share/dist/App-RoboBot/migrations/deploy/p-thinge-20161128223332.sql (unchanged)
Skip blib/lib/auto/share/dist/App-RoboBot/migrations/revert/p-location-20161128204426.sql (unchanged)
Skip blib/lib/auto/share/dist/App-RoboBot/migrations/verify/p-variables-20161128195027.sql (unchanged)
Skip blib/lib/auto/share/dist/App-RoboBot/migrations/revert/p-voting-20161128224521.sql (unchanged)
Skip blib/lib/auto/share/dist/App-RoboBot/migrations/revert/p-fakequotes-20161128183237.sql (unchanged)
Skip blib/lib/auto/share/dist/App-RoboBot/migrations/deploy/p-channellink-20161128173743.sql (unchanged)
Skip blib/lib/auto/share/dist/App-RoboBot/migrations/deploy/p-github-20161128190436.sql (unchanged)
Skip blib/lib/auto/share/dist/App-RoboBot/ubuntu-xenial-16.04-cloudimg-console.log (unchanged)
Skip blib/lib/auto/share/dist/App-RoboBot/migrations/revert/p-logger-20161128205533.sql (unchanged)
Skip blib/lib/auto/share/dist/App-RoboBot/migrations/verify/p-thinge-20161128223332.sql (unchanged)
Skip blib/lib/auto/share/dist/App-RoboBot/migrations/verify/p-skills-20161128231536.sql (unchanged)
Skip blib/lib/auto/share/dist/App-RoboBot/migrations/deploy/p-auth-20161128164909.sql (unchanged)
Skip blib/lib/auto/share/dist/App-RoboBot/migrations/deploy/p-factoids-20161128182038.sql (unchanged)
Skip blib/lib/auto/share/dist/App-RoboBot/migrations/revert/p-markov-20161128212720.sql (unchanged)
Skip blib/lib/auto/share/dist/App-RoboBot/migrations/revert/p-achievements-20161128144040.sql (unchanged)
Skip blib/lib/auto/share/dist/App-RoboBot/migrations/verify/p-memos-20161128214110.sql (unchanged)
Skip blib/lib/auto/share/dist/App-RoboBot/migrations/deploy/p-macros-20161128210159.sql (unchanged)
Skip blib/lib/auto/share/dist/App-RoboBot/migrations/revert/p-madlibs-20161128211213.sql (unchanged)
Skip blib/lib/auto/share/dist/App-RoboBot/migrations/verify/p-voting-20161128224521.sql (unchanged)
Skip blib/lib/auto/share/dist/App-RoboBot/migrations/verify/p-factoids-20161128182038.sql (unchanged)
PERL_DL_NONLAZY=1 "/opt/perl-5.24.4-RC1/bin/perl" "-MExtUtils::Command::MM" "-MTest::Harness" "-e" "undef *Test::Harness::Switches; test_harness(0, 'blib/lib', 'blib/arch')" t/*.t
# 
# Versions for all modules listed in MYMETA.json (including optional ones):
# 
# === Configure Requires ===
# 
#     Module                  Want Have
#     ----------------------- ---- ----
#     ExtUtils::MakeMaker      any 7.34
#     File::ShareDir::Install 0.06 0.11
# 
# === Build Requires ===
# 
#     Module              Want Have
#     ------------------- ---- ----
#     ExtUtils::MakeMaker  any 7.34
# 
# === Test Requires ===
# 
#     Module              Want     Have
#     ------------------- ---- --------
#     ExtUtils::MakeMaker  any     7.34
#     File::Spec           any     3.74
#     Test::More           any 1.302133
# 
# === Test Recommends ===
# 
#     Module         Want     Have
#     ---------- -------- --------
#     CPAN::Meta 2.120900 2.150010
# 
# === Runtime Requires ===
# 
#     Module                          Want      Have
#     ------------------------------- ---- ---------
#     Acme::Zalgo                      any     0.002
#     AnyEvent                         any      7.14
#     AnyEvent::IRC::Client            any     undef
#     AnyEvent::Mattermost             any     0.002
#     AnyEvent::SlackRTM               any       1.0
#     App::Sqitch                      any    0.9997
#     Clone                            any      0.39
#     Config::Any::Merge               any      0.08
#     Config::General                  any      2.63
#     DBD::Pg                          any     3.7.4
#     DBIx::DataStore                  any     0.097
#     Data::Dumper                     any     2.161
#     DateTime                         any      1.46
#     DateTime::Format::Pg             any   0.16013
#     EV                               any      4.22
#     Exporter::Easy                   any      0.18
#     File::HomeDir                    any     1.002
#     File::ShareDir                   any     1.104
#     FileHandle                       any      2.02
#     Getopt::Long::Descriptive        any     0.102
#     HTML::TreeBuilder::LibXML        any      0.26
#     HTML::TreeBuilder::XPath         any      0.14
#     HTTP::Request                    any      6.15
#     IPC::Open2                       any      1.04
#     JSON                             any   2.97001
#     JSON::Path                       any     0.411
#     LWP::Protocol::https             any      6.07
#     LWP::Simple                      any      6.33
#     LWP::UserAgent                   any      6.33
#     Lingua::EN::Tagger               any      0.28
#     List::Util                       any      1.50
#     Log::Dispatch::Screen            any      2.67
#     Log::Log4perl                    any      1.49
#     Log::Log4perl::Appender::Screen  any     undef
#     Module::Loaded                   any      0.08
#     Module::Pluggable::Object        any       5.2
#     Moose                            any    2.2010
#     MooseX::ClassAttribute           any      0.29
#     MooseX::SetOnce                  any  0.200002
#     Number::Format                   any      1.75
#     Pod::Simple::SimpleTree          any      3.35
#     Scalar::Util                     any      1.50
#     Term::ExtendedColor              any     0.224
#     Text::Aspell                     any      0.09
#     Text::Levenshtein                any      0.13
#     Text::Wrap                       any 2013.0523
#     Time::HiRes                      any    1.9758
#     Try::Tiny                        any      0.30
#     URI                              any      1.73
#     URI::Find                        any  20160806
#     URI::QueryParam                  any      1.73
#     XML::LibXML                      any    2.0132
#     namespace::autoclean             any      0.28
#     strict                           any      1.11
#     vars                             any      1.03
#     warnings                         any      1.36
# 
t/00-report-prereqs.t ............ ok
t/01-use.t ....................... ok
t/50-types-list.t ................ ok
t/50-types-map.t ................. ok
t/50-types-string.t .............. ok
t/50-types-vector.t .............. ok
t/author-pod-syntax.t ............ skipped: these tests are for testing by the author
t/release-changes_has_content.t .. skipped: these tests are for release candidate testing
All tests successful.
Files=8, Tests=96,  4 wallclock secs ( 0.03 usr  0.04 sys +  3.14 cusr  0.31 csys =  3.52 CPU)
Result: PASS

------------------------------
PREREQUISITES
------------------------------

Prerequisite modules loaded:

requires:

    Module                          Need     Have     
    ------------------------------- -------- ---------
    Acme::Zalgo                     0        0.002    
    AnyEvent                        0        7.14     
    AnyEvent::IRC::Client           0        0        
    AnyEvent::Mattermost            0        0.002    
    AnyEvent::SlackRTM              0        1.0      
    App::Sqitch                     0        0.9997   
    Clone                           0        0.39     
    Config::Any::Merge              0        0.08     
    Config::General                 0        2.63     
    Data::Dumper                    0        2.161    
    DateTime                        0        1.46     
    DateTime::Format::Pg            0        0.16013  
    DBD::Pg                         0        3.7.4    
    DBIx::DataStore                 0        0.097    
    EV                              0        4.22     
    Exporter::Easy                  0        0.18     
    File::HomeDir                   0        1.002    
    File::ShareDir                  0        1.104    
    FileHandle                      0        2.02     
    Getopt::Long::Descriptive       0        0.102    
    HTML::TreeBuilder::LibXML       0        0.26     
    HTML::TreeBuilder::XPath        0        0.14     
    HTTP::Request                   0        6.15     
    IPC::Open2                      0        1.04     
    JSON                            0        2.97001  
    JSON::Path                      0        0.411    
    Lingua::EN::Tagger              0        0.28     
    List::Util                      0        1.50     
    Log::Dispatch::Screen           0        2.67     
    Log::Log4perl                   0        1.49     
    Log::Log4perl::Appender::Screen 0        0        
    LWP::Protocol::https            0        6.07     
    LWP::Simple                     0        6.33     
    LWP::UserAgent                  0        6.33     
    Module::Loaded                  0        0.08     
    Module::Pluggable::Object       0        5.2      
    Moose                           0        2.2010   
    MooseX::ClassAttribute          0        0.29     
    MooseX::SetOnce                 0        0.200002 
    namespace::autoclean            0        0.28     
    Number::Format                  0        1.75     
    perl                            5.020000 5.024004 
    Pod::Simple::SimpleTree         0        3.35     
    Scalar::Util                    0        1.50     
    strict                          0        1.11     
    Term::ExtendedColor             0        0.224    
    Text::Aspell                    0        0.09     
    Text::Levenshtein               0        0.13     
    Text::Wrap                      0        2013.0523
    Time::HiRes                     0        1.9758   
    Try::Tiny                       0        0.30     
    URI                             0        1.73     
    URI::Find                       0        20160806 
    URI::QueryParam                 0        1.73     
    vars                            0        1.03     
    warnings                        0        1.36     
    XML::LibXML                     0        2.0132   

build_requires:

    Module                          Need     Have     
    ------------------------------- -------- ---------
    ExtUtils::MakeMaker             0        7.34     
    File::Spec                      0        3.74     
    Test::More                      0        1.302133 

configure_requires:

    Module                          Need     Have     
    ------------------------------- -------- ---------
    ExtUtils::MakeMaker             0        7.34     
    File::ShareDir::Install         0.06     0.11     

opt_build_requires:

    Module                          Need     Have     
    ------------------------------- -------- ---------
    CPAN::Meta                      2.120900 2.150010 


------------------------------
ENVIRONMENT AND OTHER CONTEXT
------------------------------

Environment variables:

    LANG = en_US.UTF-8
    LC_ALL = de_DE.UTF-8
    PATH = /usr/local/bin:/usr/bin:/bin:/usr/local/sbin:/usr/sbin:/sbin:/home/cpansand/bin/linux-gnu:/home/cpansand/bin/sh:/home/cpansand/bin:/usr/games:/home/cpansand/devel:/home/eserte/src/srezic-misc/scripts
    PERL5LIB = 
    PERL5OPT = 
    PERL5_CPANPLUS_IS_RUNNING = 30702
    PERL5_CPAN_IS_RUNNING = 30702
    PERL5_CPAN_IS_RUNNING_IN_RECURSION = 20558,30702
    PERLDOC = -MPod::Perldoc::ToTextOverstrike
    PERL_BATCH = yes
    PERL_CANARY_STABILITY_NOPROMPT = 1
    PERL_CPAN_REPORTER_CONFIG = /var/tmp/cpansmoker-1023/2018032521/cpanreporter_001_config.ini
    PERL_EXTUTILS_AUTOINSTALL = --defaultdeps
    PERL_PARALLEL_SMOKER = yes
    SHELL = /usr/bin/zsh
    TERM = screen
    TMPDIR = /var/tmp/cpansmoker-1023/2018032521

Perl special variables (and OS-specific diagnostics, for MSWin32):

    $^X = /opt/perl-5.24.4-RC1/bin/perl
    $UID/$EUID = 1023 / 1023
    $GID = 1023 1023
    $EGID = 1023 1023

Perl module toolchain versions installed:

    Module              Have    
    ------------------- --------
    CPAN                2.16    
    CPAN::Meta          2.150010
    Cwd                 3.74    
    ExtUtils::CBuilder  0.280230
    ExtUtils::Command   7.34    
    ExtUtils::Install   2.06    
    ExtUtils::MakeMaker 7.34    
    ExtUtils::Manifest  1.70    
    ExtUtils::ParseXS   3.35    
    File::Spec          3.74    
    JSON                2.97001 
    JSON::PP            2.97001 
    Module::Build       0.4224  
    Module::Signature   0.81    
    Parse::CPAN::Meta   2.150010
    Test::Harness       3.42    
    Test::More          1.302133
    YAML                1.24    
    YAML::Syck          1.30    
    version             0.9916  


--

Summary of my perl5 (revision 5 version 24 subversion 4) configuration:
   
  Platform:
    osname=linux, osvers=4.4.0-116-generic, archname=x86_64-linux
    uname='linux ubuntu16 4.4.0-116-generic #140-ubuntu smp mon feb 12 21:23:04 utc 2018 x86_64 x86_64 x86_64 gnulinux '
    config_args='-ds -e -Dprefix=/opt/perl-5.24.4-RC1 -Dcf_email=srezic@cpan.org'
    hint=recommended, useposix=true, d_sigaction=define
    useithreads=undef, usemultiplicity=undef
    use64bitint=define, use64bitall=define, uselongdouble=undef
    usemymalloc=n, bincompat5005=undef
  Compiler:
    cc='cc', ccflags ='-fwrapv -fno-strict-aliasing -pipe -fstack-protector-strong -I/usr/local/include -D_LARGEFILE_SOURCE -D_FILE_OFFSET_BITS=64',
    optimize='-O2',
    cppflags='-fwrapv -fno-strict-aliasing -pipe -fstack-protector-strong -I/usr/local/include'
    ccversion='', gccversion='5.4.0 20160609', gccosandvers=''
    intsize=4, longsize=8, ptrsize=8, doublesize=8, byteorder=12345678, doublekind=3
    d_longlong=define, longlongsize=8, d_longdbl=define, longdblsize=16, longdblkind=3
    ivtype='long', ivsize=8, nvtype='double', nvsize=8, Off_t='off_t', lseeksize=8
    alignbytes=8, prototype=define
  Linker and Libraries:
    ld='cc', ldflags =' -fstack-protector-strong -L/usr/local/lib'
    libpth=/usr/local/lib /usr/lib/gcc/x86_64-linux-gnu/5/include-fixed /usr/include/x86_64-linux-gnu /usr/lib /lib/x86_64-linux-gnu /lib/../lib /usr/lib/x86_64-linux-gnu /usr/lib/../lib /lib
    libs=-lpthread -lnsl -lgdbm -ldb -ldl -lm -lcrypt -lutil -lc -lgdbm_compat
    perllibs=-lpthread -lnsl -ldl -lm -lcrypt -lutil -lc
    libc=libc-2.23.so, so=so, useshrplib=false, libperl=libperl.a
    gnulibc_version='2.23'
  Dynamic Linking:
    dlsrc=dl_dlopen.xs, dlext=so, d_dlsymun=undef, ccdlflags='-Wl,-E'
    cccdlflags='-fPIC', lddlflags='-shared -O2 -L/usr/local/lib -fstack-protector-strong'


Characteristics of this binary (from libperl): 
  Compile-time options: HAS_TIMES PERLIO_LAYERS PERL_COPY_ON_WRITE
                        PERL_DONT_CREATE_GVSV
                        PERL_HASH_FUNC_ONE_AT_A_TIME_HARD PERL_MALLOC_WRAP
                        PERL_PRESERVE_IVUV USE_64_BIT_ALL USE_64_BIT_INT
                        USE_LARGE_FILES USE_LOCALE USE_LOCALE_COLLATE
                        USE_LOCALE_CTYPE USE_LOCALE_NUMERIC USE_LOCALE_TIME
                        USE_PERLIO USE_PERL_ATOF
  Locally applied patches:
	RC1
  Built under linux
  Compiled at Mar 24 2018 19:56:23
  %ENV:
    PERL5LIB=""
    PERL5OPT=""
    PERL5_CPANPLUS_IS_RUNNING="30702"
    PERL5_CPAN_IS_RUNNING="30702"
    PERL5_CPAN_IS_RUNNING_IN_RECURSION="20558,30702"
    PERLDOC="-MPod::Perldoc::ToTextOverstrike"
    PERL_BATCH="yes"
    PERL_CANARY_STABILITY_NOPROMPT="1"
    PERL_CPAN_REPORTER_CONFIG="/var/tmp/cpansmoker-1023/2018032521/cpanreporter_001_config.ini"
    PERL_EXTUTILS_AUTOINSTALL="--defaultdeps"
    PERL_PARALLEL_SMOKER="yes"
  @INC:
    /opt/perl-5.24.4-RC1/lib/site_perl/5.24.4/x86_64-linux
    /opt/perl-5.24.4-RC1/lib/site_perl/5.24.4
    /opt/perl-5.24.4-RC1/lib/5.24.4/x86_64-linux
    /opt/perl-5.24.4-RC1/lib/5.24.4
    .