Bot-IRC v1.40 Perl 5 v5.26.2 darwin-thread-multi-2level

Status
Pass
From
David Cantrell (DCANTRELL)
Dist
Bot-IRC v1.40
Platform
Perl 5 v5.26.2 darwin-thread-multi-2level
Date
2023-08-23T07:37:07
ID
dcdd28fa-4187-11ee-a8e1-4a46ff591b58
This distribution has been tested as part of the CPAN Testers
project, supporting the Perl programming language.  See
http://wiki.cpantesters.org/ for more information or email
questions to cpan-testers-discuss@perl.org


--
Dear Gryphon Shafer,

This is a computer-generated report for Bot-IRC-1.40
on perl 5.26.2, created by CPAN-Reporter-1.2019.

Thank you for uploading your work to CPAN.  Congratulations!
All tests were successful.

Sections of this report:

    * Tester comments
    * Program output
    * Prerequisites
    * Environment and other context

------------------------------
TESTER COMMENTS
------------------------------

Additional comments from tester:

this report is from an automated smoke testing program
and was not reviewed by a human for accuracy

------------------------------
PROGRAM OUTPUT
------------------------------

Output from '/usr/bin/make test':

PERL_DL_NONLAZY=1 "/Users/cpantesting/cpantesting/perl-5.26.2/bin/perl" "-MExtUtils::Command::MM" "-MTest::Harness" "-e" "undef *Test::Harness::Switches; test_harness(0, 'blib/lib', 'blib/arch')" t/*.t
t/00-compile.t ........... ok
t/author-eol.t ........... skipped: these tests are for testing by the author
t/author-no-tabs.t ....... skipped: these tests are for testing by the author
t/author-pod-coverage.t .. skipped: these tests are for testing by the author
t/author-pod-syntax.t .... skipped: these tests are for testing by the author
t/author-portability.t ... skipped: these tests are for testing by the author
t/author-synopsis.t ...... skipped: these tests are for testing by the author
t/bot-irc-api.t .......... ok
t/bot-irc-run.t .......... ok
t/convert.t .............. ok
t/functions.t ............ ok
t/greeting.t ............. ok
t/history.t .............. ok
t/infobot.t .............. ok
t/join.t ................. ok
t/karma.t ................ ok
t/math.t ................. ok
t/ping.t ................. ok
t/release-kwalitee.t ..... skipped: these tests are for release candidate testing
t/seen.t ................. ok
t/store-sqlite.t ......... ok
t/store.t ................ ok
All tests successful.
Files=22, Tests=70,  5 wallclock secs ( 0.05 usr  0.05 sys +  4.13 cusr  0.72 csys =  4.95 CPU)
Result: PASS

------------------------------
PREREQUISITES
------------------------------

Prerequisite modules loaded:

requires:

    Module                            Need  Have    
    --------------------------------- ----- --------
    Daemon::Device                    0     1.10    
    Date::Format                      0     2.24    
    Date::Parse                       0     2.33    
    DateTime                          0     1.59    
    DateTime::Format::Human::Duration 0     0.64    
    DBD::SQLite                       0     1.72    
    DBI                               0     1.643   
    Email::Mailer                     0     1.19    
    Email::Valid                      0     1.203   
    Encode                            0     3.19    
    Encode::Detect::Detector          0     1.01    
    exact                             1.14  1.22    
    exact::class                      1.10  1.18    
    File::Grep                        0     0.02    
    IO::Socket::IP                    0     0.38    
    IO::Socket::SSL                   0     2.068   
    JSON::XS                          0     4.03    
    Math::Expression                  0     1.48    
    Math::Units                       0     1.3     
    perl                              5.014 5.026002
    strict                            0     1.11    
    Time::Crontab                     0     0.04    
    warnings                          0     1.37    
    YAML::XS                          0     0.88    

build_requires:

    Module                            Need  Have    
    --------------------------------- ----- --------
    exact::class                      1.10  1.18    
    ExtUtils::MakeMaker               0     7.58    
    File::Spec                        0     3.67    
    IO::Handle                        0     1.36    
    IPC::Open3                        0     1.20    
    Test2::Mock                       0     0.000155
    Test2::V0                         0     0.000155
    Test::Lib                         0     0.003   
    Test::More                        0     1.302195
    Test::Output                      0     1.034   

configure_requires:

    Module                            Need  Have    
    --------------------------------- ----- --------
    ExtUtils::MakeMaker               0     7.58    
    perl                              5.014 5.026002


------------------------------
ENVIRONMENT AND OTHER CONTEXT
------------------------------

Environment variables:

    AUTOMATED_TESTING = 1
    NONINTERACTIVE_TESTING = 1
    PATH = /Users/cpantesting/perl5/perlbrew/bin:/Users/cpantesting/perl5/perlbrew/perls/perl-5.32.0/bin:/usr/local/bin:/usr/bin:/bin:/usr/sbin:/sbin:/Library/Apple/usr/bin:/Users/cpantesting/.cargo/bin
    PERL = 5.26.2
    PERL5LIB = 
    PERL5OPT = 
    PERL5_CPANPLUS_IS_RUNNING = 78169
    PERL5_CPAN_IS_RUNNING = 78169
    PERLBREW_HOME = /Users/cpantesting/.perlbrew
    PERLBREW_MANPATH = /Users/cpantesting/perl5/perlbrew/perls/perl-5.32.0/man
    PERLBREW_PATH = /Users/cpantesting/perl5/perlbrew/bin:/Users/cpantesting/perl5/perlbrew/perls/perl-5.32.0/bin
    PERLBREW_PERL = perl-5.32.0
    PERLBREW_ROOT = /Users/cpantesting/perl5/perlbrew
    PERLBREW_SHELLRC_VERSION = 0.94
    PERLBREW_VERSION = 0.94
    PERLVER = 5.26.2
    PERL_INLINE_DIRECTORY = /Users/cpantesting/.Inline-5.26.2
    PERL_MM_USE_DEFAULT = 1
    PERL_USE_UNSAFE_INC = 0
    SHELL = /bin/bash
    TERM = screen

Perl special variables (and OS-specific diagnostics, for MSWin32):

    $^X = /Users/cpantesting/cpantesting/perl-5.26.2/bin/perl
    $UID/$EUID = 503 / 503
    $GID = 20 20 12 61 703 702 701 100
    $EGID = 20 20 12 61 703 702 701 100

Perl module toolchain versions installed:

    Module              Have    
    ------------------- --------
    CPAN                2.18    
    CPAN::Meta          2.150010
    Cwd                 3.67    
    ExtUtils::CBuilder  0.280235
    ExtUtils::Command   7.58    
    ExtUtils::Install   2.06    
    ExtUtils::MakeMaker 7.58    
    ExtUtils::Manifest  1.70    
    ExtUtils::ParseXS   3.34    
    File::Spec          3.67    
    JSON                4.10    
    JSON::PP            4.16    
    Module::Build       0.4231  
    Module::Signature   n/a     
    Parse::CPAN::Meta   2.150010
    Test2               1.302195
    Test::Harness       3.38    
    Test::More          1.302195
    YAML                1.30    
    YAML::Syck          1.34    
    version             0.9917  


--

Summary of my perl5 (revision 5 version 26 subversion 2) configuration:
   
  Platform:
    osname=darwin
    osvers=19.6.0
    archname=darwin-thread-multi-2level
    uname='darwin harrow.local 19.6.0 darwin kernel version 19.6.0: thu oct 29 22:56:45 pdt 2020; root:xnu-6153.141.2.2~1release_x86_64 x86_64 '
    config_args='-de -Dusethreads -Dprefix=/Users/cpantesting/cpantesting/perl-5.26.2'
    hint=recommended
    useposix=true
    d_sigaction=define
    useithreads=define
    usemultiplicity=define
    use64bitint=define
    use64bitall=define
    uselongdouble=undef
    usemymalloc=n
    default_inc_excludes_dot=define
    bincompat5005=undef
  Compiler:
    cc='cc'
    ccflags ='-fno-common -DPERL_DARWIN -mmacosx-version-min=10.15 -fno-strict-aliasing -pipe -fstack-protector-strong -I/usr/local/include -DPERL_USE_SAFE_PUTENV'
    optimize='-O3'
    cppflags='-fno-common -DPERL_DARWIN -mmacosx-version-min=10.15 -fno-strict-aliasing -pipe -fstack-protector-strong -I/usr/local/include'
    ccversion=''
    gccversion='Apple LLVM 12.0.0 (clang-1200.0.32.27)'
    gccosandvers=''
    intsize=4
    longsize=8
    ptrsize=8
    doublesize=8
    byteorder=12345678
    doublekind=3
    d_longlong=define
    longlongsize=8
    d_longdbl=define
    longdblsize=16
    longdblkind=3
    ivtype='long'
    ivsize=8
    nvtype='double'
    nvsize=8
    Off_t='off_t'
    lseeksize=8
    alignbytes=8
    prototype=define
  Linker and Libraries:
    ld='cc'
    ldflags =' -mmacosx-version-min=10.15 -fstack-protector-strong -L/usr/local/lib'
    libpth=/usr/local/lib /Library/Developer/CommandLineTools/usr/lib/clang/12.0.0/lib /Library/Developer/CommandLineTools/SDKs/MacOSX10.15.sdk/usr/lib /Library/Developer/CommandLineTools/usr/lib /usr/lib
    libs=-lpthread -lgdbm -ldbm -ldl -lm -lutil -lc
    perllibs=-lpthread -ldl -lm -lutil -lc
    libc=
    so=dylib
    useshrplib=false
    libperl=libperl.a
    gnulibc_version=''
  Dynamic Linking:
    dlsrc=dl_dlopen.xs
    dlext=bundle
    d_dlsymun=undef
    ccdlflags=' '
    cccdlflags=' '
    lddlflags=' -mmacosx-version-min=10.15 -bundle -undefined dynamic_lookup -L/usr/local/lib -fstack-protector-strong'


Characteristics of this binary (from libperl): 
  Compile-time options:
    HAS_TIMES
    MULTIPLICITY
    PERLIO_LAYERS
    PERL_COPY_ON_WRITE
    PERL_DONT_CREATE_GVSV
    PERL_IMPLICIT_CONTEXT
    PERL_MALLOC_WRAP
    PERL_OP_PARENT
    PERL_PRESERVE_IVUV
    PERL_USE_SAFE_PUTENV
    USE_64_BIT_ALL
    USE_64_BIT_INT
    USE_ITHREADS
    USE_LARGE_FILES
    USE_LOCALE
    USE_LOCALE_COLLATE
    USE_LOCALE_CTYPE
    USE_LOCALE_NUMERIC
    USE_LOCALE_TIME
    USE_PERLIO
    USE_PERL_ATOF
    USE_REENTRANT_API
  Built under darwin
  Compiled at Dec 29 2020 22:52:38
  %ENV:
    PERL="5.26.2"
    PERL5LIB=""
    PERL5OPT=""
    PERL5_CPANPLUS_IS_RUNNING="78169"
    PERL5_CPAN_IS_RUNNING="78169"
    PERLBREW_HOME="/Users/cpantesting/.perlbrew"
    PERLBREW_MANPATH="/Users/cpantesting/perl5/perlbrew/perls/perl-5.32.0/man"
    PERLBREW_PATH="/Users/cpantesting/perl5/perlbrew/bin:/Users/cpantesting/perl5/perlbrew/perls/perl-5.32.0/bin"
    PERLBREW_PERL="perl-5.32.0"
    PERLBREW_ROOT="/Users/cpantesting/perl5/perlbrew"
    PERLBREW_SHELLRC_VERSION="0.94"
    PERLBREW_VERSION="0.94"
    PERLVER="5.26.2"
    PERL_INLINE_DIRECTORY="/Users/cpantesting/.Inline-5.26.2"
    PERL_MM_USE_DEFAULT="1"
    PERL_USE_UNSAFE_INC="0"
  @INC:
    /Users/cpantesting/cpantesting/perl-5.26.2/lib/site_perl/5.26.2/darwin-thread-multi-2level
    /Users/cpantesting/cpantesting/perl-5.26.2/lib/site_perl/5.26.2
    /Users/cpantesting/cpantesting/perl-5.26.2/lib/5.26.2/darwin-thread-multi-2level
    /Users/cpantesting/cpantesting/perl-5.26.2/lib/5.26.2