Config-App v1.17 Perl 5 v5.28.1 i686-linux-thread-multi-64int-ld

Status
Pass
From
Chris Williams (BINGOS)
Dist
Config-App v1.17
Platform
Perl 5 v5.28.1 i686-linux-thread-multi-64int-ld
Date
2023-11-13T01:35:01
ID
dcd5ba98-81c4-11ee-98b0-b3c3213a625c
This distribution has been tested as part of the CPAN Testers
project, supporting the Perl programming language.  See
http://wiki.cpantesters.org/ for more information or email
questions to cpan-testers-discuss@perl.org


--

Dear GRYPHON,

This is a computer-generated error report created automatically by
CPANPLUS, version 0.9914. Testers personal comments may appear
at the end of this report.


Thank you for uploading your work to CPAN.  Congratulations!
All tests were successful.

TEST RESULTS:

Below is the error stack from stage 'make test':

PERL_DL_NONLAZY=1 "/home/cpan/pit/rel-ld/perl-5.28.1/bin/perl" "-MExtUtils::Command::MM" "-MTest::Harness" "-e" "undef *Test::Harness::Switches; test_harness(0, 'blib/lib', 'blib/arch')" t/*.t
t/00-compile.t ........... ok
t/author-eol.t ........... skipped: these tests are for testing by the author
t/author-no-tabs.t ....... skipped: these tests are for testing by the author
t/author-pod-coverage.t .. skipped: these tests are for testing by the author
t/author-pod-syntax.t .... skipped: these tests are for testing by the author
t/author-portability.t ... skipped: these tests are for testing by the author
t/author-synopsis.t ...... skipped: these tests are for testing by the author
t/libs.t ................. ok
t/merge.t ................ ok
t/module.t ............... ok
t/preinclude.t ........... ok
t/regress.t .............. ok
t/release-kwalitee.t ..... skipped: these tests are for release candidate testing
All tests successful.
Files=13, Tests=28,  0 wallclock secs ( 0.04 usr  0.01 sys +  0.67 cusr  0.10 csys =  0.82 CPU)
Result: PASS


PREREQUISITES:

Here is a list of prerequisites you specified and versions we
managed to load:

	  Module Name                        Have     Want
	  Carp                               1.50        0
	  Cwd                                3.75        0
	  ExtUtils::MakeMaker                7.70        0
	  File::Spec                         3.75        0
	  FindBin                            1.51        0
	  IO::Handle                         1.39        0
	  IPC::Open3                         1.20        0
	  JSON::XS                           4.03        0
	  LWP::UserAgent                     6.72        0
	  POSIX                              1.84        0
	  Test2::V0                      0.000159        0
	  Test::More                     1.302195        0
	  Test::Warn                         0.37        0
	  URI                                5.21        0
	  YAML::XS                           0.88        0
	  strict                             1.11        0
	  warnings                           1.42        0

Perl module toolchain versions installed:
	Module Name                        Have
	CPANPLUS                         0.9914
	CPANPLUS::Dist::Build              0.90
	Cwd                                3.75
	ExtUtils::CBuilder             0.280236
	ExtUtils::Command                  7.70
	ExtUtils::Install                  2.22
	ExtUtils::MakeMaker                7.70
	ExtUtils::Manifest                 1.75
	ExtUtils::ParseXS                  3.44
	File::Spec                         3.75
	Module::Build                    0.4234
	Pod::Parser                        1.63
	Pod::Simple                        3.35
	Test2                          1.302195
	Test::Harness                      3.44
	Test::More                     1.302195
	version                          0.9929

******************************** NOTE ********************************
The comments above are created mechanically, possibly without manual
checking by the sender.  As there are many people performing automatic
tests on each upload to CPAN, it is likely that you will receive
identical messages about the same problem.

If you believe that the message is mistaken, please reply to the first
one with correction and/or additional informations, and do not take
it personally.  We appreciate your patience. :)
**********************************************************************

Additional comments:


This report was machine-generated by CPANPLUS::Dist::YACSmoke 1.08.
Powered by minismokebox version 0.68

CPANPLUS is prefering Build.PL

------------------------------
ENVIRONMENT AND OTHER CONTEXT
------------------------------

Environment variables:

    AUTOMATED_TESTING = 1
    LANG = en_GB.UTF-8
    LANGUAGE = en_GB:en
    NONINTERACTIVE_TESTING = 1
    PATH = /usr/local/bin:/usr/bin:/bin:/usr/local/games:/usr/games
    PERL5LIB = /home/cpan/pit/jail/_g31QC4xvG/lib/perl5:/home/cpan/pit/rel-ld/conf/perl-5.28.1/.cpanplus/5.28.1/build/sxBR8cw1bM/Config-App-1.17/blib/lib:/home/cpan/pit/rel-ld/conf/perl-5.28.1/.cpanplus/5.28.1/build/sxBR8cw1bM/Config-App-1.17/blib/arch
    PERL5_CPANPLUS_IS_RUNNING = 12225
    PERL5_CPANPLUS_IS_VERSION = 0.9914
    PERL5_MINISMOKEBOX = 0.68
    PERL5_YACSMOKE_BASE = /home/cpan/pit/rel-ld/conf/perl-5.28.1
    PERL_EXTUTILS_AUTOINSTALL = --defaultdeps
    PERL_LOCAL_LIB_ROOT = /home/cpan/pit/jail/_g31QC4xvG
    PERL_MB_OPT = --install_base "/home/cpan/pit/jail/_g31QC4xvG"
    PERL_MM_OPT = INSTALL_BASE=/home/cpan/pit/jail/_g31QC4xvG
    PERL_MM_USE_DEFAULT = 1
    SHELL = /bin/bash
    TERM = screen.xterm-256color

Perl special variables (and OS-specific diagnostics, for MSWin32):

    Perl: $^X = /home/cpan/pit/rel-ld/perl-5.28.1/bin/perl
    UID:  $<  = 1001
    EUID: $>  = 1001
    GID:  $(  = 1001 1001
    EGID: $)  = 1001 1001


-------------------------------


--

Summary of my perl5 (revision 5 version 28 subversion 1) configuration:
   
  Platform:
    osname=linux
    osvers=5.10.0-12-686
    archname=i686-linux-thread-multi-64int-ld
    uname='linux dagobah 5.10.0-12-686 #1 smp debian 5.10.103-1 (2022-03-07) i686 gnulinux '
    config_args='-des -Dprefix=/home/cpan/pit/rel-ld/perl-5.28.1 -Dusethreads -Duse64bitint -Duselongdouble'
    hint=recommended
    useposix=true
    d_sigaction=define
    useithreads=define
    usemultiplicity=define
    use64bitint=define
    use64bitall=undef
    uselongdouble=define
    usemymalloc=n
    default_inc_excludes_dot=define
    bincompat5005=undef
  Compiler:
    cc='cc'
    ccflags ='-D_REENTRANT -D_GNU_SOURCE -fwrapv -fno-strict-aliasing -pipe -fstack-protector-strong -I/usr/local/include -D_LARGEFILE_SOURCE -D_FILE_OFFSET_BITS=64 -D_FORTIFY_SOURCE=2'
    optimize='-O2'
    cppflags='-D_REENTRANT -D_GNU_SOURCE -fwrapv -fno-strict-aliasing -pipe -fstack-protector-strong -I/usr/local/include'
    ccversion=''
    gccversion='10.2.1 20210110'
    gccosandvers=''
    intsize=4
    longsize=4
    ptrsize=4
    doublesize=8
    byteorder=12345678
    doublekind=3
    d_longlong=define
    longlongsize=8
    d_longdbl=define
    longdblsize=12
    longdblkind=3
    ivtype='long long'
    ivsize=8
    nvtype='long double'
    nvsize=12
    Off_t='off_t'
    lseeksize=8
    alignbytes=4
    prototype=define
  Linker and Libraries:
    ld='cc'
    ldflags =' -fstack-protector-strong -L/usr/local/lib'
    libpth=/usr/local/lib /usr/include/i386-linux-gnu /usr/lib /lib/i386-linux-gnu /lib/../lib /usr/lib/i386-linux-gnu /usr/lib/../lib /lib /lib64 /usr/lib64
    libs=-lpthread -lnsl -lgdbm -ldl -lm -lcrypt -lutil -lc
    perllibs=-lpthread -lnsl -ldl -lm -lcrypt -lutil -lc
    libc=libc-2.31.so
    so=so
    useshrplib=false
    libperl=libperl.a
    gnulibc_version='2.31'
  Dynamic Linking:
    dlsrc=dl_dlopen.xs
    dlext=so
    d_dlsymun=undef
    ccdlflags='-Wl,-E'
    cccdlflags='-fPIC'
    lddlflags='-shared -O2 -L/usr/local/lib -fstack-protector-strong'


Characteristics of this binary (from libperl): 
  Compile-time options:
    HAS_TIMES
    MULTIPLICITY
    PERLIO_LAYERS
    PERL_COPY_ON_WRITE
    PERL_DONT_CREATE_GVSV
    PERL_IMPLICIT_CONTEXT
    PERL_MALLOC_WRAP
    PERL_OP_PARENT
    PERL_PRESERVE_IVUV
    USE_64_BIT_INT
    USE_ITHREADS
    USE_LARGE_FILES
    USE_LOCALE
    USE_LOCALE_COLLATE
    USE_LOCALE_CTYPE
    USE_LOCALE_NUMERIC
    USE_LOCALE_TIME
    USE_LONG_DOUBLE
    USE_PERLIO
    USE_PERL_ATOF
    USE_REENTRANT_API
  Locally applied patches:
    Devel::PatchPerl 2.08
  Built under linux
  Compiled at Mar 20 2022 02:06:11
  %ENV:
    PERL5LIB="/home/cpan/pit/jail/_g31QC4xvG/lib/perl5:/home/cpan/pit/rel-ld/conf/perl-5.28.1/.cpanplus/5.28.1/build/sxBR8cw1bM/Config-App-1.17/blib/lib:/home/cpan/pit/rel-ld/conf/perl-5.28.1/.cpanplus/5.28.1/build/sxBR8cw1bM/Config-App-1.17/blib/arch"
    PERL5_CPANPLUS_IS_RUNNING="12225"
    PERL5_CPANPLUS_IS_VERSION="0.9914"
    PERL5_MINISMOKEBOX="0.68"
    PERL5_YACSMOKE_BASE="/home/cpan/pit/rel-ld/conf/perl-5.28.1"
    PERL_EXTUTILS_AUTOINSTALL="--defaultdeps"
    PERL_LOCAL_LIB_ROOT="/home/cpan/pit/jail/_g31QC4xvG"
    PERL_MB_OPT="--install_base "/home/cpan/pit/jail/_g31QC4xvG""
    PERL_MM_OPT="INSTALL_BASE=/home/cpan/pit/jail/_g31QC4xvG"
    PERL_MM_USE_DEFAULT="1"
  @INC:
    /home/cpan/pit/jail/_g31QC4xvG/lib/perl5/5.28.1/i686-linux-thread-multi-64int-ld
    /home/cpan/pit/jail/_g31QC4xvG/lib/perl5/5.28.1
    /home/cpan/pit/jail/_g31QC4xvG/lib/perl5/i686-linux-thread-multi-64int-ld
    /home/cpan/pit/jail/_g31QC4xvG/lib/perl5
    /home/cpan/pit/rel-ld/conf/perl-5.28.1/.cpanplus/5.28.1/build/sxBR8cw1bM/Config-App-1.17/blib/lib
    /home/cpan/pit/rel-ld/conf/perl-5.28.1/.cpanplus/5.28.1/build/sxBR8cw1bM/Config-App-1.17/blib/arch
    /home/cpan/pit/rel-ld/perl-5.28.1/lib/site_perl/5.28.1/i686-linux-thread-multi-64int-ld
    /home/cpan/pit/rel-ld/perl-5.28.1/lib/site_perl/5.28.1
    /home/cpan/pit/rel-ld/perl-5.28.1/lib/5.28.1/i686-linux-thread-multi-64int-ld
    /home/cpan/pit/rel-ld/perl-5.28.1/lib/5.28.1