KiokuDB v0.57 Perl 5 v5.27.9 x86_64-linux

Status
Pass
From
Slaven Rezić (SREZIC)
Dist
KiokuDB v0.57
Platform
Perl 5 v5.27.9 x86_64-linux
Date
2018-02-27 14:38:22
ID
dc59b6e2-1bcb-11e8-9ca0-e42e65acf2e9
This distribution has been tested as part of the CPAN Testers
project, supporting the Perl programming language.  See
http://wiki.cpantesters.org/ for more information or email
questions to cpan-testers-discuss@perl.org


--
Dear Jesse Luehrs,

This is a computer-generated report for KiokuDB-0.57
on perl 5.27.9, created by CPAN-Reporter-1.2018.

Thank you for uploading your work to CPAN.  Congratulations!
All tests were successful.

Sections of this report:

    * Tester comments
    * Program output
    * Prerequisites
    * Environment and other context

------------------------------
TESTER COMMENTS
------------------------------

Additional comments from tester:

none provided

------------------------------
PROGRAM OUTPUT
------------------------------

Output from '/usr/bin/make test':

PERL_DL_NONLAZY=1 "/opt/perl-5.27.9/bin/perl5.27.9" "-MExtUtils::Command::MM" "-MTest::Harness" "-e" "undef *Test::Harness::Switches; test_harness(0, 'blib/lib', 'blib/arch')" t/*.t
t/00-compile.t ................. ok
t/coderefs.t ................... ok
t/collapser.t .................. ok
t/digest.t ..................... ok
t/directory.t .................. ok
t/entry.t ...................... ok
t/gc_naive.t ................... ok
Attempt to free unreferenced scalar: SV 0x61ea940 at /home/cpansand/.cpan/build/2018022712/KiokuDB-0.57-2/blib/lib/KiokuDB/Test/Fixture/Sets.pm line 150.
t/gin.t ........................ ok
Attempt to free unreferenced scalar: SV 0x59d04c0 at /home/cpansand/.cpan/build/2018022712/KiokuDB-0.57-2/blib/lib/KiokuDB/Test/Fixture/Sets.pm line 150.
Attempt to free unreferenced scalar: SV 0x5ff2b48 at /home/cpansand/.cpan/build/2018022712/KiokuDB-0.57-2/blib/lib/KiokuDB/Test/Fixture/Sets.pm line 150.
Attempt to free unreferenced scalar: SV 0x6801480 at /home/cpansand/.cpan/build/2018022712/KiokuDB-0.57-2/blib/lib/KiokuDB/Test/Fixture/Sets.pm line 150.
Attempt to free unreferenced scalar: SV 0x65dfdd0 at /home/cpansand/.cpan/build/2018022712/KiokuDB-0.57-2/blib/lib/KiokuDB/Test/Fixture/Sets.pm line 150.
Attempt to free unreferenced scalar: SV 0x5fe0930 at /home/cpansand/.cpan/build/2018022712/KiokuDB-0.57-2/blib/lib/KiokuDB/Test/Fixture/Sets.pm line 150.
Attempt to free unreferenced scalar: SV 0x6581640 at /home/cpansand/.cpan/build/2018022712/KiokuDB-0.57-2/blib/lib/KiokuDB/Test/Fixture/Sets.pm line 150.
Attempt to free unreferenced scalar: SV 0x6956118 at /home/cpansand/.cpan/build/2018022712/KiokuDB-0.57-2/blib/lib/KiokuDB/Test/Fixture/Sets.pm line 150.
Attempt to free unreferenced scalar: SV 0x652ccd0 at /home/cpansand/.cpan/build/2018022712/KiokuDB-0.57-2/blib/lib/KiokuDB/Test/Fixture/Sets.pm line 150.
Attempt to free unreferenced scalar: SV 0x6716ca0 at /home/cpansand/.cpan/build/2018022712/KiokuDB-0.57-2/blib/lib/KiokuDB/Test/Fixture/Sets.pm line 150.
Attempt to free unreferenced scalar: SV 0x6088050 at /home/cpansand/.cpan/build/2018022712/KiokuDB-0.57-2/blib/lib/KiokuDB/Test/Fixture/Sets.pm line 150.
Attempt to free unreferenced scalar: SV 0x626b238 at /home/cpansand/.cpan/build/2018022712/KiokuDB-0.57-2/blib/lib/KiokuDB/Test/Fixture/Sets.pm line 150.
Attempt to free unreferenced scalar: SV 0x6371658 at /home/cpansand/.cpan/build/2018022712/KiokuDB-0.57-2/blib/lib/KiokuDB/Test/Fixture/Sets.pm line 150.
Attempt to free unreferenced scalar: SV 0x67d39d8 at /home/cpansand/.cpan/build/2018022712/KiokuDB-0.57-2/blib/lib/KiokuDB/Test/Fixture/Sets.pm line 150.
Attempt to free unreferenced scalar: SV 0x6fb7ab8 at /home/cpansand/.cpan/build/2018022712/KiokuDB-0.57-2/blib/lib/KiokuDB/Test/Fixture/Sets.pm line 150.
Attempt to free unreferenced scalar: SV 0x6ebddc0 at /home/cpansand/.cpan/build/2018022712/KiokuDB-0.57-2/blib/lib/KiokuDB/Test/Fixture/Sets.pm line 150.
Attempt to free unreferenced scalar: SV 0x6645cc8 at /home/cpansand/.cpan/build/2018022712/KiokuDB-0.57-2/blib/lib/KiokuDB/Test/Fixture/Sets.pm line 150.
Attempt to free unreferenced scalar: SV 0x69a9c60 at /home/cpansand/.cpan/build/2018022712/KiokuDB-0.57-2/blib/lib/KiokuDB/Test/Fixture/Sets.pm line 150.
Attempt to free unreferenced scalar: SV 0x71d3908 at /home/cpansand/.cpan/build/2018022712/KiokuDB-0.57-2/blib/lib/KiokuDB/Test/Fixture/Sets.pm line 150.
Attempt to free unreferenced scalar: SV 0x6df8eb8 at /home/cpansand/.cpan/build/2018022712/KiokuDB-0.57-2/blib/lib/KiokuDB/Test/Fixture/Sets.pm line 150.
Attempt to free unreferenced scalar: SV 0x6f6e550 at /home/cpansand/.cpan/build/2018022712/KiokuDB-0.57-2/blib/lib/KiokuDB/Test/Fixture/Sets.pm line 150.
Attempt to free unreferenced scalar: SV 0x6e3ead0 at /home/cpansand/.cpan/build/2018022712/KiokuDB-0.57-2/blib/lib/KiokuDB/Test/Fixture/Sets.pm line 150.
Attempt to free unreferenced scalar: SV 0x7382338 at /home/cpansand/.cpan/build/2018022712/KiokuDB-0.57-2/blib/lib/KiokuDB/Test/Fixture/Sets.pm line 150.
Attempt to free unreferenced scalar: SV 0x6fe5f68 at /home/cpansand/.cpan/build/2018022712/KiokuDB-0.57-2/blib/lib/KiokuDB/Test/Fixture/Sets.pm line 150.
Attempt to free unreferenced scalar: SV 0x7928bb8 at /home/cpansand/.cpan/build/2018022712/KiokuDB-0.57-2/blib/lib/KiokuDB/Test/Fixture/Sets.pm line 150.
Attempt to free unreferenced scalar: SV 0x78db0e0 at /home/cpansand/.cpan/build/2018022712/KiokuDB-0.57-2/blib/lib/KiokuDB/Test/Fixture/Sets.pm line 150.
Attempt to free unreferenced scalar: SV 0x74a7448 at /home/cpansand/.cpan/build/2018022712/KiokuDB-0.57-2/blib/lib/KiokuDB/Test/Fixture/Sets.pm line 150.
Attempt to free unreferenced scalar: SV 0x6b3b148 at /home/cpansand/.cpan/build/2018022712/KiokuDB-0.57-2/blib/lib/KiokuDB/Test/Fixture/Sets.pm line 150.
Attempt to free unreferenced scalar: SV 0x64988c8 at /home/cpansand/.cpan/build/2018022712/KiokuDB-0.57-2/blib/lib/KiokuDB/Test/Fixture/Sets.pm line 150.
Attempt to free unreferenced scalar: SV 0x791e718 at /home/cpansand/.cpan/build/2018022712/KiokuDB-0.57-2/blib/lib/KiokuDB/Test/Fixture/Sets.pm line 150.
Attempt to free unreferenced scalar: SV 0x6f719a0 at /home/cpansand/.cpan/build/2018022712/KiokuDB-0.57-2/blib/lib/KiokuDB/Test/Fixture/Sets.pm line 150.
Attempt to free unreferenced scalar: SV 0x7bf9528 at /home/cpansand/.cpan/build/2018022712/KiokuDB-0.57-2/blib/lib/KiokuDB/Test/Fixture/Sets.pm line 150.
Attempt to free unreferenced scalar: SV 0x69cd618 at /home/cpansand/.cpan/build/2018022712/KiokuDB-0.57-2/blib/lib/KiokuDB/Test/Fixture/Sets.pm line 150.
t/hash.t ....................... ok
t/hash_backend.t ............... ok
t/jspon_serialization.t ........ ok
t/kiokudb_class_native.t ....... ok
t/lazy.t ....................... ok
t/link_checker.t ............... ok
t/link_checker_real.t .......... ok
t/live_objs.t .................. ok
t/moose_triggers.t ............. ok
t/ref.t ........................ ok
t/scaling.t .................... ok
t/serializer.t ................. ok
t/stream.t ..................... ok
t/tied.t ....................... ok
t/typemap.t .................... ok
t/typemap_default_json.t ....... ok
t/typemap_default_storable.t ... ok
t/typemap_entry_callback.t ..... ok
t/typemap_entry_mop.t .......... ok
t/typemap_entry_naive.t ........ ok
t/typemap_entry_passthrough.t .. ok
t/typemap_entry_storable.t ..... ok
t/typemap_extra.t .............. ok
t/typemap_resolver.t ........... ok
t/typemap_values.t ............. ok
t/uuid.t ....................... ok
t/versioning.t ................. ok
All tests successful.
Files=35, Tests=23265, 58 wallclock secs ( 0.85 usr  0.49 sys + 50.60 cusr  6.95 csys = 58.89 CPU)
Result: PASS

------------------------------
PREREQUISITES
------------------------------

Prerequisite modules loaded:

requires:

    Module                                         Need   Have    
    ---------------------------------------------- ------ --------
    B                                              0      1.74    
    B::Deparse                                     0      1.47    
    Cache::Ref                                     0.02   0.04    
    Carp                                           0      1.46    
    Class::Load                                    0      0.24    
    constant                                       0      1.33    
    Data::Stream::Bulk                             0.08   0.11    
    Data::Stream::Bulk::Util                       0      0.11    
    Data::Swap                                     0      0.08    
    Data::UUID                                     1.203  1.221   
    Data::Visitor                                  0.24   0.30    
    Digest::SHA                                    0      6.01    
    Encode                                         0      2.96    
    Hash::Util::FieldHash::Compat                  0      0.11    
    IO::Handle                                     0      1.37    
    JSON                                           2.12   2.97001 
    JSON::XS                                       2.231  3.04    
    List::Util                                     0      1.49    
    Module::Pluggable::Object                      0      5.2     
    Moose                                          2.0000 2.2010  
    Moose::Exporter                                0      2.2010  
    Moose::Role                                    0      2.2010  
    Moose::Util                                    0      2.2010  
    Moose::Util::MetaRole                          0      2.2010  
    Moose::Util::TypeConstraints                   0      2.2010  
    MooseX::Clone                                  0.04   0.06    
    MooseX::Clone::Meta::Attribute::Trait::NoClone 0      0.06    
    MooseX::Role::Parameterized                    0.10   1.10    
    MooseX::YAML                                   0.04   0.04    
    namespace::clean                               0.08   0.27    
    overload                                       0      1.30    
    PadWalker                                      1.9    2.3     
    Path::Class                                    0      0.37    
    POSIX                                          0      1.82    
    Scalar::Util                                   0      1.49    
    Scope::Guard                                   0      0.21    
    Search::GIN::Driver                            0      0.11    
    Search::GIN::Extract                           0      0.11    
    Search::GIN::Query::Class                      0.03   0.11    
    Set::Object                                    1.26   1.39    
    Storable                                       0      3.06    
    strict                                         0      1.11    
    Sub::Exporter                                  0      0.987   
    Symbol                                         0      1.08    
    Test::Exception                                0      0.43    
    Test::Moose                                    0      2.2010  
    Test::More                                     0.88   1.302122
    Throwable                                      0      0.200013
    Tie::RefHash                                   0      1.39    
    Tie::ToObject                                  0      0.03    
    Try::Tiny                                      0      0.30    
    utf8                                           0      1.21    
    warnings                                       0      1.41    
    YAML::XS                                       0.30   0.69    

build_requires:

    Module                                         Need   Have    
    ---------------------------------------------- ------ --------
    base                                           0      2.27    
    Cache::Ref::CART                               0      0.04    
    Cache::Ref::CLOCK                              0      0.04    
    Data::Dumper                                   0      2.170   
    Data::Stream::Bulk::Callback                   0      0.11    
    File::Spec                                     0      3.74    
    if                                             0      0.0608  
    IO::Handle                                     0      1.37    
    IPC::Open3                                     0      1.20    
    Search::GIN::Driver::Hash                      0      0.11    
    Search::GIN::Extract::Class                    0      0.11    
    Search::GIN::Extract::Delegate                 0      0.11    
    Test::More                                     0.88   1.302122

configure_requires:

    Module                                         Need   Have    
    ---------------------------------------------- ------ --------
    ExtUtils::MakeMaker                            6.30   7.32    


------------------------------
ENVIRONMENT AND OTHER CONTEXT
------------------------------

Environment variables:

    LANG = en_US.UTF-8
    PATH = /usr/local/bin:/usr/bin:/bin:/usr/local/sbin:/usr/sbin:/sbin:/home/cpansand/bin/linux-gnu:/home/cpansand/bin/sh:/home/cpansand/bin:/usr/games:/home/cpansand/devel:/home/eserte/src/srezic-misc/scripts
    PERL5LIB = /home/cpansand/.cpan/build/2018022712/Search-GIN-0.11-2/blib/arch:/home/cpansand/.cpan/build/2018022712/Search-GIN-0.11-2/blib/lib:/home/cpansand/.cpan/build/2018022712/Test-TempDir-Tiny-0.016-2/blib/arch:/home/cpansand/.cpan/build/2018022712/Test-TempDir-Tiny-0.016-2/blib/lib:/home/cpansand/.cpan/build/2018022712/MooseX-Types-Set-Object-0.05-2/blib/arch:/home/cpansand/.cpan/build/2018022712/MooseX-Types-Set-Object-0.05-2/blib/lib:/home/cpansand/.cpan/build/2018022712/Set-Object-1.39-2/blib/arch:/home/cpansand/.cpan/build/2018022712/Set-Object-1.39-2/blib/lib:/home/cpansand/.cpan/build/2018022712/MooseX-YAML-0.04-2/blib/arch:/home/cpansand/.cpan/build/2018022712/MooseX-YAML-0.04-2/blib/lib:/home/cpansand/.cpan/build/2018022712/MooseX-Blessed-Reconstruct-1.00-2/blib/arch:/home/cpansand/.cpan/build/2018022712/MooseX-Blessed-Reconstruct-1.00-2/blib/lib:/home/cpansand/.cpan/build/2018022712/Data-Swap-0.08-2/blib/arch:/home/cpansand/.cpan/build/2018022712/Data-Swap-0.08-2/blib/lib:/home/cpansand/.cpan/build/2018022712/Cache-Ref-0.04-2/blib/arch:/home/cpansand/.cpan/build/2018022712/Cache-Ref-0.04-2/blib/lib:/home/cpansand/.cpan/build/2018022712/BerkeleyDB-Manager-0.12-2/blib/arch:/home/cpansand/.cpan/build/2018022712/BerkeleyDB-Manager-0.12-2/blib/lib:/home/cpansand/.cpan/build/2018022712/Directory-Scratch-0.18-2/blib/arch:/home/cpansand/.cpan/build/2018022712/Directory-Scratch-0.18-2/blib/lib:/home/cpansand/.cpan/build/2018022712/Test-TempDir-0.10-2/blib/arch:/home/cpansand/.cpan/build/2018022712/Test-TempDir-0.10-2/blib/lib:/home/cpansand/.cpan/build/2018022712/MooseX-Types-Path-Class-0.09-2/blib/arch:/home/cpansand/.cpan/build/2018022712/MooseX-Types-Path-Class-0.09-2/blib/lib:/home/cpansand/.cpan/build/2018022712/File-NFSLock-1.27-2/blib/arch:/home/cpansand/.cpan/build/2018022712/File-NFSLock-1.27-2/blib/lib:/home/cpansand/.cpan/build/2018022712/Data-Stream-Bulk-0.11-2/blib/arch:/home/cpansand/.cpan/build/2018022712/Data-Stream-Bulk-0.11-2/blib/lib:/home/cpansand/.cpan/build/2018022712/BerkeleyDB-0.55-1/blib/arch:/home/cpansand/.cpan/build/2018022712/BerkeleyDB-0.55-1/blib/lib
    PERL5OPT = 
    PERL5_CPANPLUS_IS_RUNNING = 25744
    PERL5_CPAN_IS_RUNNING = 25744
    PERL5_CPAN_IS_RUNNING_IN_RECURSION = 14486,25744
    PERLDOC = -MPod::Perldoc::ToTextOverstrike
    PERL_BATCH = yes
    PERL_CANARY_STABILITY_NOPROMPT = 1
    PERL_CPAN_REPORTER_CONFIG = /var/tmp/cpansmoker-1023/2018022712/cpanreporter_000_config.ini
    PERL_EXTUTILS_AUTOINSTALL = --defaultdeps
    PERL_USE_UNSAFE_INC = 1
    SHELL = /usr/bin/zsh
    TERM = screen
    TMPDIR = /var/tmp/cpansmoker-1023/2018022712

Perl special variables (and OS-specific diagnostics, for MSWin32):

    $^X = /opt/perl-5.27.9/bin/perl5.27.9
    $UID/$EUID = 1023 / 1023
    $GID = 1023 1023
    $EGID = 1023 1023

Perl module toolchain versions installed:

    Module              Have    
    ------------------- --------
    CPAN                2.20    
    CPAN::Meta          2.150010
    Cwd                 3.74    
    ExtUtils::CBuilder  0.280230
    ExtUtils::Command   7.32    
    ExtUtils::Install   2.14    
    ExtUtils::MakeMaker 7.32    
    ExtUtils::Manifest  1.70    
    ExtUtils::ParseXS   3.38    
    File::Spec          3.74    
    JSON                2.97001 
    JSON::PP            2.97001 
    Module::Build       0.4224  
    Module::Signature   0.81    
    Parse::CPAN::Meta   2.150010
    Test::Harness       3.39    
    Test::More          1.302122
    YAML                1.24    
    YAML::Syck          1.30    
    version             0.9918  


--

Summary of my perl5 (revision 5 version 27 subversion 9) configuration:
   
  Platform:
    osname=linux
    osvers=4.4.0-112-generic
    archname=x86_64-linux
    uname='linux ubuntu16 4.4.0-112-generic #135-ubuntu smp fri jan 19 11:48:36 utc 2018 x86_64 x86_64 x86_64 gnulinux '
    config_args='-ds -e -Dprefix=/opt/perl-5.27.9 -Dusedevel -Dusemallocwrap=no -Dcf_email=srezic@cpan.org'
    hint=recommended
    useposix=true
    d_sigaction=define
    useithreads=undef
    usemultiplicity=undef
    use64bitint=define
    use64bitall=define
    uselongdouble=undef
    usemymalloc=n
    default_inc_excludes_dot=define
    bincompat5005=undef
  Compiler:
    cc='cc'
    ccflags ='-fwrapv -fno-strict-aliasing -pipe -fstack-protector-strong -I/usr/local/include -D_LARGEFILE_SOURCE -D_FILE_OFFSET_BITS=64'
    optimize='-O2'
    cppflags='-fwrapv -fno-strict-aliasing -pipe -fstack-protector-strong -I/usr/local/include'
    ccversion=''
    gccversion='5.4.0 20160609'
    gccosandvers=''
    intsize=4
    longsize=8
    ptrsize=8
    doublesize=8
    byteorder=12345678
    doublekind=3
    d_longlong=define
    longlongsize=8
    d_longdbl=define
    longdblsize=16
    longdblkind=3
    ivtype='long'
    ivsize=8
    nvtype='double'
    nvsize=8
    Off_t='off_t'
    lseeksize=8
    alignbytes=8
    prototype=define
  Linker and Libraries:
    ld='cc'
    ldflags =' -fstack-protector-strong -L/usr/local/lib'
    libpth=/usr/local/lib /usr/lib/gcc/x86_64-linux-gnu/5/include-fixed /usr/include/x86_64-linux-gnu /usr/lib /lib/x86_64-linux-gnu /lib/../lib /usr/lib/x86_64-linux-gnu /usr/lib/../lib /lib
    libs=-lpthread -lnsl -lgdbm -ldb -ldl -lm -lcrypt -lutil -lc -lgdbm_compat
    perllibs=-lpthread -lnsl -ldl -lm -lcrypt -lutil -lc
    libc=libc-2.23.so
    so=so
    useshrplib=false
    libperl=libperl.a
    gnulibc_version='2.23'
  Dynamic Linking:
    dlsrc=dl_dlopen.xs
    dlext=so
    d_dlsymun=undef
    ccdlflags='-Wl,-E'
    cccdlflags='-fPIC'
    lddlflags='-shared -O2 -L/usr/local/lib -fstack-protector-strong'


Characteristics of this binary (from libperl): 
  Compile-time options:
    HAS_TIMES
    PERLIO_LAYERS
    PERL_COPY_ON_WRITE
    PERL_DONT_CREATE_GVSV
    PERL_OP_PARENT
    PERL_PRESERVE_IVUV
    PERL_USE_DEVEL
    USE_64_BIT_ALL
    USE_64_BIT_INT
    USE_LARGE_FILES
    USE_LOCALE
    USE_LOCALE_COLLATE
    USE_LOCALE_CTYPE
    USE_LOCALE_NUMERIC
    USE_LOCALE_TIME
    USE_PERLIO
    USE_PERL_ATOF
  Built under linux
  Compiled at Feb 20 2018 21:06:33
  %ENV:
    PERL5LIB="/home/cpansand/.cpan/build/2018022712/Search-GIN-0.11-2/blib/arch:/home/cpansand/.cpan/build/2018022712/Search-GIN-0.11-2/blib/lib:/home/cpansand/.cpan/build/2018022712/Test-TempDir-Tiny-0.016-2/blib/arch:/home/cpansand/.cpan/build/2018022712/Test-TempDir-Tiny-0.016-2/blib/lib:/home/cpansand/.cpan/build/2018022712/MooseX-Types-Set-Object-0.05-2/blib/arch:/home/cpansand/.cpan/build/2018022712/MooseX-Types-Set-Object-0.05-2/blib/lib:/home/cpansand/.cpan/build/2018022712/Set-Object-1.39-2/blib/arch:/home/cpansand/.cpan/build/2018022712/Set-Object-1.39-2/blib/lib:/home/cpansand/.cpan/build/2018022712/MooseX-YAML-0.04-2/blib/arch:/home/cpansand/.cpan/build/2018022712/MooseX-YAML-0.04-2/blib/lib:/home/cpansand/.cpan/build/2018022712/MooseX-Blessed-Reconstruct-1.00-2/blib/arch:/home/cpansand/.cpan/build/2018022712/MooseX-Blessed-Reconstruct-1.00-2/blib/lib:/home/cpansand/.cpan/build/2018022712/Data-Swap-0.08-2/blib/arch:/home/cpansand/.cpan/build/2018022712/Data-Swap-0.08-2/blib/lib:/home/cpansand/.cpan/build/2018022712/Cache-Ref-0.04-2/blib/arch:/home/cpansand/.cpan/build/2018022712/Cache-Ref-0.04-2/blib/lib:/home/cpansand/.cpan/build/2018022712/BerkeleyDB-Manager-0.12-2/blib/arch:/home/cpansand/.cpan/build/2018022712/BerkeleyDB-Manager-0.12-2/blib/lib:/home/cpansand/.cpan/build/2018022712/Directory-Scratch-0.18-2/blib/arch:/home/cpansand/.cpan/build/2018022712/Directory-Scratch-0.18-2/blib/lib:/home/cpansand/.cpan/build/2018022712/Test-TempDir-0.10-2/blib/arch:/home/cpansand/.cpan/build/2018022712/Test-TempDir-0.10-2/blib/lib:/home/cpansand/.cpan/build/2018022712/MooseX-Types-Path-Class-0.09-2/blib/arch:/home/cpansand/.cpan/build/2018022712/MooseX-Types-Path-Class-0.09-2/blib/lib:/home/cpansand/.cpan/build/2018022712/File-NFSLock-1.27-2/blib/arch:/home/cpansand/.cpan/build/2018022712/File-NFSLock-1.27-2/blib/lib:/home/cpansand/.cpan/build/2018022712/Data-Stream-Bulk-0.11-2/blib/arch:/home/cpansand/.cpan/build/2018022712/Data-Stream-Bulk-0.11-2/blib/lib:/home/cpansand/.cpan/build/2018022712/BerkeleyDB-0.55-1/blib/arch:/home/cpansand/.cpan/build/2018022712/BerkeleyDB-0.55-1/blib/lib"
    PERL5OPT=""
    PERL5_CPANPLUS_IS_RUNNING="25744"
    PERL5_CPAN_IS_RUNNING="25744"
    PERL5_CPAN_IS_RUNNING_IN_RECURSION="14486,25744"
    PERLDOC="-MPod::Perldoc::ToTextOverstrike"
    PERL_BATCH="yes"
    PERL_CANARY_STABILITY_NOPROMPT="1"
    PERL_CPAN_REPORTER_CONFIG="/var/tmp/cpansmoker-1023/2018022712/cpanreporter_000_config.ini"
    PERL_EXTUTILS_AUTOINSTALL="--defaultdeps"
    PERL_USE_UNSAFE_INC="1"
  @INC:
    /home/cpansand/.cpan/build/2018022712/Search-GIN-0.11-2/blib/arch
    /home/cpansand/.cpan/build/2018022712/Search-GIN-0.11-2/blib/lib
    /home/cpansand/.cpan/build/2018022712/Test-TempDir-Tiny-0.016-2/blib/arch
    /home/cpansand/.cpan/build/2018022712/Test-TempDir-Tiny-0.016-2/blib/lib
    /home/cpansand/.cpan/build/2018022712/MooseX-Types-Set-Object-0.05-2/blib/arch
    /home/cpansand/.cpan/build/2018022712/MooseX-Types-Set-Object-0.05-2/blib/lib
    /home/cpansand/.cpan/build/2018022712/Set-Object-1.39-2/blib/arch
    /home/cpansand/.cpan/build/2018022712/Set-Object-1.39-2/blib/lib
    /home/cpansand/.cpan/build/2018022712/MooseX-YAML-0.04-2/blib/arch
    /home/cpansand/.cpan/build/2018022712/MooseX-YAML-0.04-2/blib/lib
    /home/cpansand/.cpan/build/2018022712/MooseX-Blessed-Reconstruct-1.00-2/blib/arch
    /home/cpansand/.cpan/build/2018022712/MooseX-Blessed-Reconstruct-1.00-2/blib/lib
    /home/cpansand/.cpan/build/2018022712/Data-Swap-0.08-2/blib/arch
    /home/cpansand/.cpan/build/2018022712/Data-Swap-0.08-2/blib/lib
    /home/cpansand/.cpan/build/2018022712/Cache-Ref-0.04-2/blib/arch
    /home/cpansand/.cpan/build/2018022712/Cache-Ref-0.04-2/blib/lib
    /home/cpansand/.cpan/build/2018022712/BerkeleyDB-Manager-0.12-2/blib/arch
    /home/cpansand/.cpan/build/2018022712/BerkeleyDB-Manager-0.12-2/blib/lib
    /home/cpansand/.cpan/build/2018022712/Directory-Scratch-0.18-2/blib/arch
    /home/cpansand/.cpan/build/2018022712/Directory-Scratch-0.18-2/blib/lib
    /home/cpansand/.cpan/build/2018022712/Test-TempDir-0.10-2/blib/arch
    /home/cpansand/.cpan/build/2018022712/Test-TempDir-0.10-2/blib/lib
    /home/cpansand/.cpan/build/2018022712/MooseX-Types-Path-Class-0.09-2/blib/arch
    /home/cpansand/.cpan/build/2018022712/MooseX-Types-Path-Class-0.09-2/blib/lib
    /home/cpansand/.cpan/build/2018022712/File-NFSLock-1.27-2/blib/arch
    /home/cpansand/.cpan/build/2018022712/File-NFSLock-1.27-2/blib/lib
    /home/cpansand/.cpan/build/2018022712/Data-Stream-Bulk-0.11-2/blib/arch
    /home/cpansand/.cpan/build/2018022712/Data-Stream-Bulk-0.11-2/blib/lib
    /home/cpansand/.cpan/build/2018022712/BerkeleyDB-0.55-1/blib/arch
    /home/cpansand/.cpan/build/2018022712/BerkeleyDB-0.55-1/blib/lib
    /opt/perl-5.27.9/lib/site_perl/5.27.9/x86_64-linux
    /opt/perl-5.27.9/lib/site_perl/5.27.9
    /opt/perl-5.27.9/lib/5.27.9/x86_64-linux
    /opt/perl-5.27.9/lib/5.27.9
    .