Report for Math-PlanePath-118

Back
From: metabase:user:30f4dfbe-2aae-11df-837a-5e0a49663a4f
Subject: PASS Math-PlanePath-118 v5.20.2 GNU/Linux
Date: 2015-03-03T05:19:25Z

This distribution has been tested as part of the CPAN Testers
project, supporting the Perl programming language.  See
http://wiki.cpantesters.org/ for more information or email
questions to cpan-testers-discuss@perl.org


--
Dear Kevin Ryde,

This is a computer-generated report for Math-PlanePath-118
on perl 5.20.2, created by CPAN-Reporter-1.2011.

Thank you for uploading your work to CPAN.  Congratulations!
All tests were successful.

Sections of this report:

    * Tester comments
    * Program output
    * Prerequisites
    * Environment and other context

------------------------------
TESTER COMMENTS
------------------------------

Additional comments from tester:

this report is from an automated smoke testing program
and was not reviewed by a human for accuracy

------------------------------
PROGRAM OUTPUT
------------------------------

Output from '/usr/bin/make test':

PERL_DL_NONLAZY=1 "/usr/bin/perl" "-MExtUtils::Command::MM" "-MTest::Harness" "-e" "undef *Test::Harness::Switches; test_harness(0, 'blib/lib', 'blib/arch')" t/*.t
t/AlternatePaper.t .............. ok
t/AlternatePaperMidpoint.t ...... ok
t/AnvilSpiral.t ................. ok
t/ArchimedeanChords.t ........... ok
t/AztecDiamondRings.t ........... ok
# modulo operator dodginess ((~0)%2) != ((~0)&1): no
# round_down_pow(3) tests stop for round-off at i=34
t/Base-Digits.t ................. ok
# nan is -nan
t/Base-Generic.t ................ ok
t/BetaOmeta.t ................... ok
# Math::BigFloat version 1.9991
# Math::BigInt version 1.9993
# +inf is inf
# -inf is -inf
# nan is NaN
t/bigfloat.t .................... ok
# skip due to Math::BigInt::Lite not available -- Can't locate Math/BigInt/Lite.pm in @INC (you may need to install the Math::BigInt::Lite module) (@INC contains: t /home/njh/.cpan/build/Math-PlanePath-118-LtJy18/blib/lib /home/njh/.cpan/build/Math-PlanePath-118-LtJy18/blib/arch /home/njh/.cpan/build/constant-defer-6-JXA9W0/blib/arch /home/njh/.cpan/build/constant-defer-6-JXA9W0/blib/lib /home/njh/.cpan/build/Math-Libm-1.00-ToHlij/blib/arch /home/njh/.cpan/build/Math-Libm-1.00-ToHlij/blib/lib /etc/perl /usr/local/lib/x86_64-linux-gnu/perl/5.20.2 /usr/local/share/perl/5.20.2 /usr/lib/x86_64-linux-gnu/perl5/5.20 /usr/share/perl5 /usr/lib/x86_64-linux-gnu/perl/5.20 /usr/share/perl/5.20 /usr/local/lib/site_perl /usr/local/lib/x86_64-linux-gnu/perl/5.20.1 /usr/local/share/perl/5.20.1 /usr/local/lib/x86_64-linux-gnu/perl/5.20.0 .) at t/bigint-lite.t line 34.
# 
t/bigint-lite.t ................. ok
# Math::BigInt version 1.9993
# Math::BigInt version 1.9993
t/bigint.t ...................... ok
t/CCurve.t ...................... ok
# bitwise check rule=2
# bitwise check rule=4
# bitwise check rule=6
# bitwise check rule=10
# bitwise check rule=12
# bitwise check rule=14
# bitwise check rule=16
# bitwise check rule=18
# bitwise check rule=20
# bitwise check rule=24
# bitwise check rule=26
# bitwise check rule=34
# bitwise check rule=36
# bitwise check rule=38
# bitwise check rule=42
# bitwise check rule=44
# bitwise check rule=46
# bitwise check rule=48
# bitwise check rule=50
# bitwise check rule=52
# bitwise check rule=54
# bitwise check rule=56
# bitwise check rule=57
# bitwise check rule=58
# bitwise check rule=60
# bitwise check rule=66
# bitwise check rule=68
# bitwise check rule=74
# bitwise check rule=76
# bitwise check rule=80
# bitwise check rule=82
# bitwise check rule=84
# bitwise check rule=88
# bitwise check rule=90
# bitwise check rule=98
# bitwise check rule=99
# bitwise check rule=100
# bitwise check rule=102
# bitwise check rule=106
# bitwise check rule=108
# bitwise check rule=112
# bitwise check rule=114
# bitwise check rule=116
# bitwise check rule=120
# bitwise check rule=122
# bitwise check rule=130
# bitwise check rule=132
# bitwise check rule=134
# bitwise check rule=138
# bitwise check rule=140
# bitwise check rule=142
# bitwise check rule=144
# bitwise check rule=146
# bitwise check rule=148
# bitwise check rule=151
# bitwise check rule=152
# bitwise check rule=154
# bitwise check rule=159
# bitwise check rule=162
# bitwise check rule=164
# bitwise check rule=166
# bitwise check rule=170
# bitwise check rule=172
# bitwise check rule=174
# bitwise check rule=176
# bitwise check rule=178
# bitwise check rule=179
# bitwise check rule=180
# bitwise check rule=183
# bitwise check rule=184
# bitwise check rule=186
# bitwise check rule=190
# bitwise check rule=191
# bitwise check rule=194
# bitwise check rule=196
# bitwise check rule=202
# bitwise check rule=204
# bitwise check rule=206
# bitwise check rule=208
# bitwise check rule=210
# bitwise check rule=212
# bitwise check rule=215
# bitwise check rule=216
# bitwise check rule=218
# bitwise check rule=220
# bitwise check rule=222
# bitwise check rule=223
# bitwise check rule=226
# bitwise check rule=228
# bitwise check rule=234
# bitwise check rule=236
# bitwise check rule=238
# bitwise check rule=240
# bitwise check rule=242
# bitwise check rule=244
# bitwise check rule=246
# bitwise check rule=247
# bitwise check rule=248
# bitwise check rule=250
# bitwise check rule=252
# bitwise check rule=254
# bitwise check rule=255
# bitwise checks 102
t/CellularRule.t ................ ok
t/CellularRule190.t ............. ok
t/CfracDigits.t ................. ok
t/ChanTree.t .................... ok
t/CincoCurve.t .................. ok
t/Columns-load.t ................ ok
t/Columns.t ..................... ok
t/ComplexMinus.t ................ ok
t/ComplexPlus.t ................. ok
t/CoprimeColumns.t .............. ok
t/Corner.t ...................... ok
t/CornerReplicate.t ............. ok
t/CubicBase.t ................... ok
t/DekkingCurve.t ................ ok
t/DiagonalRationals.t ........... ok
t/Diagonals.t ................... ok
t/DiamondArms.t ................. ok
t/DiamondSpiral.t ............... ok
t/DigitGroups.t ................. ok
t/DivisibleColumns.t ............ ok
t/DragonCurve.t ................. ok
t/DragonMidpoint.t .............. ok
t/DragonRounded.t ............... ok
t/FactorRationals.t ............. ok
t/FibonacciWordFractal.t ........ ok
t/File.t ........................ ok
t/FilledRings.t ................. ok
t/Flowsnake.t ................... ok
t/FlowsnakeCentres.t ............ ok
t/GcdRationals.t ................ ok
t/GosperIslands.t ............... ok
t/GosperSide.t .................. ok
t/GrayCode.t .................... ok
t/GreekKeySpiral.t .............. ok
t/HexArms.t ..................... ok
t/HexSpiral-load.t .............. ok
t/HexSpiral.t ................... ok
t/HexSpiralSkewed-unskew.t ...... ok
t/HexSpiralSkewed.t ............. ok
t/HilbertCurve-load.t ........... ok
t/HilbertCurve.t ................ ok
t/HilbertSpiral.t ............... ok
t/HIndexing.t ................... ok
t/Hypot.t ....................... ok
t/HypotOctant.t ................. ok
t/ImaginaryBase.t ............... ok
t/ImaginaryHalf.t ............... ok
t/KnightSpiral.t ................ ok
t/KochCurve.t ................... ok
t/KochelCurve.t ................. ok
t/KochPeaks.t ................... ok
t/KochSnowflakes.t .............. ok
t/KochSquareflakes.t ............ ok
t/LTiling.t ..................... ok
t/MultipleRings.t ............... ok
# skip due to Number::Fraction 1.14 not available -- Can't locate Number/Fraction.pm in @INC (you may need to install the Number::Fraction module) (@INC contains: t /home/njh/.cpan/build/Math-PlanePath-118-LtJy18/blib/lib /home/njh/.cpan/build/Math-PlanePath-118-LtJy18/blib/arch /home/njh/.cpan/build/constant-defer-6-JXA9W0/blib/arch /home/njh/.cpan/build/constant-defer-6-JXA9W0/blib/lib /home/njh/.cpan/build/Math-Libm-1.00-ToHlij/blib/arch /home/njh/.cpan/build/Math-Libm-1.00-ToHlij/blib/lib /etc/perl /usr/local/lib/x86_64-linux-gnu/perl/5.20.2 /usr/local/share/perl/5.20.2 /usr/lib/x86_64-linux-gnu/perl5/5.20 /usr/share/perl5 /usr/lib/x86_64-linux-gnu/perl/5.20 /usr/share/perl/5.20 /usr/local/lib/site_perl /usr/local/lib/x86_64-linux-gnu/perl/5.20.1 /usr/local/share/perl/5.20.1 /usr/local/lib/x86_64-linux-gnu/perl/5.20.0 .) at (eval 2) line 1.
# BEGIN failed--compilation aborted at (eval 2) line 1.
# 
t/number-fraction.t ............. ok
# skip due to Math::NumSeq not available -- Can't locate Math/NumSeq.pm in @INC (you may need to install the Math::NumSeq module) (@INC contains: t /home/njh/.cpan/build/Math-PlanePath-118-LtJy18/blib/lib /home/njh/.cpan/build/Math-PlanePath-118-LtJy18/blib/arch /home/njh/.cpan/build/constant-defer-6-JXA9W0/blib/arch /home/njh/.cpan/build/constant-defer-6-JXA9W0/blib/lib /home/njh/.cpan/build/Math-Libm-1.00-ToHlij/blib/arch /home/njh/.cpan/build/Math-Libm-1.00-ToHlij/blib/lib /etc/perl /usr/local/lib/x86_64-linux-gnu/perl/5.20.2 /usr/local/share/perl/5.20.2 /usr/lib/x86_64-linux-gnu/perl5/5.20 /usr/share/perl5 /usr/lib/x86_64-linux-gnu/perl/5.20 /usr/share/perl/5.20 /usr/local/lib/site_perl /usr/local/lib/x86_64-linux-gnu/perl/5.20.1 /usr/local/share/perl/5.20.1 /usr/local/lib/x86_64-linux-gnu/perl/5.20.0 .) at t/NumSeq-PlanePathCoord.t line 35.
# 
t/NumSeq-PlanePathCoord.t ....... ok
# skip due to Math::NumSeq not available -- Can't locate Math/NumSeq.pm in @INC (you may need to install the Math::NumSeq module) (@INC contains: t /home/njh/.cpan/build/Math-PlanePath-118-LtJy18/blib/lib /home/njh/.cpan/build/Math-PlanePath-118-LtJy18/blib/arch /home/njh/.cpan/build/constant-defer-6-JXA9W0/blib/arch /home/njh/.cpan/build/constant-defer-6-JXA9W0/blib/lib /home/njh/.cpan/build/Math-Libm-1.00-ToHlij/blib/arch /home/njh/.cpan/build/Math-Libm-1.00-ToHlij/blib/lib /etc/perl /usr/local/lib/x86_64-linux-gnu/perl/5.20.2 /usr/local/share/perl/5.20.2 /usr/lib/x86_64-linux-gnu/perl5/5.20 /usr/share/perl5 /usr/lib/x86_64-linux-gnu/perl/5.20 /usr/share/perl/5.20 /usr/local/lib/site_perl /usr/local/lib/x86_64-linux-gnu/perl/5.20.1 /usr/local/share/perl/5.20.1 /usr/local/lib/x86_64-linux-gnu/perl/5.20.0 .) at t/NumSeq-PlanePathDelta.t line 35.
# 
t/NumSeq-PlanePathDelta.t ....... ok
# skip due to Math::NumSeq not available -- Can't locate Math/NumSeq.pm in @INC (you may need to install the Math::NumSeq module) (@INC contains: t /home/njh/.cpan/build/Math-PlanePath-118-LtJy18/blib/lib /home/njh/.cpan/build/Math-PlanePath-118-LtJy18/blib/arch /home/njh/.cpan/build/constant-defer-6-JXA9W0/blib/arch /home/njh/.cpan/build/constant-defer-6-JXA9W0/blib/lib /home/njh/.cpan/build/Math-Libm-1.00-ToHlij/blib/arch /home/njh/.cpan/build/Math-Libm-1.00-ToHlij/blib/lib /etc/perl /usr/local/lib/x86_64-linux-gnu/perl/5.20.2 /usr/local/share/perl/5.20.2 /usr/lib/x86_64-linux-gnu/perl5/5.20 /usr/share/perl5 /usr/lib/x86_64-linux-gnu/perl/5.20 /usr/share/perl/5.20 /usr/local/lib/site_perl /usr/local/lib/x86_64-linux-gnu/perl/5.20.1 /usr/local/share/perl/5.20.1 /usr/local/lib/x86_64-linux-gnu/perl/5.20.0 .) at t/NumSeq-PlanePathN.t line 35.
# 
t/NumSeq-PlanePathN.t ........... ok
# skip due to Math::NumSeq not available -- Can't locate Math/NumSeq.pm in @INC (you may need to install the Math::NumSeq module) (@INC contains: t /home/njh/.cpan/build/Math-PlanePath-118-LtJy18/blib/lib /home/njh/.cpan/build/Math-PlanePath-118-LtJy18/blib/arch /home/njh/.cpan/build/constant-defer-6-JXA9W0/blib/arch /home/njh/.cpan/build/constant-defer-6-JXA9W0/blib/lib /home/njh/.cpan/build/Math-Libm-1.00-ToHlij/blib/arch /home/njh/.cpan/build/Math-Libm-1.00-ToHlij/blib/lib /etc/perl /usr/local/lib/x86_64-linux-gnu/perl/5.20.2 /usr/local/share/perl/5.20.2 /usr/lib/x86_64-linux-gnu/perl5/5.20 /usr/share/perl5 /usr/lib/x86_64-linux-gnu/perl/5.20 /usr/share/perl/5.20 /usr/local/lib/site_perl /usr/local/lib/x86_64-linux-gnu/perl/5.20.1 /usr/local/share/perl/5.20.1 /usr/local/lib/x86_64-linux-gnu/perl/5.20.0 .) at t/NumSeq-PlanePathTurn.t line 35.
# 
t/NumSeq-PlanePathTurn.t ........ ok
t/PeanoCurve-load.t ............. ok
t/PeanoCurve.t .................. ok
t/PixelRings.t .................. ok
t/PlanePath.t ................... ok
t/PyramidRows.t ................. ok
# have_53bits: 1
t/PythagoreanTree.t ............. ok
t/QuadricCurve.t ................ ok
t/QuadricIslands.t .............. ok
t/QuintetCentres.t .............. ok
t/QuintetCurve.t ................ ok
t/RationalsTree.t ............... ok
t/Rows-load.t ................... ok
t/Rows.t ........................ ok
t/SacksSpiral.t ................. ok
t/SierpinskiArrowhead.t ......... ok
t/SierpinskiArrowheadCentres.t .. ok
t/SierpinskiCurve.t ............. ok
t/SierpinskiCurveStair.t ........ ok
t/SierpinskiTriangle.t .......... ok
t/SquareSpiral.t ................ ok
t/Staircase.t ................... ok
t/StaircaseAlternating.t ........ ok
t/TerdragonCurve.t .............. ok
t/TerdragonMidpoint.t ........... ok
t/TheodorusSpiral.t ............. ok
t/TriangularHypot.t ............. ok
t/UlamWarburton.t ............... ok
t/UlamWarburtonQuarter.t ........ ok
t/VogelFloret.t ................. ok
t/WythoffArray.t ................ ok
t/ZOrderCurve.t ................. ok
All tests successful.
Files=103, Tests=34671, 12 wallclock secs ( 1.58 usr  0.08 sys + 10.65 cusr  0.10 csys = 12.41 CPU)
Result: PASS

------------------------------
PREREQUISITES
------------------------------

Prerequisite modules loaded:

requires:

    Module              Need  Have    
    ------------------- ----- --------
    constant            1.02  1.31    
    constant::defer     5     6       
    List::Util          0     1.41    
    Math::Libm          0     1.00    
    perl                5.004 5.020002

build_requires:

    Module              Need  Have    
    ------------------- ----- --------
    ExtUtils::MakeMaker 0     7.04    
    Test                0     1.26    

configure_requires:

    Module              Need  Have    
    ------------------- ----- --------
    ExtUtils::MakeMaker 0     7.04    


------------------------------
ENVIRONMENT AND OTHER CONTEXT
------------------------------

Environment variables:

    AUTOMATED_TESTING = 1
    LANG = en_GB.UTF-8
    LANGUAGE = en_GB:en
    LD_LIBRARY_PATH = /usr/local/lib::
    PATH = /home/njh/perl5/perlbrew/bin:/usr/local/bin:/usr/bin:/bin:/usr/local/games:/usr/games:/home/njh/bin:/sbin
    PERL5LIB = /home/njh/.cpan/build/constant-defer-6-JXA9W0/blib/arch:/home/njh/.cpan/build/constant-defer-6-JXA9W0/blib/lib:/home/njh/.cpan/build/Math-Libm-1.00-ToHlij/blib/arch:/home/njh/.cpan/build/Math-Libm-1.00-ToHlij/blib/lib
    PERL5OPT = 
    PERL5_CPANPLUS_IS_RUNNING = 17454
    PERL5_CPAN_IS_RUNNING = 17454
    PERL5_MINISMOKEBOX = 0.58
    PERLBREW_BASHRC_VERSION = 0.71
    PERLBREW_HOME = /home/njh/.perlbrew
    PERLBREW_PATH = /home/njh/perl5/perlbrew/bin
    PERLBREW_ROOT = /home/njh/perl5/perlbrew
    PERLBREW_VERSION = 0.71
    PERL_EXTUTILS_AUTOINSTALL = --defaultdeps
    PERL_MM_USE_DEFAULT = 1
    SHELL = /bin/bash
    TMPDIR = /home/njh/tmp

Perl special variables (and OS-specific diagnostics, for MSWin32):

    $^X = /usr/bin/perl
    $UID/$EUID = 1000 / 1000
    $GID = 1000 4 24 25 29 30 44 46 108 112 1000
    $EGID = 1000 4 24 25 29 30 44 46 108 112 1000

Perl module toolchain versions installed:

    Module              Have    
    ------------------- --------
    CPAN                2.05    
    CPAN::Meta          2.143240
    Cwd                 3.48_01 
    ExtUtils::CBuilder  0.280220
    ExtUtils::Command   1.20    
    ExtUtils::Install   2.04    
    ExtUtils::MakeMaker 7.04    
    ExtUtils::Manifest  1.70    
    ExtUtils::ParseXS   3.24    
    File::Spec          3.48_01 
    JSON                2.90    
    JSON::PP            2.27300 
    Module::Build       0.4211  
    Module::Signature   0.73    
    Parse::CPAN::Meta   1.4414  
    Test::Harness       3.35    
    Test::More          1.001014
    YAML                1.14    
    YAML::Syck          1.29    
    version             0.9912  


--

Summary of my perl5 (revision 5 version 20 subversion 2) configuration:
   
  Platform:
    osname=linux, osvers=3.2.0-4-amd64, archname=x86_64-linux-gnu-thread-multi
    uname='linux brahms 3.2.0-4-amd64 #1 smp debian 3.2.65-1+deb7u2 x86_64 gnulinux '
    config_args='-Dusethreads -Duselargefiles -Dccflags=-DDEBIAN -D_FORTIFY_SOURCE=2 -g -O2 -fstack-protector-strong -Wformat -Werror=format-security -Dldflags= -Wl,-z,relro -Dlddlflags=-shared -Wl,-z,relro -Dcccdlflags=-fPIC -Darchname=x86_64-linux-gnu -Dprefix=/usr -Dprivlib=/usr/share/perl/5.20 -Darchlib=/usr/lib/x86_64-linux-gnu/perl/5.20 -Dvendorprefix=/usr -Dvendorlib=/usr/share/perl5 -Dvendorarch=/usr/lib/x86_64-linux-gnu/perl5/5.20 -Dsiteprefix=/usr/local -Dsitelib=/usr/local/share/perl/5.20.2 -Dsitearch=/usr/local/lib/x86_64-linux-gnu/perl/5.20.2 -Dman1dir=/usr/share/man/man1 -Dman3dir=/usr/share/man/man3 -Dsiteman1dir=/usr/local/man/man1 -Dsiteman3dir=/usr/local/man/man3 -Duse64bitint -Dman1ext=1 -Dman3ext=3perl -Dpager=/usr/bin/sensible-pager -Uafs -Ud_csh -Ud_ualarm -Uusesfio -Uusenm -Ui_libutil -Uversiononly -DDEBUGGING=-g -Doptimize=-O2 -Duseshrplib -Dlibperl=libperl.so.5.20.2 -des'
    hint=recommended, useposix=true, d_sigaction=define
    useithreads=define, usemultiplicity=define
    use64bitint=define, use64bitall=define, uselongdouble=undef
    usemymalloc=n, bincompat5005=undef
  Compiler:
    cc='cc', ccflags ='-D_REENTRANT -D_GNU_SOURCE -DDEBIAN -fwrapv -fno-strict-aliasing -pipe -I/usr/local/include -D_LARGEFILE_SOURCE -D_FILE_OFFSET_BITS=64',
    optimize='-O2 -g',
    cppflags='-D_REENTRANT -D_GNU_SOURCE -DDEBIAN -fwrapv -fno-strict-aliasing -pipe -I/usr/local/include'
    ccversion='', gccversion='4.9.2', gccosandvers=''
    intsize=4, longsize=8, ptrsize=8, doublesize=8, byteorder=12345678
    d_longlong=define, longlongsize=8, d_longdbl=define, longdblsize=16
    ivtype='long', ivsize=8, nvtype='double', nvsize=8, Off_t='off_t', lseeksize=8
    alignbytes=8, prototype=define
  Linker and Libraries:
    ld='cc', ldflags =' -fstack-protector -L/usr/local/lib'
    libpth=/usr/local/lib /usr/lib/gcc/x86_64-linux-gnu/4.9/include-fixed /usr/include/x86_64-linux-gnu /usr/lib /lib/x86_64-linux-gnu /lib/../lib /usr/lib/x86_64-linux-gnu /usr/lib/../lib /lib
    libs=-lgdbm -lgdbm_compat -ldb -ldl -lm -lpthread -lc -lcrypt
    perllibs=-ldl -lm -lpthread -lc -lcrypt
    libc=libc-2.19.so, so=so, useshrplib=true, libperl=libperl.so.5.20
    gnulibc_version='2.19'
  Dynamic Linking:
    dlsrc=dl_dlopen.xs, dlext=so, d_dlsymun=undef, ccdlflags='-Wl,-E'
    cccdlflags='-fPIC', lddlflags='-shared -L/usr/local/lib -fstack-protector'


Characteristics of this binary (from libperl): 
  Compile-time options: HAS_TIMES MULTIPLICITY PERLIO_LAYERS
                        PERL_DONT_CREATE_GVSV
                        PERL_HASH_FUNC_ONE_AT_A_TIME_HARD
                        PERL_IMPLICIT_CONTEXT PERL_MALLOC_WRAP
                        PERL_NEW_COPY_ON_WRITE PERL_PRESERVE_IVUV
                        USE_64_BIT_ALL USE_64_BIT_INT USE_ITHREADS
                        USE_LARGE_FILES USE_LOCALE USE_LOCALE_COLLATE
                        USE_LOCALE_CTYPE USE_LOCALE_NUMERIC USE_PERLIO
                        USE_PERL_ATOF USE_REENTRANT_API
  Locally applied patches:
	DEBPKG:debian/cpan_definstalldirs - Provide a sensible INSTALLDIRS default for modules installed from CPAN.
	DEBPKG:debian/db_file_ver - http://bugs.debian.org/340047 Remove overly restrictive DB_File version check.
	DEBPKG:debian/doc_info - Replace generic man(1) instructions with Debian-specific information.
	DEBPKG:debian/enc2xs_inc - http://bugs.debian.org/290336 Tweak enc2xs to follow symlinks and ignore missing @INC directories.
	DEBPKG:debian/errno_ver - http://bugs.debian.org/343351 Remove Errno version check due to upgrade problems with long-running processes.
	DEBPKG:debian/libperl_embed_doc - http://bugs.debian.org/186778 Note that libperl-dev package is required for embedded linking
	DEBPKG:fixes/respect_umask - Respect umask during installation
	DEBPKG:debian/writable_site_dirs - Set umask approproately for site install directories
	DEBPKG:debian/extutils_set_libperl_path - EU:MM: set location of libperl.a under /usr/lib
	DEBPKG:debian/no_packlist_perllocal - Don't install .packlist or perllocal.pod for perl or vendor
	DEBPKG:debian/prefix_changes - Fiddle with *PREFIX and variables written to the makefile
	DEBPKG:debian/fakeroot - Postpone LD_LIBRARY_PATH evaluation to the binary targets.
	DEBPKG:debian/instmodsh_doc - Debian policy doesn't install .packlist files for core or vendor.
	DEBPKG:debian/ld_run_path - Remove standard libs from LD_RUN_PATH as per Debian policy.
	DEBPKG:debian/libnet_config_path - Set location of libnet.cfg to /etc/perl/Net as /usr may not be writable.
	DEBPKG:debian/mod_paths - Tweak @INC ordering for Debian
	DEBPKG:debian/module_build_man_extensions - http://bugs.debian.org/479460 Adjust Module::Build manual page extensions for the Debian Perl policy
	DEBPKG:debian/prune_libs - http://bugs.debian.org/128355 Prune the list of libraries wanted to what we actually need.
	DEBPKG:fixes/net_smtp_docs - [rt.cpan.org #36038] http://bugs.debian.org/100195 Document the Net::SMTP 'Port' option
	DEBPKG:debian/perlivp - http://bugs.debian.org/510895 Make perlivp skip include directories in /usr/local
	DEBPKG:debian/deprecate-with-apt - http://bugs.debian.org/747628 Point users to Debian packages of deprecated core modules
	DEBPKG:debian/squelch-locale-warnings - http://bugs.debian.org/508764 Squelch locale warnings in Debian package maintainer scripts
	DEBPKG:debian/skip-upstream-git-tests - Skip tests specific to the upstream Git repository
	DEBPKG:debian/patchlevel - http://bugs.debian.org/567489 List packaged patches for 5.20.2-2 in patchlevel.h
	DEBPKG:debian/skip-kfreebsd-crash - http://bugs.debian.org/628493 [perl #96272] Skip a crashing test case in t/op/threads.t on GNU/kFreeBSD
	DEBPKG:fixes/document_makemaker_ccflags - http://bugs.debian.org/628522 [rt.cpan.org #68613] Document that CCFLAGS should include $Config{ccflags}
	DEBPKG:debian/find_html2text - http://bugs.debian.org/640479 Configure CPAN::Distribution with correct name of html2text
	DEBPKG:debian/perl5db-x-terminal-emulator.patch - http://bugs.debian.org/668490 Invoke x-terminal-emulator rather than xterm in perl5db.pl
	DEBPKG:debian/cpan-missing-site-dirs - http://bugs.debian.org/688842 Fix CPAN::FirstTime defaults with nonexisting site dirs if a parent is writable
	DEBPKG:fixes/memoize_storable_nstore - [rt.cpan.org #77790] http://bugs.debian.org/587650 Memoize::Storable: respect 'nstore' option not respected
	DEBPKG:debian/regen-skip - Skip a regeneration check in unrelated git repositories
	DEBPKG:fixes/regcomp-mips-optim - [perl #122817] http://bugs.debian.org/754054 Downgrade the optimization of regcomp.c on mips and mipsel due to a gcc-4.9 bug
	DEBPKG:debian/makemaker-pasthru - http://bugs.debian.org/758471 Pass LD settings through to subdirectories
	DEBPKG:fixes/perldoc-less-R - [rt.cpan.org #98636] http://bugs.debian.org/758689 Tell the 'less' pager to allow terminal escape sequences
	DEBPKG:fixes/pod_man_reproducible_date - http://bugs.debian.org/759405 Support POD_MAN_DATE in Pod::Man for the left-hand footer
	DEBPKG:fixes/io_uncompress_gunzip_inmemory - http://bugs.debian.org/747363 [rt.cpan.org #95494] Fix gunzip to in-memory file handle
	DEBPKG:fixes/socket_test_recv_fix - http://bugs.debian.org/758718 [perl #122657] Compare recv return value to peername in socket test
	DEBPKG:fixes/hurd_socket_recv_todo - http://bugs.debian.org/758718 [perl #122657] TODO checking the result of recv() on hurd
	DEBPKG:fixes/regexp-performance - [0fa70a0] http://bugs.debian.org/777556 [perl #123743] simpify and speed up /.*.../ handling
  Built under linux
  Compiled at Mar  1 2015 22:11:14
  %ENV:
    PERL5LIB="/home/njh/.cpan/build/constant-defer-6-JXA9W0/blib/arch:/home/njh/.cpan/build/constant-defer-6-JXA9W0/blib/lib:/home/njh/.cpan/build/Math-Libm-1.00-ToHlij/blib/arch:/home/njh/.cpan/build/Math-Libm-1.00-ToHlij/blib/lib"
    PERL5OPT=""
    PERL5_CPANPLUS_IS_RUNNING="17454"
    PERL5_CPAN_IS_RUNNING="17454"
    PERL5_MINISMOKEBOX="0.58"
    PERLBREW_BASHRC_VERSION="0.71"
    PERLBREW_HOME="/home/njh/.perlbrew"
    PERLBREW_PATH="/home/njh/perl5/perlbrew/bin"
    PERLBREW_ROOT="/home/njh/perl5/perlbrew"
    PERLBREW_VERSION="0.71"
    PERL_EXTUTILS_AUTOINSTALL="--defaultdeps"
    PERL_MM_USE_DEFAULT="1"
  @INC:
    /home/njh/.cpan/build/constant-defer-6-JXA9W0/blib/arch
    /home/njh/.cpan/build/constant-defer-6-JXA9W0/blib/lib
    /home/njh/.cpan/build/Math-Libm-1.00-ToHlij/blib/arch
    /home/njh/.cpan/build/Math-Libm-1.00-ToHlij/blib/lib
    /etc/perl
    /usr/local/lib/x86_64-linux-gnu/perl/5.20.2
    /usr/local/share/perl/5.20.2
    /usr/lib/x86_64-linux-gnu/perl5/5.20
    /usr/share/perl5
    /usr/lib/x86_64-linux-gnu/perl/5.20
    /usr/share/perl/5.20
    /usr/local/lib/site_perl
    /usr/local/lib/x86_64-linux-gnu/perl/5.20.1
    /usr/local/share/perl/5.20.1
    /usr/local/lib/x86_64-linux-gnu/perl/5.20.0
    .