Test-Moose-More v0.050 Perl 5 v5.22.2 amd64-freebsd

Status
Pass
From
Chris Williams (BINGOS)
Dist
Test-Moose-More v0.050
Platform
Perl 5 v5.22.2 amd64-freebsd
Date
2020-04-09 16:19:16
ID
dbb71eec-7a7d-11ea-9066-e374b0ba08e8
This distribution has been tested as part of the CPAN Testers
project, supporting the Perl programming language.  See
http://wiki.cpantesters.org/ for more information or email
questions to cpan-testers-discuss@perl.org


--

Dear Chris Weyl,

This is a computer-generated error report created automatically by
CPANPLUS, version 0.9906. Testers personal comments may appear
at the end of this report.


Thank you for uploading your work to CPAN.  Congratulations!
All tests were successful.

TEST RESULTS:

Below is the error stack from stage 'make test':

PERL_DL_NONLAZY=1 "/usr/home/cpan/pit/bare/perl-5.22.2/bin/perl" "-MExtUtils::Command::MM" "-MTest::Harness" "-e" "undef *Test::Harness::Switches; test_harness(0, 'blib/lib', 'blib/arch')" t/*.t t/attribute_options_ok/*.t t/is_class_ok/*.t t/validate_attribute/*.t t/validate_class/*.t t/validate_role/*.t t/validate_thing/*.t t/wrapped/*.t
t/00-check-deps.t ...................................... ok
t/00-compile.t ......................................... ok
# 
# Versions for all modules listed in MYMETA.json (including optional ones):
# 
# === Configure Requires ===
# 
#     Module              Want Have
#     ------------------- ---- ----
#     ExtUtils::MakeMaker  any 7.44
# 
# === Build Requires ===
# 
#     Module              Want Have
#     ------------------- ---- ----
#     ExtUtils::MakeMaker  any 7.44
# 
# === Test Requires ===
# 
#     Module                  Want     Have
#     ---------------------- ----- --------
#     ExtUtils::MakeMaker      any     7.44
#     File::Spec               any     3.75
#     IO::Handle               any     1.35
#     IPC::Open3               any     1.18
#     List::Util              1.45     1.54
#     Moose                    any   2.2012
#     Moose::Meta::Attribute   any   2.2012
#     Moose::Role              any   2.2012
#     Moose::Util::MetaRole    any   2.2012
#     TAP::SimpleOutput      0.009    0.009
#     Test::Builder::Tester    any 1.302172
#     Test::CheckDeps        0.010    0.010
#     Test::More              0.94 1.302172
#     namespace::autoclean     any     0.29
# 
# === Test Recommends ===
# 
#     Module         Want     Have
#     ---------- -------- --------
#     CPAN::Meta 2.120900 2.150010
# 
# === Runtime Requires ===
# 
#     Module                       Want     Have
#     ---------------------------- ---- --------
#     Carp                          any     1.36
#     Data::OptList                 any    0.110
#     List::MoreUtils               any    0.428
#     List::Util                   1.45     1.54
#     Moose::Util                   any   2.2012
#     Moose::Util::TypeConstraints  any   2.2012
#     Scalar::Util                  any     1.54
#     Sub::Exporter::Progressive    any 0.001013
#     Syntax::Keyword::Junction     any 0.003008
#     Test::Builder                 any 1.302172
#     Test::Moose                   any   2.2012
#     Test::More                   0.94 1.302172
#     strict                        any     1.09
#     warnings                      any     1.34
# 
t/00-report-prereqs.t .................................. ok
t/attribute_options_ok/basic.t ......................... ok
t/attribute_options_ok/subtest-wrapper.t ............... ok
t/check_sugar.t ........................................ ok
t/definition_context.t ................................. ok
t/does_metaroles_ok.t .................................. ok
t/does_not_metaroles_ok.t .............................. ok
t/does_not_ok.t ........................................ ok
t/does_ok.t ............................................ ok
t/has_attribute_ok.t ................................... ok
t/is_anon_ok.t ......................................... ok
t/is_class_ok/basic.t .................................. ok
t/is_class_ok/moose-meta-attribute-should-be-moosey.t .. ok
t/is_immutable_ok.t .................................... ok
t/is_not_anon_ok.t ..................................... ok
t/is_role_ok.t ......................................... ok
t/meta_ok.t ............................................ ok
t/method_from_pkg_ok.t ................................. ok
t/method_is_accessor_ok.t .............................. ok
t/method_is_not_accessor_ok.t .......................... ok
t/method_not_from_pkg_ok.t ............................. ok
t/method_ok.t .......................................... ok
t/no_meta_ok.t ......................................... ok
t/pristine_ok.t ........................................ ok
t/requires_method_ok.t ................................. ok
t/subtest-1.t .......................................... ok
t/validate_attribute/basic.t ........................... ok
t/validate_attribute/coerce.t .......................... ok
t/validate_attribute/in_roles.t ........................ ok
t/validate_attribute/lazy.t ............................ ok
t/validate_attribute/required.t ........................ ok
t/validate_class/basic.t ............................... ok
t/validate_class/metaclasses.t ......................... ok
t/validate_class/metaroles.t ........................... ok
t/validate_class/methods.t ............................. ok
t/validate_role/basic.t ................................ ok
t/validate_role/compose.t .............................. ok
t/validate_role/metaclasses.t .......................... ok
t/validate_role/metaroles.t ............................ ok
t/validate_thing/metaclasses.t ......................... ok
t/validate_thing/methods.t ............................. ok
t/validate_thing/sugar.t ............................... ok
t/wrapped/in_roles.t ................................... ok
All tests successful.

Test Summary Report
-------------------
t/00-check-deps.t                                    (Wstat: 0 Tests: 32 Failed: 0)
  TODO passed:   32
Files=45, Tests=235, 29 wallclock secs ( 0.34 usr  0.10 sys + 22.45 cusr  5.28 csys = 28.18 CPU)
Result: PASS


PREREQUISITES:

Here is a list of prerequisites you specified and versions we
managed to load:

	  Module Name                        Have     Want
	  Carp                               1.36        0
	  Data::OptList                     0.110        0
	  ExtUtils::MakeMaker                7.44        0
	  File::Spec                         3.75        0
	  IO::Handle                         1.35        0
	  IPC::Open3                         1.18        0
	  List::MoreUtils                   0.428        0
	  List::Util                         1.54     1.45
	  Moose                            2.2012        0
	  Moose::Meta::Attribute           2.2012        0
	  Moose::Role                      2.2012        0
	  Moose::Util                      2.2012        0
	  Moose::Util::MetaRole            2.2012        0
	  Moose::Util::TypeConstraints     2.2012        0
	  Scalar::Util                       1.54        0
	  Sub::Exporter::Progressive     0.001013        0
	  Syntax::Keyword::Junction      0.003008        0
	  TAP::SimpleOutput                 0.009    0.009
	  Test::Builder                  1.302172        0
	  Test::Builder::Tester          1.302172        0
	  Test::CheckDeps                   0.010    0.010
	  Test::Moose                      2.2012        0
	  Test::More                     1.302172     0.94
	  namespace::autoclean               0.29        0
	  strict                             1.09        0
	  warnings                           1.34        0

Perl module toolchain versions installed:
	Module Name                        Have
	CPANPLUS                         0.9906
	CPANPLUS::Dist::Build              0.90
	Cwd                                3.75
	ExtUtils::CBuilder             0.280234
	ExtUtils::Command                  7.44
	ExtUtils::Install                  2.14
	ExtUtils::MakeMaker                7.44
	ExtUtils::Manifest                 1.72
	ExtUtils::ParseXS                  3.35
	File::Spec                         3.75
	Module::Build                    0.4231
	Pod::Parser                        1.63
	Pod::Simple                        3.29
	Test2                          1.302172
	Test::Harness                      3.42
	Test::More                     1.302172
	version                          0.9924

******************************** NOTE ********************************
The comments above are created mechanically, possibly without manual
checking by the sender.  As there are many people performing automatic
tests on each upload to CPAN, it is likely that you will receive
identical messages about the same problem.

If you believe that the message is mistaken, please reply to the first
one with correction and/or additional informations, and do not take
it personally.  We appreciate your patience. :)
**********************************************************************

Additional comments:


This report was machine-generated by CPANPLUS::Dist::YACSmoke 1.08.
Powered by minismokebox version 0.68

CPANPLUS is prefering Build.PL

------------------------------
ENVIRONMENT AND OTHER CONTEXT
------------------------------

Environment variables:

    AUTOMATED_TESTING = 1
    NONINTERACTIVE_TESTING = 1
    PATH = /sbin:/bin:/usr/sbin:/usr/bin:/usr/local/sbin:/usr/local/bin:/home/cpan/bin
    PERL5LIB = /usr/home/cpan/pit/jail/sW4tFomAKI/lib/perl5:/usr/home/cpan/pit/bare/conf/perl-5.22.2/.cpanplus/5.22.2/build/fBSHOYUhDX/Test-Moose-More-0.050/blib/lib:/usr/home/cpan/pit/bare/conf/perl-5.22.2/.cpanplus/5.22.2/build/fBSHOYUhDX/Test-Moose-More-0.050/blib/arch
    PERL5_CPANPLUS_IS_RUNNING = 11668
    PERL5_CPANPLUS_IS_VERSION = 0.9906
    PERL5_MINISMOKEBOX = 0.68
    PERL5_YACSMOKE_BASE = /usr/home/cpan/pit/bare/conf/perl-5.22.2
    PERL_EXTUTILS_AUTOINSTALL = --defaultdeps
    PERL_LOCAL_LIB_ROOT = /usr/home/cpan/pit/jail/sW4tFomAKI
    PERL_MB_OPT = --install_base "/usr/home/cpan/pit/jail/sW4tFomAKI"
    PERL_MM_OPT = INSTALL_BASE=/usr/home/cpan/pit/jail/sW4tFomAKI
    PERL_MM_USE_DEFAULT = 1
    PERL_USE_UNSAFE_INC = 1
    SHELL = /usr/local/bin/bash
    TERM = screen

Perl special variables (and OS-specific diagnostics, for MSWin32):

    Perl: $^X = /usr/home/cpan/pit/bare/perl-5.22.2/bin/perl
    UID:  $<  = 1002
    EUID: $>  = 1002
    GID:  $(  = 1002 1002
    EGID: $)  = 1002 1002


-------------------------------


--

Summary of my perl5 (revision 5 version 22 subversion 2) configuration:
   
  Platform:
    osname=freebsd, osvers=12.1-release, archname=amd64-freebsd
    uname='freebsd fforc 12.1-release freebsd 12.1-release r354233 generic amd64 '
    config_args='-des -Dprefix=/usr/home/cpan/pit/bare/perl-5.22.2'
    hint=recommended, useposix=true, d_sigaction=define
    useithreads=undef, usemultiplicity=undef
    use64bitint=define, use64bitall=define, uselongdouble=undef
    usemymalloc=n, bincompat5005=undef
  Compiler:
    cc='cc', ccflags ='-DHAS_FPSETMASK -DHAS_FLOATINGPOINT_H -fno-strict-aliasing -pipe -fstack-protector-strong -I/usr/local/include -D_FORTIFY_SOURCE=2',
    optimize='-O2',
    cppflags='-DHAS_FPSETMASK -DHAS_FLOATINGPOINT_H -fno-strict-aliasing -pipe -fstack-protector-strong -I/usr/local/include'
    ccversion='', gccversion='4.2.1 Compatible FreeBSD Clang 8.0.1 (tags/RELEASE_801/final 366581)', gccosandvers=''
    intsize=4, longsize=8, ptrsize=8, doublesize=8, byteorder=12345678, doublekind=3
    d_longlong=define, longlongsize=8, d_longdbl=define, longdblsize=16, longdblkind=3
    ivtype='long', ivsize=8, nvtype='double', nvsize=8, Off_t='off_t', lseeksize=8
    alignbytes=8, prototype=define
  Linker and Libraries:
    ld='cc', ldflags ='-Wl,-E  -fstack-protector-strong -L/usr/local/lib'
    libpth=/usr/lib /usr/local/lib /usr/lib/clang/8.0.1/lib /usr/lib
    libs=-lpthread -lgdbm -ldl -lm -lcrypt -lutil -lc
    perllibs=-lpthread -ldl -lm -lcrypt -lutil -lc
    libc=, so=so, useshrplib=false, libperl=libperl.a
    gnulibc_version=''
  Dynamic Linking:
    dlsrc=dl_dlopen.xs, dlext=so, d_dlsymun=undef, ccdlflags=' '
    cccdlflags='-DPIC -fPIC', lddlflags='-shared  -L/usr/local/lib -fstack-protector-strong'


Characteristics of this binary (from libperl): 
  Compile-time options: HAS_TIMES PERLIO_LAYERS PERL_DONT_CREATE_GVSV
                        PERL_HASH_FUNC_ONE_AT_A_TIME_HARD PERL_MALLOC_WRAP
                        PERL_NEW_COPY_ON_WRITE PERL_PRESERVE_IVUV
                        USE_64_BIT_ALL USE_64_BIT_INT USE_LARGE_FILES
                        USE_LOCALE USE_LOCALE_COLLATE USE_LOCALE_CTYPE
                        USE_LOCALE_NUMERIC USE_LOCALE_TIME USE_PERLIO
                        USE_PERL_ATOF
  Locally applied patches:
	Devel::PatchPerl 1.64
  Built under freebsd
  Compiled at Nov  7 2019 09:49:06
  %ENV:
    PERL5LIB="/usr/home/cpan/pit/jail/sW4tFomAKI/lib/perl5:/usr/home/cpan/pit/bare/conf/perl-5.22.2/.cpanplus/5.22.2/build/fBSHOYUhDX/Test-Moose-More-0.050/blib/lib:/usr/home/cpan/pit/bare/conf/perl-5.22.2/.cpanplus/5.22.2/build/fBSHOYUhDX/Test-Moose-More-0.050/blib/arch"
    PERL5_CPANPLUS_IS_RUNNING="11668"
    PERL5_CPANPLUS_IS_VERSION="0.9906"
    PERL5_MINISMOKEBOX="0.68"
    PERL5_YACSMOKE_BASE="/usr/home/cpan/pit/bare/conf/perl-5.22.2"
    PERL_EXTUTILS_AUTOINSTALL="--defaultdeps"
    PERL_LOCAL_LIB_ROOT="/usr/home/cpan/pit/jail/sW4tFomAKI"
    PERL_MB_OPT="--install_base "/usr/home/cpan/pit/jail/sW4tFomAKI""
    PERL_MM_OPT="INSTALL_BASE=/usr/home/cpan/pit/jail/sW4tFomAKI"
    PERL_MM_USE_DEFAULT="1"
    PERL_USE_UNSAFE_INC="1"
  @INC:
    /usr/home/cpan/pit/jail/sW4tFomAKI/lib/perl5/5.22.2/amd64-freebsd
    /usr/home/cpan/pit/jail/sW4tFomAKI/lib/perl5/5.22.2
    /usr/home/cpan/pit/jail/sW4tFomAKI/lib/perl5/amd64-freebsd
    /usr/home/cpan/pit/jail/sW4tFomAKI/lib/perl5
    /usr/home/cpan/pit/bare/conf/perl-5.22.2/.cpanplus/5.22.2/build/fBSHOYUhDX/Test-Moose-More-0.050/blib/lib
    /usr/home/cpan/pit/bare/conf/perl-5.22.2/.cpanplus/5.22.2/build/fBSHOYUhDX/Test-Moose-More-0.050/blib/arch
    /usr/home/cpan/pit/bare/perl-5.22.2/lib/site_perl/5.22.2/amd64-freebsd
    /usr/home/cpan/pit/bare/perl-5.22.2/lib/site_perl/5.22.2
    /usr/home/cpan/pit/bare/perl-5.22.2/lib/5.22.2/amd64-freebsd
    /usr/home/cpan/pit/bare/perl-5.22.2/lib/5.22.2
    .