NBI-Slurm v0.12.0 Perl 5 v5.40.2 MSWin32-x64-multi-thread
- Status
- Pass
- From
- twata
- Dist
-
NBI-Slurm v0.12.0
- Platform
- Perl 5 v5.40.2 MSWin32-x64-multi-thread
- Date
- 2025-05-07 16:16:28
- ID
- dba9209d-6c5e-1014-8029-81219775710c
This distribution has been tested as part of the CPAN Testers
project, supporting the Perl programming language. See
http://wiki.cpantesters.org/ for more information or email
questions to cpan-testers-discuss@perl.org
--
Dear Andrea Telatin,
This is a computer-generated report for NBI-Slurm-0.12.0
on perl 5.40.2, created by CPAN-Reporter-1.2020.
Thank you for uploading your work to CPAN. Congratulations!
All tests were successful.
Sections of this report:
* Tester comments
* Program output
* Prerequisites
* Environment and other context
------------------------------
TESTER COMMENTS
------------------------------
Additional comments from tester:
none provided
------------------------------
PROGRAM OUTPUT
------------------------------
Output from 'C:\strawberry-perl-5.40.2.1-beta1-64bit-portable\c\bin\gmake.exe test':
"C:\strawberry-perl-5.40.2.1-beta1-64bit-portable\perl\bin\perl.exe" "-MExtUtils::Command::MM" "-MTest::Harness" "-e" "undef *Test::Harness::Switches; test_harness(0, 'blib\lib', 'blib\arch')" t/*.t
t/01-base.t ....................... ok
t/01-unit.t ....................... ok
t/02-opts.t ....................... ok
t/03-job.t ........................ ok
t/04-queuedjob.t .................. ok
t/05-bin-ver.t .................... ok
t/10-hpc.t ........................ skipped: Skipping all tests: not in a slurm cluster
t/11-bins.t ....................... skipped: Skipping all tests: scripts not supported on Windows
t/12-array.t ...................... ok
t/20-intensive.t .................. ok
t/29-bins-pod.t ................... skipped: Skipping all tests: scripts not supported on Windows
t/30-misc.t ....................... ok
t/release-00-pod.t ................ skipped: these tests are for release candidate testing
t/release-01-pod-coverage.t ....... skipped: these tests are for release candidate testing
t/release-03-minimum-standards.t .. skipped: these tests are for release candidate testing
t/release-05-changes.t ............ skipped: these tests are for release candidate testing
t/release-check-version.t ......... skipped: these tests are for release candidate testing
All tests successful.
Files=17, Tests=32, 6 wallclock secs ( 0.05 usr + 0.08 sys = 0.13 CPU)
Result: PASS
------------------------------
PREREQUISITES
------------------------------
Prerequisite modules loaded:
requires:
Module Need Have
-------------------- ----- --------
Capture::Tiny 0.40 0.50
Carp 1.2 1.54
Data::Dumper 2.1 2.189
FindBin 1.3 1.54
JSON::PP 0 4.16
perl 5.016 5.040002
PerlIO::encoding 0 0.31
Storable 0 3.32
Text::ASCIITable 0.22 0.22
build_requires:
Module Need Have
-------------------- ----- --------
ExtUtils::MakeMaker 0 7.74
configure_requires:
Module Need Have
-------------------- ----- --------
ExtUtils::MakeMaker 0 7.74
opt_requires:
Module Need Have
-------------------- ----- --------
File::Which 0 1.27
opt_build_requires:
Module Need Have
-------------------- ----- --------
Test::GreaterVersion 0 0.01
Test::Kwalitee 1.27 1.28
------------------------------
ENVIRONMENT AND OTHER CONTEXT
------------------------------
Environment variables:
COMSPEC = C:\WINDOWS\system32\cmd.exe
LC_ALL = C
NONINTERACTIVE_TESTING = 1
NUMBER_OF_PROCESSORS = 4
PATH = C:\strawberry-perl-5.40.2.1-beta1-64bit-portable\perl\site\bin;C:\strawberry-perl-5.40.2.1-beta1-64bit-portable\perl\bin;C:\strawberry-perl-5.40.2.1-beta1-64bit-portable\c\bin;C:\WINDOWS\system32;C:\WINDOWS;C:\WINDOWS\System32\Wbem;C:\WINDOWS\System32\WindowsPowerShell\v1.0
PERL5LIB =
PERL5OPT =
PERL5_CPANPLUS_IS_RUNNING = 7336
PERL5_CPAN_IS_RUNNING = 7336
PERL_MM_USE_DEFAULT = 1
PERL_USE_UNSAFE_INC = 1
PROCESSOR_IDENTIFIER = Intel64 Family 6 Model 58 Stepping 9, GenuineIntel
TEMP = C:\Users\USER\AppData\Local\Temp
TERM = dumb
Perl special variables (and OS-specific diagnostics, for MSWin32):
$^X = C:\strawberry-perl-5.40.2.1-beta1-64bit-portable\perl\bin\perl.exe
$UID/$EUID = 0 / 0
$GID = 0
$EGID = 0
Win32::GetOSName = Win8.1
Win32::GetOSVersion = , 6, 3, 9600, 2, 0, 0, 256, 1
Win32::FsType = NTFS
Win32::IsAdminUser = 0
Perl module toolchain versions installed:
Module Have
------------------- --------
CPAN 2.38
CPAN::Meta 2.150010
Cwd 3.91
ExtUtils::CBuilder 0.280240
ExtUtils::Command 7.74
ExtUtils::Install 2.22
ExtUtils::MakeMaker 7.74
ExtUtils::Manifest 1.75
ExtUtils::ParseXS 3.51
File::Spec 3.91
JSON 4.10
JSON::PP 4.16
Module::Build 0.4234
Module::Signature n/a
Parse::CPAN::Meta 2.150010
Test2 1.302210
Test::Harness 3.51_01
Test::More 1.302210
YAML 1.31
YAML::Syck n/a
version 0.9933
--
Summary of my perl5 (revision 5 version 40 subversion 2) configuration:
Platform:
osname=MSWin32
osvers=10.0.22631.5189
archname=MSWin32-x64-multi-thread
uname='Win32 strawberry-perl 5.40.2.1 # 09:42:29 Tue April 22 2025 x64'
config_args='undef'
hint=recommended
useposix=true
d_sigaction=undef
useithreads=define
usemultiplicity=define
use64bitint=define
use64bitall=undef
uselongdouble=undef
usemymalloc=n
default_inc_excludes_dot=define
Compiler:
cc='gcc'
ccflags ='-std=c99 -DWIN32 -DWIN64 -DPERL_TEXTMODE_SCRIPTS -DMULTIPLICITY -DPERL_IMPLICIT_SYS -DUSE_PERLIO -D__USE_MINGW_ANSI_STDIO -fwrapv -fno-strict-aliasing -mms-bitfields'
optimize='-O2'
cppflags='-DWIN32'
ccversion=''
gccversion='13.2.0'
gccosandvers=''
intsize=4
longsize=4
ptrsize=8
doublesize=8
byteorder=12345678
doublekind=3
d_longlong=define
longlongsize=8
d_longdbl=define
longdblsize=16
longdblkind=3
ivtype='long long'
ivsize=8
nvtype='double'
nvsize=8
Off_t='long long'
lseeksize=8
alignbytes=8
prototype=define
Linker and Libraries:
ld='g++.exe'
ldflags ='-s -L"C:\strawberry-perl-5.40.2.1-beta1-64bit-portable\perl\lib\CORE" -L"C:\strawberry-perl-5.40.2.1-beta1-64bit-portable\c\lib"'
libpth=C:\strawberry-perl-5.40.2.1-beta1-64bit-portable\c\lib C:\strawberry-perl-5.40.2.1-beta1-64bit-portable\c\x86_64-w64-mingw32\lib C:\strawberry-perl-5.40.2.1-beta1-64bit-portable\c\lib\gcc\x86_64-w64-mingw32\13.1.0
libs= -lmoldname -lkernel32 -luser32 -lgdi32 -lwinspool -lcomdlg32 -ladvapi32 -lshell32 -lole32 -loleaut32 -lnetapi32 -luuid -lws2_32 -lmpr -lwinmm -lversion -lodbc32 -lodbccp32 -lcomctl32
perllibs= -lmoldname -lkernel32 -luser32 -lgdi32 -lwinspool -lcomdlg32 -ladvapi32 -lshell32 -lole32 -loleaut32 -lnetapi32 -luuid -lws2_32 -lmpr -lwinmm -lversion -lodbc32 -lodbccp32 -lcomctl32
libc=-lucrt
so=dll
useshrplib=true
libperl=libperl540.a
gnulibc_version=''
Dynamic Linking:
dlsrc=dl_win32.xs
dlext=xs.dll
d_dlsymun=undef
ccdlflags=' '
cccdlflags=' '
lddlflags='-mdll -s -L"C:\strawberry-perl-5.40.2.1-beta1-64bit-portable\perl\lib\CORE" -L"C:\strawberry-perl-5.40.2.1-beta1-64bit-portable\c\lib"'
Characteristics of this binary (from libperl):
Compile-time options:
HAS_LONG_DOUBLE
HAS_TIMES
HAVE_INTERP_INTERN
MULTIPLICITY
PERLIO_LAYERS
PERL_COPY_ON_WRITE
PERL_DONT_CREATE_GVSV
PERL_HASH_FUNC_SIPHASH13
PERL_HASH_USE_SBOX32
PERL_IMPLICIT_SYS
PERL_MALLOC_WRAP
PERL_OP_PARENT
PERL_PRESERVE_IVUV
PERL_USE_SAFE_PUTENV
USE_64_BIT_INT
USE_ITHREADS
USE_LARGE_FILES
USE_LOCALE
USE_LOCALE_COLLATE
USE_LOCALE_CTYPE
USE_LOCALE_NUMERIC
USE_LOCALE_TIME
USE_PERLIO
USE_PERL_ATOF
USE_THREAD_SAFE_LOCALE
Built under MSWin32
Compiled at Apr 22 2025 19:47:51
%ENV:
PERL5_CPANPLUS_IS_RUNNING="7336"
PERL5_CPAN_IS_RUNNING="7336"
PERL_MM_USE_DEFAULT="1"
PERL_USE_UNSAFE_INC="1"
@INC:
C:/strawberry-perl-5.40.2.1-beta1-64bit-portable/perl/site/lib/MSWin32-x64-multi-thread
C:/strawberry-perl-5.40.2.1-beta1-64bit-portable/perl/site/lib
C:/strawberry-perl-5.40.2.1-beta1-64bit-portable/perl/vendor/lib
C:/strawberry-perl-5.40.2.1-beta1-64bit-portable/perl/lib
.