Report for Data-Conveyor-1.101690

Back
From: metabase:user:30dda8bc-2aae-11df-837a-5e0a49663a4f
Subject: PASS Data-Conveyor-1.101690 v5.12.3 GNU/Linux
Date: 2011-06-23T03:57:04Z

This distribution has been tested as part of the CPAN Testers
project, supporting the Perl programming language.  See
http://wiki.cpantesters.org/ for more information or email
questions to cpan-testers-discuss@perl.org


--
Dear Marcel Gruenauer,

This is a computer-generated report for Data-Conveyor-1.101690
on perl 5.12.3, created by CPAN-Reporter-1.1902.

Thank you for uploading your work to CPAN.  Congratulations!
All tests were successful.

Sections of this report:

    * Tester comments
    * Program output
    * Prerequisites
    * Environment and other context

------------------------------
TESTER COMMENTS
------------------------------

Additional comments from tester:

this report is from an automated smoke testing program
and was not reviewed by a human for accuracy

------------------------------
PROGRAM OUTPUT
------------------------------

Output from '/usr/bin/make test':

PERL_DL_NONLAZY=1 /usr/bin/perl "-MExtUtils::Command::MM" "-e" "test_harness(0, 'blib/lib', 'blib/arch')" t/*.t
t/00-compile.t ............... ok
# Testing with Perl 5.012003, /usr/bin/perl
#     Carp version is 1.17
#     Class::Accessor::Complex version is 1.100880
#     Class::Scaffold::Accessor version is 1.102280
#     Class::Scaffold::App::CommandLine version is 1.102280
#     Class::Scaffold::App::Test::Classes version is 1.102280
#     Class::Scaffold::App::Test::YAMLDriven version is 1.102280
#     Class::Scaffold::Base version is 1.102280
#     Class::Scaffold::ConstantImporter version is 1.102280
#     Class::Scaffold::Delegate::Mixin version is 1.102280
#     Class::Scaffold::Environment version is 1.102280
#     Class::Scaffold::Exception version is 1.102280
#     Class::Scaffold::Exception::Business version is 1.102280
#     Class::Scaffold::Exception::Container version is 1.102280
#     Class::Scaffold::Exception::Util version is 1.102280
#     Class::Scaffold::Factory version is 1.102280
#     Class::Scaffold::Factory::Type version is 1.102280
#     Class::Scaffold::HierarchicalDirty version is 1.102280
#     Class::Scaffold::Log version is 1.102280
#     Class::Scaffold::Storable version is 1.102280
#     Class::Scaffold::Test version is 1.102280
#     Class::Scaffold::Test::Inherited version is 1.102280
#     Class::Scaffold::Test::UtilLoader version is 1.102280
#     Class::Scaffold::Util version is 1.102280
#     Class::Scaffold::YAML::Active version is 1.102280
#     Class::Scaffold::YAML::Active::Hash version is 1.102280
#     Class::Scaffold::YAML::Marshall version is 1.102280
#     Class::Value version is 1.100840
#     Class::Value::Enum version is 1.100840
#     Class::Value::Exception::Base version is 1.100840
#     Class::Value::Exception::NotWellFormedValue version is 1.100840
#     Class::Value::String version is 1.100840
#     Compress::Zlib version is 2.036
#     DBI version is 1.616
#     Data::Container version is 1.100840
#     Data::Dumper version is 2.131
#     Data::Inherited version is 1.100860
#     Data::Miscellany version is 1.100850
#     Data::Storage::DBI::Mock version is 1.101700
#     Data::Storage::DBI::Oracle version is 1.101700
#     Data::Storage::DBI::Postgres version is 1.101700
#     Data::Storage::DBI::SQLite version is 1.101700
#     Data::Storage::Memory version is 1.101700
#     Data::Storage::Null version is 1.101700
#     Date::Calc version is 6.3
#     English version is 1.04
#     Error version is 0.17016
#     Error::Hierarchy version is 1.103530
#     Error::Hierarchy::Internal version is 1.103530
#     Error::Hierarchy::Internal::CustomMessage version is 1.103530
#     Error::Hierarchy::Internal::DBI::STH version is 1.103530
#     Error::Hierarchy::Test version is 1.103530
#     Error::Hierarchy::Util version is 1.103530
#     Exporter version is 5.63
#     ExtUtils::MakeMaker version is 6.5711
#     Fcntl version is 1.06
#     File::Find version is 1.15
#     File::Temp version is 0.22
#     FindBin version is 1.50
#     Getopt::Long version is 2.3802
#     Hash::Flatten version is 1.19
#     Hook::Modular version is 1.101050
#     Hook::Modular::Plugin version is 1.101050
#     IO::Handle version is 1.28
#     IO::Pager version is 0.05
#     Pod::Text version is 3.15
#     Scalar::Util version is 1.23
#     Storable version is 2.25
#     String::FlexMatch::Test version is 1.100820
#     Sys::Hostname version is 1.11
#     Term::Shell::Enhanced version is 1.101420
#     Test::Builder version is 0.98
#     Test::Class version is 0.36
#     Test::More version is 0.98
#     Text::Table version is 1.123
#     Time::HiRes version is 1.9724
#     YAML version is 0.73
#     YAML::Active version is 1.100810
#     YAML::Marshall version is 0.72
#     charnames version is 1.07
#     constant version is 1.21
#     once version is 1.101420
#     overload version is 1.10
#     parent version is 0.225
t/000-report-versions.t ...... ok
t/01_companion_classes.t ..... ok
t/author-critic.t ............ skipped: these tests are for testing by the author
t/release-check-changes.t .... skipped: these tests are for release candidate testing
t/release-dist-manifest.t .... skipped: these tests are for release candidate testing
t/release-distmeta.t ......... skipped: these tests are for release candidate testing
t/release-has-version.t ...... skipped: these tests are for release candidate testing
t/release-kwalitee.t ......... skipped: these tests are for release candidate testing
t/release-minimum-version.t .. skipped: these tests are for release candidate testing
t/release-pod-coverage.t ..... skipped: these tests are for release candidate testing
t/release-pod-spell.t ........ skipped: these tests are for release candidate testing
t/release-pod-syntax.t ....... skipped: these tests are for release candidate testing
t/release-portability.t ...... skipped: these tests are for release candidate testing
t/release-synopsis.t ......... skipped: these tests are for release candidate testing
t/release-unused-vars.t ...... skipped: these tests are for release candidate testing
All tests successful.
Files=16, Tests=239, 16 wallclock secs ( 0.09 usr  0.02 sys + 11.55 cusr  1.82 csys = 13.48 CPU)
Result: PASS

------------------------------
PREREQUISITES
------------------------------

Prerequisite modules loaded:

requires:

    Module                                      Need Have    
    ------------------------------------------- ---- --------
    charnames                                   0    1.07    
    Class::Accessor::Complex                    0    1.100880
    Class::Scaffold::Accessor                   0    1.102280
    Class::Scaffold::App::CommandLine           0    1.102280
    Class::Scaffold::App::Test::YAMLDriven      0    1.102280
    Class::Scaffold::Base                       0    1.102280
    Class::Scaffold::ConstantImporter           0    1.102280
    Class::Scaffold::Delegate::Mixin            0    1.102280
    Class::Scaffold::Environment                0    1.102280
    Class::Scaffold::Exception                  0    1.102280
    Class::Scaffold::Exception::Business        0    1.102280
    Class::Scaffold::Exception::Container       0    1.102280
    Class::Scaffold::Exception::Util            0    1.102280
    Class::Scaffold::Factory                    0    1.102280
    Class::Scaffold::Factory::Type              0    1.102280
    Class::Scaffold::HierarchicalDirty          0    1.102280
    Class::Scaffold::Log                        0    1.102280
    Class::Scaffold::Storable                   0    1.102280
    Class::Scaffold::Test                       0    1.102280
    Class::Scaffold::Test::Inherited            0    1.102280
    Class::Scaffold::Test::UtilLoader           0    1.102280
    Class::Scaffold::Util                       0    1.102280
    Class::Scaffold::YAML::Active               0    1.102280
    Class::Scaffold::YAML::Active::Hash         0    1.102280
    Class::Scaffold::YAML::Marshall             0    1.102280
    Class::Value                                0    1.100840
    Class::Value::Enum                          0    1.100840
    Class::Value::Exception::Base               0    1.100840
    Class::Value::Exception::NotWellFormedValue 0    1.100840
    Class::Value::String                        0    1.100840
    Compress::Zlib                              0    2.036   
    constant                                    0    1.21    
    Data::Container                             0    1.100840
    Data::Dumper                                0    2.131   
    Data::Inherited                             0    1.100860
    Data::Miscellany                            0    1.100850
    Data::Storage::DBI::Mock                    0    1.101700
    Data::Storage::DBI::Oracle                  0    1.101700
    Data::Storage::DBI::Postgres                0    1.101700
    Data::Storage::DBI::SQLite                  0    1.101700
    Data::Storage::Memory                       0    1.101700
    Data::Storage::Null                         0    1.101700
    Date::Calc                                  0    6.3     
    DBI                                         0    1.616   
    Error                                       0    0.17016 
    Error::Hierarchy                            0    1.103530
    Error::Hierarchy::Internal                  0    1.103530
    Error::Hierarchy::Internal::CustomMessage   0    1.103530
    Error::Hierarchy::Internal::DBI::STH        0    1.103530
    Error::Hierarchy::Test                      0    1.103530
    Error::Hierarchy::Util                      0    1.103530
    Exporter                                    0    5.63    
    Fcntl                                       0    1.06    
    FindBin                                     0    1.50    
    Getopt::Long                                0    2.3802  
    Hash::Flatten                               0    1.19    
    Hook::Modular                               0    1.101050
    Hook::Modular::Plugin                       0    1.101050
    IO::Handle                                  0    1.28    
    IO::Pager                                   0    0.05    
    once                                        0    1.101420
    overload                                    0    1.10    
    parent                                      0    0.225   
    Pod::Text                                   0    3.15    
    Storable                                    0    2.25    
    String::FlexMatch::Test                     0    1.100820
    Sys::Hostname                               0    1.11    
    Term::Shell::Enhanced                       0    1.101420
    Test::Builder                               0    0.98    
    Test::Class                                 0    0.36    
    Test::More                                  0    0.98    
    Text::Table                                 0    1.123   
    Time::HiRes                                 0    1.9724  
    YAML                                        0    0.73    
    YAML::Active                                0    1.100810
    YAML::Marshall                              0    0.72    

build_requires:

    Module                                      Need Have    
    ------------------------------------------- ---- --------
    Carp                                        0    1.17    
    Class::Scaffold::App::Test::Classes         0    1.102280
    English                                     0    1.04    
    File::Find                                  0    1.15    
    File::Temp                                  0    0.22    
    Scalar::Util                                0    1.23    
    Test::More                                  0.94 0.98    

configure_requires:

    Module                                      Need Have    
    ------------------------------------------- ---- --------
    ExtUtils::MakeMaker                         6.31 6.57_11 


------------------------------
ENVIRONMENT AND OTHER CONTEXT
------------------------------

Environment variables:

    AUTOMATED_TESTING = 1
    LANG = en_US.utf8
    PATH = /net/netfile2/ag-russell/perl-smoker/Fedora-14-i686/bin:/net/netfile2/ag-russell/install/Fedora-14-i686/perlbrew/bin:/bin:/sbin:/usr/bin:/usr/sbin:/usr/local/bin
    PATH_WITHOUT_PERLBREW = /bin:/sbin:/usr/bin:/usr/sbin:/usr/local/bin
    PERL5LIB = /net/netfile2/ag-russell/perl-smoker/Fedora-14-i686/lib/perl5/i386-linux-thread-multi:/net/netfile2/ag-russell/perl-smoker/Fedora-14-i686/lib/perl5
    PERL5OPT = 
    PERL5_CPANPLUS_IS_RUNNING = 5865
    PERL5_CPAN_IS_RUNNING = 5865
    PERL5_CPAN_IS_RUNNING_IN_RECURSION = 28253,5865
    PERLBREW_PATH = /net/netfile2/ag-russell/install/Fedora-14-i686/perlbrew/bin
    PERLBREW_ROOT = /net/netfile2/ag-russell/install/Fedora-14-i686/perlbrew
    PERLBREW_VERSION = 0.17
    PERL_CR_SMOKER_CURRENT = Data-Conveyor-1.101690
    PERL_EXTUTILS_AUTOINSTALL = --defaultdeps
    PERL_LOCAL_LIB_ROOT = /net/netfile2/ag-russell/perl-smoker/Fedora-14-i686
    PERL_MB_OPT = --install_base /net/netfile2/ag-russell/perl-smoker/Fedora-14-i686
    PERL_MM_OPT = INSTALL_BASE=/net/netfile2/ag-russell/perl-smoker/Fedora-14-i686
    PERL_MM_USE_DEFAULT = 1
    SHELL = /bin/bash
    TERM = xterm

Perl special variables (and OS-specific diagnostics, for MSWin32):

    $^X = /usr/bin/perl
    $UID/$EUID = 2699 / 2699
    $GID = 2048 2048 10000 10003 10004 10099
    $EGID = 2048 2048 10000 10003 10004 10099

Perl module toolchain versions installed:

    Module              Have    
    ------------------- --------
    CPAN                1.9600  
    Cwd                 3.33    
    ExtUtils::CBuilder  0.280202
    ExtUtils::Command   1.17    
    ExtUtils::Install   1.54    
    ExtUtils::MakeMaker 6.57_11 
    ExtUtils::Manifest  1.58    
    ExtUtils::ParseXS   2.2206  
    File::Spec          3.33    
    Module::Build       0.3800  
    Module::Signature   0.68    
    Test::Harness       3.23    
    Test::More          0.98    
    YAML                0.73    
    YAML::Syck          1.17    
    version             0.91    


--

Summary of my perl5 (revision 5 version 12 subversion 3) configuration:
   
  Platform:
    osname=linux, osvers=2.6.32-71.el6.x86_64, archname=i386-linux-thread-multi
    uname='linux x86-01.phx2.fedoraproject.org 2.6.32-71.el6.x86_64 #1 smp wed sep 1 01:33:01 edt 2010 i686 i686 i386 gnulinux '
    config_args='-des -Doptimize=-O2 -g -pipe -Wall -Wp,-D_FORTIFY_SOURCE=2 -fexceptions -fstack-protector --param=ssp-buffer-size=4 -m32 -march=i686 -mtune=atom -fasynchronous-unwind-tables -Dccdlflags=-Wl,--enable-new-dtags -DDEBUGGING=-g -Dversion=5.12.3 -Dmyhostname=localhost -Dperladmin=root@localhost -Dcc=gcc -Dcf_by=Red Hat, Inc. -Dprefix=/usr -Dvendorprefix=/usr -Dsiteprefix=/usr/local -Dsitelib=/usr/local/share/perl5 -Dsitearch=/usr/local/lib/perl5 -Dprivlib=/usr/share/perl5 -Dvendorlib=/usr/share/perl5 -Darchlib=/usr/lib/perl5 -Dvendorarch=/usr/lib/perl5 -Darchname=i386-linux-thread-multi -Duseshrplib -Dusethreads -Duseithreads -Dusedtrace=/usr/bin/dtrace -Duselargefiles -Dd_semctl_semun -Di_db -Ui_ndbm -Di_gdbm -Di_shadow -Di_syslog -Dman3ext=3pm -Duseperlio -Dinstallusrbinperl=n -Ubincompat5005 -Uversiononly -Dpager=/usr/bin/less -isr -Dd_gethostent_r_proto -Ud_endhostent_r_proto -Ud_sethostent_r_proto -Ud_endprotoent_r_proto -Ud_setprotoent_r_proto -Ud_endservent_r_proto -Ud_setservent_r_proto -Dscriptdir=/usr/bin -Dotherlibdirs=/usr/local/lib/perl5/site_perl/5.10.0/i386-linux-thread-multi:/usr/local/lib/perl5/site_perl/5.10.0:/usr/lib/perl5/vendor_perl/5.10.0/i386-linux-thread-multi:/usr/lib/perl5/vendor_perl:/usr/lib/perl5/site_perl'
    hint=recommended, useposix=true, d_sigaction=define
    useithreads=define, usemultiplicity=define
    useperlio=define, d_sfio=undef, uselargefiles=define, usesocks=undef
    use64bitint=undef, use64bitall=undef, uselongdouble=undef
    usemymalloc=n, bincompat5005=undef
  Compiler:
    cc='gcc', ccflags ='-D_REENTRANT -D_GNU_SOURCE -fno-strict-aliasing -pipe -fstack-protector -I/usr/local/include -D_LARGEFILE_SOURCE -D_FILE_OFFSET_BITS=64',
    optimize='-O2 -g -pipe -Wall -Wp,-D_FORTIFY_SOURCE=2 -fexceptions -fstack-protector --param=ssp-buffer-size=4 -m32 -march=i686 -mtune=atom -fasynchronous-unwind-tables',
    cppflags='-D_REENTRANT -D_GNU_SOURCE -fno-strict-aliasing -pipe -fstack-protector -I/usr/local/include'
    ccversion='', gccversion='4.5.1 20100924 (Red Hat 4.5.1-4)', gccosandvers=''
    intsize=4, longsize=4, ptrsize=4, doublesize=8, byteorder=1234
    d_longlong=define, longlongsize=8, d_longdbl=define, longdblsize=12
    ivtype='long', ivsize=4, nvtype='double', nvsize=8, Off_t='off_t', lseeksize=8
    alignbytes=4, prototype=define
  Linker and Libraries:
    ld='gcc', ldflags =' -fstack-protector -L/usr/local/lib'
    libpth=/usr/local/lib /lib /usr/lib
    libs=-lresolv -lnsl -lgdbm -ldb -ldl -lm -lcrypt -lutil -lpthread -lc -lgdbm_compat
    perllibs=-lresolv -lnsl -ldl -lm -lcrypt -lutil -lpthread -lc
    libc=/lib/libc-2.12.90.so, so=so, useshrplib=true, libperl=libperl.so
    gnulibc_version='2.12.90'
  Dynamic Linking:
    dlsrc=dl_dlopen.xs, dlext=so, d_dlsymun=undef, ccdlflags='-Wl,--enable-new-dtags -Wl,-rpath,/usr/lib/perl5/CORE'
    cccdlflags='-fPIC', lddlflags='-shared -O2 -g -pipe -Wall -Wp,-D_FORTIFY_SOURCE=2 -fexceptions -fstack-protector --param=ssp-buffer-size=4 -m32 -march=i686 -mtune=atom -fasynchronous-unwind-tables -L/usr/local/lib'


Characteristics of this binary (from libperl): 
  Compile-time options: MULTIPLICITY PERL_DONT_CREATE_GVSV
                        PERL_IMPLICIT_CONTEXT PERL_MALLOC_WRAP USE_ITHREADS
                        USE_LARGE_FILES USE_PERLIO USE_PERL_ATOF
                        USE_REENTRANT_API
  Built under linux
  Compiled at Jan 24 2011 10:31:17
  %ENV:
    PERL5LIB="/net/netfile2/ag-russell/perl-smoker/Fedora-14-i686/lib/perl5/i386-linux-thread-multi:/net/netfile2/ag-russell/perl-smoker/Fedora-14-i686/lib/perl5"
    PERL5OPT=""
    PERL5_CPANPLUS_IS_RUNNING="5865"
    PERL5_CPAN_IS_RUNNING="5865"
    PERL5_CPAN_IS_RUNNING_IN_RECURSION="28253,5865"
    PERLBREW_PATH="/net/netfile2/ag-russell/install/Fedora-14-i686/perlbrew/bin"
    PERLBREW_ROOT="/net/netfile2/ag-russell/install/Fedora-14-i686/perlbrew"
    PERLBREW_VERSION="0.17"
    PERL_CR_SMOKER_CURRENT="Data-Conveyor-1.101690"
    PERL_EXTUTILS_AUTOINSTALL="--defaultdeps"
    PERL_LOCAL_LIB_ROOT="/net/netfile2/ag-russell/perl-smoker/Fedora-14-i686"
    PERL_MB_OPT="--install_base /net/netfile2/ag-russell/perl-smoker/Fedora-14-i686"
    PERL_MM_OPT="INSTALL_BASE=/net/netfile2/ag-russell/perl-smoker/Fedora-14-i686"
    PERL_MM_USE_DEFAULT="1"
  @INC:
    /net/netfile2/ag-russell/perl-smoker/Fedora-14-i686/lib/perl5/i386-linux-thread-multi
    /net/netfile2/ag-russell/perl-smoker/Fedora-14-i686/lib/perl5/i386-linux-thread-multi
    /net/netfile2/ag-russell/perl-smoker/Fedora-14-i686/lib/perl5
    /usr/local/lib/perl5
    /usr/local/share/perl5
    /usr/lib/perl5
    /usr/share/perl5
    /usr/lib/perl5
    /usr/share/perl5
    /usr/local/lib/perl5/site_perl/5.10.0/i386-linux-thread-multi
    /usr/local/lib/perl5/site_perl/5.10.0
    /usr/lib/perl5/vendor_perl/5.10.0/i386-linux-thread-multi
    /usr/lib/perl5/vendor_perl
    /usr/lib/perl5/site_perl
    .