Google-Ads-AdWords-Client v5.8.2 Perl 5 v5.37.8 x86_64-linux-ld
- Status
- Pass
- From
- Andreas J. König (ANDK)
- Dist
-
Google-Ads-AdWords-Client v5.8.2
- Platform
- Perl 5 v5.37.8 x86_64-linux-ld
- Date
- 2023-02-03 00:51:12
- ID
- db415828-a35c-11ed-a71b-7c6a199aeec8
This distribution has been tested as part of the CPAN Testers
project, supporting the Perl programming language. See
http://wiki.cpantesters.org/ for more information or email
questions to cpan-testers-discuss@perl.org
--
Dear Nadine Sundquist Wang,
This is a computer-generated report for Google-Ads-AdWords-Client-5.8.2
on perl 5.37.8, created by CPAN-Reporter-1.2018.
Thank you for uploading your work to CPAN. Congratulations!
All tests were successful.
Sections of this report:
* Tester comments
* Program output
* Prerequisites
* Environment and other context
------------------------------
TESTER COMMENTS
------------------------------
Additional comments from tester:
this report is from an automated smoke testing program
and was not reviewed by a human for accuracy
------------------------------
PROGRAM OUTPUT
------------------------------
Output from '/usr/bin/make test':
PERL_DL_NONLAZY=1 "/tmp/basesmoker-reloperl-0Q1v/bin/perl" "-MExtUtils::Command::MM" "-MTest::Harness" "-e" "undef *Test::Harness::Switches; test_harness(0, 'blib/lib', 'blib/arch')" t/*.t
Built-in function 'builtin::blessed' is experimental at /home/sand/src/perl/repoperls/installed-perls/host/k93focal/v5.37.8/d3e4/lib/5.37.8/File/Copy.pm line 58.
t/001_require.t ....................... ok
t/011_Client.t ........................ ok
t/012_Serializer.t .................... ok
t/013_Deserializer.t .................. ok
t/014_XPathSAXParser.t ................ ok
t/015_RequestStats.t .................. ok
t/017_OAuth2ApplicationsHandler.t ..... ok
t/018_MapUtils.t ...................... ok
t/019_OAuth2ServiceAccountsHandler.t .. ok
t/020_GenerateOfflineCredentials.t .... ok
t/021_ReportingConfiguration.t ........ ok
t/022_ReportUtils.t ................... ok
t/023_AdsUtilityRegistry.t ............ ok
t/024_BatchJobHandler.t ............... ok
t/025_ReportQueryBuilder.t ............ ok
t/026_ServiceQueryBuilder.t ........... ok
All tests successful.
Files=16, Tests=1859, 14 wallclock secs ( 0.22 usr 0.05 sys + 8.41 cusr 0.89 csys = 9.57 CPU)
Result: PASS
------------------------------
PREREQUISITES
------------------------------
Prerequisite modules loaded:
requires:
Module Need Have
------------------------- -------- ----------
Class::Load 0 0.25
Class::Std::Fast 0.000005 0.0.8
Config::Properties 0 1.80
Crypt::OpenSSL::RSA 0 0.33
Cwd 0 3.88
Data::Uniqid 0 0.12
Date::Format 0 2.24
Date::Parse 0 2.33
Digest::SHA 0 6.03
File::Basename 0 2.86
File::HomeDir 0 1.006
File::Path 0 2.18
File::Spec 0 3.88
File::Temp 0 0.2311
Getopt::Long 0 2.54
HTTP::Server::Simple::CGI 0 0
IO::Socket::SSL 0 2.081
JSON::Parse 0 0.62
List::Util 0 1.63
Log::Log4perl 0 1.57
LWP::Protocol::https 0 6.10
LWP::UserAgent 0 6.67
Math::Random::MT 0 1.17
Module::Build 0 0.4232
POSIX 0 2.11
SOAP::WSDL 2.000010 3.004
Template 0 3.101
Test::Deep 0 1.204
Test::Exception 0 0.43
Test::MockObject 0 1.20200122
Test::MockObject::Extends 0 1.20200122
Test::More 0 1.302191
URI::Escape 0 5.17
XML::LibXML 0 2.0208
XML::Simple 0 2.25
XML::XPath 0 1.48
build_requires:
Module Need Have
------------------------- -------- ----------
ExtUtils::MakeMaker 0 7.66
configure_requires:
Module Need Have
------------------------- -------- ----------
Module::Build 0.42 0.4232
------------------------------
ENVIRONMENT AND OTHER CONTEXT
------------------------------
Environment variables:
AUTOMATED_TESTING = 1
LANG = en_US.UTF-8
PATH = /home/sand/bin:/usr/local/bin:/usr/local/sbin:/usr/sbin:/usr/bin:/sbin:/bin:/usr/games:/usr/local/games:/snap/bin:/usr/local/perl/bin:/usr/X11/bin
PERL = /tmp/basesmoker-reloperl-0Q1v/bin/perl
PERL5LIB =
PERL5OPT =
PERL5_CPANPLUS_IS_RUNNING = 2331
PERL5_CPAN_IS_RUNNING = 2331
PERL_CANARY_STABILITY_NOPROMPT = 1
PERL_MM_USE_DEFAULT = 1
PERL_USE_UNSAFE_INC = 1
SHELL = /usr/bin/zsh
TERM = screen
Perl special variables (and OS-specific diagnostics, for MSWin32):
$^X = /tmp/basesmoker-reloperl-0Q1v/bin/perl
$UID/$EUID = 1005 / 1005
$GID = 1005 1005
$EGID = 1005 1005
Perl module toolchain versions installed:
Module Have
------------------- --------
CPAN 2.34
CPAN::Meta 2.150010
Cwd 3.88
ExtUtils::CBuilder 0.280238
ExtUtils::Command 7.66
ExtUtils::Install 2.22
ExtUtils::MakeMaker 7.66
ExtUtils::Manifest 1.73
ExtUtils::ParseXS 3.49
File::Spec 3.88
JSON 4.10
JSON::PP 4.16
Module::Build 0.4232
Module::Signature 0.88
Parse::CPAN::Meta 2.150010
Test::Harness 3.44
Test::More 1.302191
YAML 1.30
YAML::Syck 1.34
version 0.9929
--
Summary of my perl5 (revision 5 version 37 subversion 8) configuration:
Commit id: aaff26e0f2e98dc425f7514531d35dfec6948f6d
Platform:
osname=linux
osvers=5.4.0-137-generic
archname=x86_64-linux-ld
uname='linux k93focal 5.4.0-137-generic #154-ubuntu smp thu jan 5 17:03:22 utc 2023 x86_64 x86_64 x86_64 gnulinux '
config_args='-Dprefix=/home/sand/src/perl/repoperls/installed-perls/host/k93focal/v5.37.8/d3e4 -Dmyhostname=k93focal -Dinstallusrbinperl=n -Uversiononly -Dusedevel -des -Ui_db -Dlibswanted=cl pthread socket inet nsl gdbm dbm malloc dl ld sun m crypt sec util c cposix posix ucb BSD gdbm_compat -Uuseithreads -Duselongdouble -DEBUGGING=both'
hint=recommended
useposix=true
d_sigaction=define
useithreads=undef
usemultiplicity=undef
use64bitint=define
use64bitall=define
uselongdouble=define
usemymalloc=n
default_inc_excludes_dot=define
Compiler:
cc='cc'
ccflags ='-fwrapv -DDEBUGGING -fno-strict-aliasing -pipe -fstack-protector-strong -I/usr/local/include -D_LARGEFILE_SOURCE -D_FILE_OFFSET_BITS=64'
optimize='-O2 -g'
cppflags='-fwrapv -DDEBUGGING -fno-strict-aliasing -pipe -fstack-protector-strong -I/usr/local/include'
ccversion=''
gccversion='9.4.0'
gccosandvers=''
intsize=4
longsize=8
ptrsize=8
doublesize=8
byteorder=12345678
doublekind=3
d_longlong=define
longlongsize=8
d_longdbl=define
longdblsize=16
longdblkind=3
ivtype='long'
ivsize=8
nvtype='long double'
nvsize=16
Off_t='off_t'
lseeksize=8
alignbytes=16
prototype=define
Linker and Libraries:
ld='cc'
ldflags =' -fstack-protector-strong -L/usr/local/lib'
libpth=/usr/local/lib /usr/lib/x86_64-linux-gnu /usr/lib /usr/lib64
libs=-lpthread -lnsl -ldl -lm -lcrypt -lutil -lc
perllibs=-lpthread -lnsl -ldl -lm -lcrypt -lutil -lc
libc=libc-2.31.so
so=so
useshrplib=false
libperl=libperl.a
gnulibc_version='2.31'
Dynamic Linking:
dlsrc=dl_dlopen.xs
dlext=so
d_dlsymun=undef
ccdlflags='-Wl,-E'
cccdlflags='-fPIC'
lddlflags='-shared -O2 -g -L/usr/local/lib -fstack-protector-strong'
Characteristics of this binary (from libperl):
Compile-time options:
DEBUGGING
HAS_TIMES
PERLIO_LAYERS
PERL_COPY_ON_WRITE
PERL_DONT_CREATE_GVSV
PERL_HASH_FUNC_SIPHASH13
PERL_HASH_USE_SBOX32
PERL_MALLOC_WRAP
PERL_OP_PARENT
PERL_PRESERVE_IVUV
PERL_USE_DEVEL
PERL_USE_SAFE_PUTENV
USE_64_BIT_ALL
USE_64_BIT_INT
USE_LARGE_FILES
USE_LOCALE
USE_LOCALE_COLLATE
USE_LOCALE_CTYPE
USE_LOCALE_NUMERIC
USE_LOCALE_TIME
USE_LONG_DOUBLE
USE_PERLIO
USE_PERL_ATOF
Built under linux
Compiled at Jan 31 2023 17:18:49
%ENV:
PERL="/tmp/basesmoker-reloperl-0Q1v/bin/perl"
PERL5LIB=""
PERL5OPT=""
PERL5_CPANPLUS_IS_RUNNING="2331"
PERL5_CPAN_IS_RUNNING="2331"
PERL_CANARY_STABILITY_NOPROMPT="1"
PERL_MM_USE_DEFAULT="1"
PERL_USE_UNSAFE_INC="1"
@INC:
/home/sand/src/perl/repoperls/installed-perls/host/k93focal/v5.37.8/d3e4/lib/site_perl/5.37.8/x86_64-linux-ld
/home/sand/src/perl/repoperls/installed-perls/host/k93focal/v5.37.8/d3e4/lib/site_perl/5.37.8
/home/sand/src/perl/repoperls/installed-perls/host/k93focal/v5.37.8/d3e4/lib/5.37.8/x86_64-linux-ld
/home/sand/src/perl/repoperls/installed-perls/host/k93focal/v5.37.8/d3e4/lib/5.37.8
.