App-perlbrew v0.95 Perl 5 v5.16.3 amd64-freebsd-thread-multi
- Status
- Pass
- From
- Slaven Rezić
- Dist
-
App-perlbrew v0.95
- Platform
- Perl 5 v5.16.3 amd64-freebsd-thread-multi
- Date
- 2022-05-15 15:29:48
- ID
- db2b71e8-d463-11ec-8d9b-a8681f24ea8f
This distribution has been tested as part of the CPAN Testers
project, supporting the Perl programming language. See
http://wiki.cpantesters.org/ for more information or email
questions to cpan-testers-discuss@perl.org
--
Dear Liu Kang Min,
This is a computer-generated report for App-perlbrew-0.95
on perl 5.16.3, created by CPAN-Reporter-1.2018.
Thank you for uploading your work to CPAN. Congratulations!
All tests were successful.
Sections of this report:
* Tester comments
* Program output
* Prerequisites
* Environment and other context
------------------------------
TESTER COMMENTS
------------------------------
Additional comments from tester:
none provided
------------------------------
PROGRAM OUTPUT
------------------------------
Output from './Build test':
t/00.load.t ............................ ok
t/01.options.t ......................... ok
t/02.format_perl_version.t ............. ok
t/03.test_get_available_versions.t ..... ok
t/04.find_available_perls.t ............ ok
t/05.get_current_perl.t ................ ok
t/06.installed_perls.t ................. skipped: No perl installation under PERLBREW_ROOT
t/07.argv.t ............................ ok
t/08.error_available.t ................. ok
t/08.error_install.t ................... ok
t/08.error_install_blead.t ............. ok
t/08.error_install_cpanm.t ............. ok
t/09.exit_status.t ..................... ok
t/10.resolve.t ......................... ok
t/11.editdist.t ........................ ok
t/11.root_from_arg.t ................... ok
t/12.destdir.t ......................... ok
t/12.sitecustomize.t ................... ok
t/13.perl_release.t .................... ok
t/14.perl_version_parsing.t ............ ok
# /var/tmp/cpansmoker-1023/2022051517/3Pzq2r6Wbz/build/test/test
t/15.no-reuse-build-dir.t .............. ok
t/16.release-detail.t .................. ok
t/17.release-detail-cperl-local.t ...... ok
t/17.release-detail-cperl-remote.t ..... skipped: These tests send HTTP requests. Set env TEST_LIVE=1 to really run them.
t/18.release-detail-perl-local.t ....... ok
t/18.release-detail-perl-remote.t ...... skipped: These tests send HTTP requests. Set env TEST_LIVE=1 to really run them.
t/app-perlbrew-path-installation.t ..... ok
t/app-perlbrew-path.t .................. ok
t/bashrc_content.t ..................... ok
t/builddir.t ........................... ok
t/command-alias.t ...................... ok
t/command-available.t .................. ok
t/command-clone-modules.t .............. ok
t/command-compgen.t .................... ok
t/command-display-rc.t ................. ok
Attempting to create directory /var/tmp/cpansmoker-1023/2022051517/CmOs8DVNSe/libs/perl-5.14.1@nobita
t/command-env.t ........................ ok
sort (...) interpreted as function at t/command-exec.t line 283.
sort (...) interpreted as function at t/command-exec.t line 305.
Command [perl -E 'somesub 42'] terminated with exit code 7 ($? = 1792) under the following perl environment:
format_info_output_value
Command [perl -E 'say 42'] terminated with exit code 3 ($? = 768) under the following perl environment:
Command [perl -E 'say 42'] terminated with exit code 3 ($? = 768) under the following perl environment:
Command [perl -E 'say 42'] terminated with exit code 3 ($? = 768) under the following perl environment:
Command [perl -E 'say 42'] terminated with exit code 255 ($? = -1) under the following perl environment:
Command [perl -E 'say 42'] terminated with exit code 7 ($? = 1792) under the following perl environment:
t/command-exec.t ....................... ok
t/command-help.t ....................... ok
t/command-info.t ....................... ok
t/command-install-cpanm.t .............. ok
t/command-install-from-archive.t ....... ok
t/command-install-patchperl.t .......... ok
t/command-install.t .................... ok
t/command-lib.t ........................ ok
t/command-list.t ....................... ok
t/current_perl.t ....................... ok
t/current_shell.t ...................... ok
t/do_system.t .......................... ok
t/failure-command-install-cpanm.t ...... ok
t/failure-command-install-patchperl.t .. ok
t/home.t ............................... ok
t/http-program-control.t ............... ok
# PATH=/usr/home/cpansand/.cpan/build/2022051517/App-perlbrew-0.95-2/t/fake-bin:/usr/local/bin:/usr/bin:/bin:/usr/local/sbin:/usr/sbin:/sbin:/home/cpansand/bin/freebsd9.3:/home/cpansand/bin/sh:/home/cpansand/bin:/usr/games:/home/cpansand/devel:/usr/home/eserte/src/srezic-misc/scripts
# curl = /usr/home/cpansand/.cpan/build/2022051517/App-perlbrew-0.95-2/t/fake-bin/curl
t/http-ua-detect-non-curl.t ............ ok
t/http-ua-detect.t ..................... ok
t/http.t ............................... skipped: (no reason given)
t/installation-perlbrew.t .............. ok
t/installation.t ....................... ok
t/installation2.t ...................... ok
t/installation3.t ...................... ok
t/list_modules.t ....................... ok
t/unit-files-are-the-same.t ............ ok
All tests successful.
Files=61, Tests=418, 8 wallclock secs ( 0.08 usr 0.22 sys + 6.28 cusr 1.10 csys = 7.68 CPU)
Result: PASS
------------------------------
PREREQUISITES
------------------------------
Prerequisite modules loaded:
requires:
Module Need Have
-------------------- ---------- ----------
Capture::Tiny 0.48 0.48
CPAN::Perl::Releases 5.20220313 5.20220420
Devel::PatchPerl 2.08 2.08
ExtUtils::MakeMaker 7.22 7.64
File::Copy 0 2.23
File::Temp 0.2304 0.2311
JSON::PP 0 4.08
local::lib 2.000014 2.000024
Pod::Parser 1.63 1.63
Pod::Usage 1.68 2.01
build_requires:
Module Need Have
-------------------- ---------- ----------
File::Which 1.21 1.23
IO::All 0.51 0.87
Path::Class 0.33 0.37
Test::Exception 0.32 0.43
Test::More 1.001002 1.302190
Test::NoWarnings 1.04 1.04
Test::Output 1.03 1.033
Test::Simple 1.001002 1.302190
Test::Spec 0.49 0.54
Test::TempDir::Tiny 0.016 0.018
configure_requires:
Module Need Have
-------------------- ---------- ----------
Module::Build::Tiny 0.034 0.039
------------------------------
ENVIRONMENT AND OTHER CONTEXT
------------------------------
Environment variables:
LC_ALL = de_DE.ISO8859-1
PATH = /usr/local/bin:/usr/bin:/bin:/usr/local/sbin:/usr/sbin:/sbin:/home/cpansand/bin/freebsd9.3:/home/cpansand/bin/sh:/home/cpansand/bin:/usr/games:/home/cpansand/devel:/usr/home/eserte/src/srezic-misc/scripts
PERL5LIB =
PERL5OPT =
PERL5_CPANPLUS_IS_RUNNING = 57480
PERL5_CPAN_IS_RUNNING = 57480
PERL5_CPAN_IS_RUNNING_IN_RECURSION = 57073,57480
PERLDOC = -MPod::Perldoc::ToTextOverstrike
PERL_BATCH = yes
PERL_CANARY_STABILITY_NOPROMPT = 1
PERL_CPAN_REPORTER_CONFIG = /var/tmp/cpansmoker-1023/2022051517/cpanreporter_000_config.ini
PERL_EXTUTILS_AUTOINSTALL = --defaultdeps
PERL_USE_UNSAFE_INC = 1
SHELL = /usr/local/bin/zsh
TERM = screen
TMPDIR = /var/tmp/cpansmoker-1023/2022051517
Perl special variables (and OS-specific diagnostics, for MSWin32):
$^X = /usr/perl5.16.3t/bin/perl
$UID/$EUID = 1023 / 1023
$GID = 1023 1023
$EGID = 1023 1023
Perl module toolchain versions installed:
Module Have
------------------- --------
CPAN 2.34
CPAN::Meta 2.150010
Cwd 3.75
ExtUtils::CBuilder 0.280231
ExtUtils::Command 7.64
ExtUtils::Install 2.20
ExtUtils::MakeMaker 7.64
ExtUtils::Manifest 1.73
ExtUtils::ParseXS 3.35
File::Spec 3.75
JSON 4.05
JSON::PP 4.08
Module::Build 0.4231
Module::Signature 0.88
Parse::CPAN::Meta 2.150010
Test::Harness 3.44
Test::More 1.302190
YAML 1.30
YAML::Syck 1.33
version 0.9929
--
Summary of my perl5 (revision 5 version 16 subversion 3) configuration:
Platform:
osname=freebsd, osvers=9.2-release-p4, archname=amd64-freebsd-thread-multi
uname='freebsd cvrsnica-freebsd-92 9.2-release-p4 freebsd 9.2-release-p4 #0: tue apr 8 18:08:22 utc 2014 root@amd64-builder.daemonology.net:usrobjusrsrcsysgeneric amd64 '
config_args='-ds -e -Dprefix=/usr/perl5.16.3t -Dusethreads'
hint=recommended, useposix=true, d_sigaction=define
useithreads=define, usemultiplicity=define
useperlio=define, d_sfio=undef, uselargefiles=define, usesocks=undef
use64bitint=define, use64bitall=define, uselongdouble=undef
usemymalloc=n, bincompat5005=undef
Compiler:
cc='cc', ccflags ='-DHAS_FPSETMASK -DHAS_FLOATINGPOINT_H -fno-strict-aliasing -pipe -fstack-protector -I/usr/local/include',
optimize='-O',
cppflags='-DHAS_FPSETMASK -DHAS_FLOATINGPOINT_H -fno-strict-aliasing -pipe -fstack-protector -I/usr/local/include'
ccversion='', gccversion='4.2.1 20070831 patched [FreeBSD]', gccosandvers=''
intsize=4, longsize=8, ptrsize=8, doublesize=8, byteorder=12345678
d_longlong=define, longlongsize=8, d_longdbl=define, longdblsize=16
ivtype='long', ivsize=8, nvtype='double', nvsize=8, Off_t='off_t', lseeksize=8
alignbytes=8, prototype=define
Linker and Libraries:
ld='cc', ldflags ='-pthread -Wl,-E -fstack-protector -L/usr/local/lib'
libpth=/usr/lib /usr/local/lib
libs=-lgdbm -lm -lcrypt
perllibs=-lm -lcrypt
libc=, so=so, useshrplib=false, libperl=libperl.a
gnulibc_version=''
Dynamic Linking:
dlsrc=dl_dlopen.xs, dlext=so, d_dlsymun=undef, ccdlflags=' '
cccdlflags='-DPIC -fPIC', lddlflags='-shared -L/usr/local/lib -fstack-protector'
Characteristics of this binary (from libperl):
Compile-time options: HAS_TIMES MULTIPLICITY PERLIO_LAYERS
PERL_DONT_CREATE_GVSV PERL_IMPLICIT_CONTEXT
PERL_MALLOC_WRAP PERL_PRESERVE_IVUV USE_64_BIT_ALL
USE_64_BIT_INT USE_ITHREADS USE_LARGE_FILES
USE_LOCALE USE_LOCALE_COLLATE USE_LOCALE_CTYPE
USE_LOCALE_NUMERIC USE_PERLIO USE_PERL_ATOF
USE_REENTRANT_API
Built under freebsd
Compiled at May 16 2014 07:49:48
%ENV:
PERL5LIB=""
PERL5OPT=""
PERL5_CPANPLUS_IS_RUNNING="57480"
PERL5_CPAN_IS_RUNNING="57480"
PERL5_CPAN_IS_RUNNING_IN_RECURSION="57073,57480"
PERLDOC="-MPod::Perldoc::ToTextOverstrike"
PERL_BATCH="yes"
PERL_CANARY_STABILITY_NOPROMPT="1"
PERL_CPAN_REPORTER_CONFIG="/var/tmp/cpansmoker-1023/2022051517/cpanreporter_000_config.ini"
PERL_EXTUTILS_AUTOINSTALL="--defaultdeps"
PERL_USE_UNSAFE_INC="1"
@INC:
/usr/perl5.16.3t/lib/site_perl/5.16.3/amd64-freebsd-thread-multi
/usr/perl5.16.3t/lib/site_perl/5.16.3
/usr/perl5.16.3t/lib/5.16.3/amd64-freebsd-thread-multi
/usr/perl5.16.3t/lib/5.16.3
.