Back
From: metabase:user:0d96120c-29e2-11e5-b049-ede3035d37de
Subject: PASS Algorithm-AM-3.08 v5.23.1 SunOS/Solaris
Date: 2015-07-26T22:01:24Z
This distribution has been tested as part of the CPAN Testers
project, supporting the Perl programming language. See
http://wiki.cpantesters.org/ for more information or email
questions to cpan-testers-discuss@perl.org
--
Dear Nathan Gary Glenn,
This is a computer-generated report for Algorithm-AM-3.08
on perl 5.23.1, created by CPAN-Reporter-1.2014.
Thank you for uploading your work to CPAN. Congratulations!
All tests were successful.
Sections of this report:
* Tester comments
* Program output
* Prerequisites
* Environment and other context
------------------------------
TESTER COMMENTS
------------------------------
Additional comments from tester:
this report is from an automated smoke testing program
and was not reviewed by a human for accuracy
------------------------------
PROGRAM OUTPUT
------------------------------
Output from '/usr/bin/make test':
Running Mkbootstrap for Algorithm::AM ()
chmod 644 "AM.bs"
PERL_DL_NONLAZY=1 "/export/home/jmaslak/perl5/perlbrew/perls/perl-5.23.1-ld/bin/perl5.23.1" "-MExtUtils::Command::MM" "-MTest::Harness" "-e" "undef *Test::Harness::Switches; test_harness(0, 'blib/lib', 'blib/arch')" t/*.t
t/0-use_AM.t ........... ok
t/0-use_Batch.t ........ ok
#
# Versions for all modules listed in MYMETA.json (including optional ones):
#
# === Configure Requires ===
#
# Module Want Have
# ------------------- ---- -------
# ExtUtils::MakeMaker 6.17 7.04_01
#
# === Build Requires ===
#
# Module Want Have
# ------------------- ---- -------
# ExtUtils::MakeMaker any 7.04_01
#
# === Test Requires ===
#
# Module Want Have
# ------------------- ---- --------
# ExtUtils::MakeMaker any 7.04_01
# File::Spec any 3.56
# FindBin any 1.51
# Test::Deep any 0.117
# Test::Exception any 0.40
# Test::LongString any 0.17
# Test::More 0.88 1.001014
# Test::NoWarnings any 1.04
#
# === Test Recommends ===
#
# Module Want Have
# ---------- -------- --------
# CPAN::Meta 2.120900 2.150005
#
# === Runtime Requires ===
#
# Module Want Have
# -------------- ---- --------
# Carp any 1.36
# Class::Tiny any 1.001
# Crypt::PRNG any undef
# Exporter::Easy any 0.17
# Getopt::Long 2.13 2.47
# Import::Into any 1.002004
# Log::Any any 1.032
# Path::Tiny any 0.072
# Pod::Usage any 1.67
# Text::Table any 1.130
# XSLoader any 0.20
# feature any 1.42
# integer any 1.01
# strict any 1.09
# warnings any 1.33
#
t/00-report-prereqs.t .. ok
t/01-Item.t ............ ok
t/02-DataSet.t ......... ok
t/03-AM.t .............. ok
t/04-Result.t .......... ok
t/05-Bigint.t .......... ok
t/06-Batch.t ........... ok
t/07-Batch_hooks.t ..... ok
t/08-finnverb.t ........ ok
t/09-soybean.t ......... ok
All tests successful.
Files=12, Tests=144, 2 wallclock secs ( 0.11 usr 0.08 sys + 1.39 cusr 0.63 csys = 2.21 CPU)
Result: PASS
------------------------------
PREREQUISITES
------------------------------
Prerequisite modules loaded:
requires:
Module Need Have
------------------- -------- --------
Carp 0 1.36
Class::Tiny 0 1.001
Crypt::PRNG 0 0
Exporter::Easy 0 0.17
feature 0 1.42
Getopt::Long 2.13 2.47
Import::Into 0 1.002004
integer 0 1.01
Log::Any 0 1.032
Path::Tiny 0 0.072
perl 5.010000 5.023001
Pod::Usage 0 1.67
strict 0 1.09
Text::Table 0 1.130
warnings 0 1.33
XSLoader 0 0.20
build_requires:
Module Need Have
------------------- -------- --------
ExtUtils::MakeMaker 0 7.04_01
File::Spec 0 3.56
FindBin 0 1.51
Test::Deep 0 0.117
Test::Exception 0 0.40
Test::LongString 0 0.17
Test::More 0.88 1.001014
Test::NoWarnings 0 1.04
configure_requires:
Module Need Have
------------------- -------- --------
ExtUtils::MakeMaker 6.17 7.04_01
perl 5.010 5.023001
opt_build_requires:
Module Need Have
------------------- -------- --------
CPAN::Meta 2.120900 2.150005
------------------------------
ENVIRONMENT AND OTHER CONTEXT
------------------------------
Environment variables:
AUTOMATED_TESTING = 1
LANG = en_US.UTF-8
LC_ALL =
LC_COLLATE =
LC_CTYPE =
LC_MESSAGES =
LC_MONETARY =
LC_NUMERIC =
LC_TIME =
NONINTERACTIVE_TESTING = 1
PATH = /export/home/jmaslak/perl5/perlbrew/bin:/export/home/jmaslak/perl5/perlbrew/perls/perl-5.23.1-ld/bin:/export/home/jmaslak/perltest/bin:/export/home/jmaslak/perltest/bin:/export/home/jmaslak/perltest/bin:/export/home/jmaslak/perltest/bin:/export/home/jmaslak/perl5/perlbrew/bin:/export/home/jmaslak/perl5/perlbrew/perls/perl-5.23.1/bin:/usr/bin:/usr/sbin:/usr/ccs/bin:/opt/solarisstudio12.4/bin
PERL5LIB = /export/home/jmaslak/.cpan/build/CryptX-0.025-BEGB7C/blib/arch:/export/home/jmaslak/.cpan/build/CryptX-0.025-BEGB7C/blib/lib:/export/home/jmaslak/.cpan/build/Exporter-Easy-0.17-Nh9qFr/blib/arch:/export/home/jmaslak/.cpan/build/Exporter-Easy-0.17-Nh9qFr/blib/lib
PERL5OPT =
PERL5_CPANPLUS_IS_RUNNING = 17057
PERL5_CPAN_IS_RUNNING = 17057
PERL5_CPAN_IS_RUNNING_IN_RECURSION = 14096,17057
PERLBREW_BASHRC_VERSION = 0.73
PERLBREW_HOME = /export/home/jmaslak/.perlbrew
PERLBREW_LIB =
PERLBREW_MANPATH = /export/home/jmaslak/perl5/perlbrew/perls/perl-5.23.1-ld/man
PERLBREW_PATH = /export/home/jmaslak/perl5/perlbrew/bin:/export/home/jmaslak/perl5/perlbrew/perls/perl-5.23.1-ld/bin
PERLBREW_PERL = perl-5.23.1-ld
PERLBREW_ROOT = /export/home/jmaslak/perl5/perlbrew
PERLBREW_VERSION = 0.73
PERL_CR_SMOKER_CURRENT = Algorithm-AM-3.08
PERL_EXTUTILS_AUTOINSTALL = --defaultdeps
PERL_LOCAL_LIB_ROOT =
PERL_MM_USE_DEFAULT = 1
SHELL = /usr/bin/bash
TERM = screen
Perl special variables (and OS-specific diagnostics, for MSWin32):
$^X = /export/home/jmaslak/perl5/perlbrew/perls/perl-5.23.1-ld/bin/perl5.23.1
$UID/$EUID = 100 / 100
$GID = 10 10
$EGID = 10 10
Perl module toolchain versions installed:
Module Have
------------------- --------
CPAN 2.11
CPAN::Meta 2.150005
Cwd 3.56
ExtUtils::CBuilder 0.280223
ExtUtils::Command 1.20
ExtUtils::Install 2.04
ExtUtils::MakeMaker 7.04_01
ExtUtils::Manifest 1.70
ExtUtils::ParseXS 3.28
File::Spec 3.56
JSON 2.90
JSON::PP 2.27300
Module::Build 0.4214
Module::Signature n/a
Parse::CPAN::Meta 1.4417
Test::Harness 3.35
Test::More 1.001014
YAML 1.15
YAML::Syck n/a
version 0.9909
--
Summary of my perl5 (revision 5 version 23 subversion 1) configuration:
Platform:
osname=solaris, osvers=2.11, archname=i86pc-solaris-ld
uname='sunos solaris.antelope.net 5.11 11.2 i86pc i386 i86pc '
config_args='-de -Dprefix=/export/home/jmaslak/perl5/perlbrew/perls/perl-5.23.1-ld -Duselongdouble -Dusedevel -Aeval:scriptdir=/export/home/jmaslak/perl5/perlbrew/perls/perl-5.23.1-ld/bin'
hint=recommended, useposix=true, d_sigaction=define
useithreads=undef, usemultiplicity=undef
use64bitint=undef, use64bitall=undef, uselongdouble=define
usemymalloc=n, bincompat5005=undef
Compiler:
cc='/opt/solarisstudio12.4/bin/cc', ccflags ='-I/usr/gnu/include -D_LARGEFILE_SOURCE -D_FILE_OFFSET_BITS=64 -DPERL_USE_SAFE_PUTENV',
optimize='-O',
cppflags='-I/usr/gnu/include'
ccversion='Sun C 5.13 SunOS_i386 2014/10/20', gccversion='', gccosandvers=''
intsize=4, longsize=4, ptrsize=4, doublesize=8, byteorder=1234, doublekind=3
d_longlong=define, longlongsize=8, d_longdbl=define, longdblsize=12, longdblkind=3
ivtype='long', ivsize=4, nvtype='long double', nvsize=12, Off_t='off_t', lseeksize=8
alignbytes=4, prototype=define
Linker and Libraries:
ld='/opt/solarisstudio12.4/bin/cc', ldflags =' -L/usr/lib -L/usr/ccs/lib -L/opt/solarisstudio12.4/lib/compilers/staticlib -L/opt/solarisstudio12.4/lib/compilers/sse2 -L/opt/solarisstudio12.4/lib/compilers -L/lib -L/usr/gnu/lib '
libpth=/usr/lib /usr/ccs/lib /opt/solarisstudio12.4/lib/compilers/staticlib /opt/solarisstudio12.4/lib/compilers/sse2 /opt/solarisstudio12.4/lib/compilers /lib /usr/gnu/lib
libs=-lpthread -lsocket -lnsl -lgdbm -ldb -ldl -lm -lc -lsunmath
perllibs=-lpthread -lsocket -lnsl -ldl -lm -lc -lsunmath
libc=/lib/libc.so, so=so, useshrplib=false, libperl=libperl.a
gnulibc_version=''
Dynamic Linking:
dlsrc=dl_dlopen.xs, dlext=so, d_dlsymun=undef, ccdlflags=' '
cccdlflags='-KPIC', lddlflags='-G -L/usr/lib -L/usr/ccs/lib -L/opt/solarisstudio12.4/lib/compilers/staticlib -L/opt/solarisstudio12.4/lib/compilers/sse2 -L/opt/solarisstudio12.4/lib/compilers -L/lib -L/usr/gnu/lib'
Characteristics of this binary (from libperl):
Compile-time options: HAS_TIMES PERLIO_LAYERS PERL_COPY_ON_WRITE
PERL_DONT_CREATE_GVSV
PERL_HASH_FUNC_ONE_AT_A_TIME_HARD PERL_MALLOC_WRAP
PERL_PRESERVE_IVUV PERL_USE_DEVEL
PERL_USE_SAFE_PUTENV USE_LARGE_FILES USE_LOCALE
USE_LOCALE_COLLATE USE_LOCALE_CTYPE
USE_LOCALE_NUMERIC USE_LOCALE_TIME USE_LONG_DOUBLE
USE_PERLIO USE_PERL_ATOF
Locally applied patches:
Devel::PatchPerl 1.38
Built under solaris
Compiled at Jul 25 2015 00:29:56
%ENV:
PERL5LIB="/export/home/jmaslak/.cpan/build/CryptX-0.025-BEGB7C/blib/arch:/export/home/jmaslak/.cpan/build/CryptX-0.025-BEGB7C/blib/lib:/export/home/jmaslak/.cpan/build/Exporter-Easy-0.17-Nh9qFr/blib/arch:/export/home/jmaslak/.cpan/build/Exporter-Easy-0.17-Nh9qFr/blib/lib"
PERL5OPT=""
PERL5_CPANPLUS_IS_RUNNING="17057"
PERL5_CPAN_IS_RUNNING="17057"
PERL5_CPAN_IS_RUNNING_IN_RECURSION="14096,17057"
PERLBREW_BASHRC_VERSION="0.73"
PERLBREW_HOME="/export/home/jmaslak/.perlbrew"
PERLBREW_LIB=""
PERLBREW_MANPATH="/export/home/jmaslak/perl5/perlbrew/perls/perl-5.23.1-ld/man"
PERLBREW_PATH="/export/home/jmaslak/perl5/perlbrew/bin:/export/home/jmaslak/perl5/perlbrew/perls/perl-5.23.1-ld/bin"
PERLBREW_PERL="perl-5.23.1-ld"
PERLBREW_ROOT="/export/home/jmaslak/perl5/perlbrew"
PERLBREW_VERSION="0.73"
PERL_CR_SMOKER_CURRENT="Algorithm-AM-3.08"
PERL_EXTUTILS_AUTOINSTALL="--defaultdeps"
PERL_LOCAL_LIB_ROOT=""
PERL_MM_USE_DEFAULT="1"
@INC:
/export/home/jmaslak/.cpan/build/CryptX-0.025-BEGB7C/blib/arch
/export/home/jmaslak/.cpan/build/CryptX-0.025-BEGB7C/blib/lib
/export/home/jmaslak/.cpan/build/Exporter-Easy-0.17-Nh9qFr/blib/arch
/export/home/jmaslak/.cpan/build/Exporter-Easy-0.17-Nh9qFr/blib/lib
/export/home/jmaslak/perl5/perlbrew/perls/perl-5.23.1-ld/lib/site_perl/5.23.1/i86pc-solaris-ld
/export/home/jmaslak/perl5/perlbrew/perls/perl-5.23.1-ld/lib/site_perl/5.23.1
/export/home/jmaslak/perl5/perlbrew/perls/perl-5.23.1-ld/lib/5.23.1/i86pc-solaris-ld
/export/home/jmaslak/perl5/perlbrew/perls/perl-5.23.1-ld/lib/5.23.1
.