Geo-Coder-CA v0.12 Perl 5 v5.32.1 i386-openbsd
- Status
- Pass
- From
- Alceu Rodrigues de Freitas Junior
- Dist
-
Geo-Coder-CA v0.12
- Platform
- Perl 5 v5.32.1 i386-openbsd
- Date
- 2022-02-17 16:08:33
- ID
- dad29a9c-900b-11ec-bfc9-d1f1448276d4
This distribution has been tested as part of the CPAN Testers
project, supporting the Perl programming language. See
http://wiki.cpantesters.org/ for more information or email
questions to cpan-testers-discuss@perl.org
--
Dear Nigel Horne,
This is a computer-generated report for Geo-Coder-CA-0.12
on perl 5.32.1, created by CPAN-Reporter-1.2018.
Thank you for uploading your work to CPAN. Congratulations!
All tests were successful.
Sections of this report:
* Tester comments
* Program output
* Prerequisites
* Environment and other context
------------------------------
TESTER COMMENTS
------------------------------
Additional comments from tester:
this report is from an automated smoke testing program
and was not reviewed by a human for accuracy
------------------------------
PROGRAM OUTPUT
------------------------------
Output from '/usr/bin/make test':
PERL_DL_NONLAZY=1 "/usr/bin/perl" "-MExtUtils::Command::MM" "-MTest::Harness" "-e" "undef *Test::Harness::Switches; test_harness(0, 'blib/lib', 'blib/arch')" t/*.t
# Testing Geo::Coder::CA 0.12, Perl 5.032001, /usr/bin/perl
t/00-load.t ........... ok
t/10-new.t ............ ok
# Author tests not required for installation
t/bin.t ............... ok
t/boiler.t ............ ok
# Author tests not required for installation
t/ca.t ................ ok
t/carp.t .............. ok
t/changes.t ........... skipped: Author tests not required for installation
t/comment-spelling.t .. skipped: Author tests not required for installation
t/coverage.t .......... ok
t/critic.t ............ skipped: Author tests not required for installation
t/cv.t ................ skipped: Author tests not required for installation
t/dist.t .............. skipped: Author tests not required for installation
t/gv.t ................ skipped: Author tests not required for installation
t/kwalitee.t .......... skipped: Author tests not required for installation
t/links.t ............. skipped: Author tests not required for installation
t/manifest.t .......... skipped: Author tests not required for installation
t/metrics.t ........... skipped: Author tests not required for installation
t/namespaces.t ........ skipped: Author tests not required for installation
t/no404s.t ............ skipped: Author tests not required for installation
# Author tests not required for installation
t/noopentickets.t ..... ok
t/noplan.t ............ skipped: Author tests not required for installation
t/pod-cm.t ............ skipped: Test::Pod::Spelling::CommonMistakes required for testing POD spelling
t/pod-spelling.t ...... skipped: Author tests not required for installation
t/pod.t ............... skipped: Author tests not required for installation
t/port.t .............. skipped: Test::Portability::Files required for testing filenames portability
t/prereq.t ............ skipped: Author tests not required for installation
t/snippets.t .......... skipped: Author tests not required for installation
t/strict.t ............ skipped: Author tests not required for installation
t/unused.t ............ skipped: Author tests not required for installation
# On-line tests have been disabled
t/us.t ................ ok
t/used.t .............. skipped: Author tests not required for installation
t/vars.t .............. skipped: Author tests not required for installation
All tests successful.
Test Summary Report
-------------------
t/boiler.t (Wstat: 0 Tests: 3 Failed: 0)
TODO passed: 1-3
Files=32, Tests=44, 31 wallclock secs ( 0.60 usr 0.23 sys + 26.46 cusr 4.43 csys = 31.72 CPU)
Result: PASS
------------------------------
PREREQUISITES
------------------------------
Prerequisite modules loaded:
requires:
Module Need Have
-------------------- -------- --------
Encode 0 3.16
HTTP::Request 0 6.36
JSON 0 4.05
LWP::Protocol::https 0 6.10
LWP::UserAgent 0 6.61
perl 5.006002 5.032001
URI 0 5.10
build_requires:
Module Need Have
-------------------- -------- --------
autodie 0 2.32
ExtUtils::MakeMaker 0 7.64
IPC::System::Simple 0 1.30
Test::Carp 0 0.2
Test::Most 0 0.37
Test::NoWarnings 0 1.06
Test::Number::Delta 0 1.06
Test::Script 0 1.29
WWW::RT::CPAN 0 0.002
configure_requires:
Module Need Have
-------------------- -------- --------
ExtUtils::MakeMaker 0 7.64
------------------------------
ENVIRONMENT AND OTHER CONTEXT
------------------------------
Environment variables:
AUTOMATED_TESTING = 1
DBD_MYSQL_TESTDB = test
DBD_MYSQL_TESTHOST = localhost
DBD_MYSQL_TESTPASSWORD =
DBD_MYSQL_TESTPORT = 3306
DBD_MYSQL_TESTUSER = goku
EXTENDED_TESTING = 1
PATH = /home/goku/perl5/bin:/home/goku/perl5/bin:/usr/bin:/bin:/usr/sbin:/sbin:/usr/X11R6/bin:/usr/local/bin:/usr/local/sbin
PERL5LIB = /home/goku/perl5/lib/perl5:/home/goku/perl5/lib/perl5
PERL5OPT =
PERL5_CPANPLUS_IS_RUNNING = 47903
PERL5_CPAN_IS_RUNNING = 47903
PERL5_CPAN_IS_RUNNING_IN_RECURSION = 94885,47903
PERL_CR_SMOKER_CURRENT = Geo-Coder-CA-0.12
PERL_EXTUTILS_AUTOINSTALL = --defaultdeps
PERL_LOCAL_LIB_ROOT = /home/goku/perl5:/home/goku/PERL5
PERL_MB_OPT = --install_base "/home/goku/perl5"
PERL_MM_OPT = INSTALL_BASE=/home/goku/perl5
PERL_MM_USE_DEFAULT = 1
PERL_USE_UNSAFE_INC = 1
SHELL = /usr/local/bin/bash
TERM = vt220
Perl special variables (and OS-specific diagnostics, for MSWin32):
$^X = /usr/bin/perl
$UID/$EUID = 1000 / 1000
$GID = 1000 1000 0 1001
$EGID = 1000 1000 0 1001
Perl module toolchain versions installed:
Module Have
------------------- --------
CPAN 2.29
CPAN::Meta 2.150010
Cwd 3.78
ExtUtils::CBuilder 0.280236
ExtUtils::Command 7.64
ExtUtils::Install 2.14
ExtUtils::MakeMaker 7.64
ExtUtils::Manifest 1.72
ExtUtils::ParseXS 3.40
File::Spec 3.78
JSON 4.05
JSON::PP 4.04
Module::Build 0.4231
Module::Signature n/a
Parse::CPAN::Meta 2.150010
Test::Harness 3.42
Test::More 1.302188
YAML 1.30
YAML::Syck n/a
version 0.9924
--
Summary of my perl5 (revision 5 version 32 subversion 1) configuration:
Platform:
osname=openbsd
osvers=7.0
archname=i386-openbsd
uname='openbsd'
config_args='-dse -Dopenbsd_distribution=defined -Dmksymlinks'
hint=recommended
useposix=true
d_sigaction=define
useithreads=undef
usemultiplicity=undef
use64bitint=undef
use64bitall=undef
uselongdouble=undef
usemymalloc=n
default_inc_excludes_dot=define
bincompat5005=undef
Compiler:
cc='cc'
ccflags ='-DNO_LOCALE_NUMERIC -DNO_LOCALE_COLLATE -fno-strict-aliasing -fno-delete-null-pointer-checks -pipe -fstack-protector-strong -I/usr/local/include'
optimize='-O2'
cppflags='-DBIG_TIME -DNO_LOCALE_NUMERIC -DNO_LOCALE_COLLATE -fno-strict-aliasing -fno-delete-null-pointer-checks -pipe -fstack-protector-strong -I/usr/local/include'
ccversion=''
gccversion='OpenBSD Clang 11.1.0'
gccosandvers=''
intsize=4
longsize=4
ptrsize=4
doublesize=8
byteorder=1234
doublekind=3
d_longlong=define
longlongsize=8
d_longdbl=define
longdblsize=12
longdblkind=3
ivtype='long'
ivsize=4
nvtype='double'
nvsize=8
Off_t='off_t'
lseeksize=8
alignbytes=4
prototype=define
Linker and Libraries:
ld='cc'
ldflags ='-Wl,-E -fstack-protector-strong -L/usr/local/lib'
libpth=/usr/lib /usr/local/lib
libs=-lm -lc
perllibs=-lm -lc
libc=/usr/lib/libc.so.96.1
so=so
useshrplib=true
libperl=libperl.so.22.0
gnulibc_version=''
Dynamic Linking:
dlsrc=dl_dlopen.xs
dlext=so
d_dlsymun=undef
ccdlflags='-Wl,-R/usr/libdata/perl5/i386-openbsd/CORE'
cccdlflags='-DPIC -fpic '
lddlflags='-shared -fpic -fstack-protector-strong -L/usr/local/lib'
Characteristics of this binary (from libperl):
Compile-time options:
HAS_TIMES
PERLIO_LAYERS
PERL_COPY_ON_WRITE
PERL_DONT_CREATE_GVSV
PERL_MALLOC_WRAP
PERL_OP_PARENT
PERL_PRESERVE_IVUV
USE_LARGE_FILES
USE_LOCALE
USE_LOCALE_CTYPE
USE_LOCALE_TIME
USE_PERLIO
USE_PERL_ATOF
Built under openbsd
%ENV:
PERL5LIB="/home/goku/perl5/lib/perl5:/home/goku/perl5/lib/perl5"
PERL5OPT=""
PERL5_CPANPLUS_IS_RUNNING="47903"
PERL5_CPAN_IS_RUNNING="47903"
PERL5_CPAN_IS_RUNNING_IN_RECURSION="94885,47903"
PERL_CR_SMOKER_CURRENT="Geo-Coder-CA-0.12"
PERL_EXTUTILS_AUTOINSTALL="--defaultdeps"
PERL_LOCAL_LIB_ROOT="/home/goku/perl5:/home/goku/PERL5"
PERL_MB_OPT="--install_base "/home/goku/perl5""
PERL_MM_OPT="INSTALL_BASE=/home/goku/perl5"
PERL_MM_USE_DEFAULT="1"
PERL_USE_UNSAFE_INC="1"
@INC:
/home/goku/perl5/lib/perl5/5.32.1/i386-openbsd
/home/goku/perl5/lib/perl5/5.32.1
/home/goku/perl5/lib/perl5/i386-openbsd
/home/goku/perl5/lib/perl5
/home/goku/perl5/lib/perl5/5.32.1/i386-openbsd
/home/goku/perl5/lib/perl5/5.32.1
/home/goku/perl5/lib/perl5/i386-openbsd
/home/goku/perl5/lib/perl5
/usr/local/libdata/perl5/site_perl/i386-openbsd
/usr/local/libdata/perl5/site_perl
/usr/libdata/perl5/i386-openbsd
/usr/libdata/perl5
.