Devel-hdb v0.25 Perl 5 v5.28.2 x86_64-linux

Status
Pass
From
Slaven Rezić (SREZIC)
Dist
Devel-hdb v0.25
Platform
Perl 5 v5.28.2 x86_64-linux
Date
2019-07-21 23:11:22
ID
dac3b666-ac0c-11e9-a32d-558c1f24ea8f
This distribution has been tested as part of the CPAN Testers
project, supporting the Perl programming language.  See
http://wiki.cpantesters.org/ for more information or email
questions to cpan-testers-discuss@perl.org


--
Dear Anthony Brummett,

This is a computer-generated report for Devel-hdb-0.25
on perl 5.28.2, created by CPAN-Reporter-1.2018.

Thank you for uploading your work to CPAN.  Congratulations!
All tests were successful.

Sections of this report:

    * Tester comments
    * Program output
    * Prerequisites
    * Environment and other context

------------------------------
TESTER COMMENTS
------------------------------

Additional comments from tester:

none provided

------------------------------
PROGRAM OUTPUT
------------------------------

Output from '/usr/bin/make test':

PERL_DL_NONLAZY=1 "/opt/perl-5.28.2/bin/perl5.28.2" "-MExtUtils::Command::MM" "-MTest::Harness" "-e" "undef *Test::Harness::Switches; test_harness(0, 'blib/lib', 'blib/arch')" t/*.t
Debugged program pid 6074 terminated with exit code 0
t/00-use.t ........................ ok
t/01-load-debugger-html.t ......... ok
t/02-stepin-subs-eval.t ........... ok
t/02-stepin.t ..................... ok
t/03-step-over-exception.t ........ ok
t/03-step-over-goto-label.t ....... ok
t/03-step-over-goto-sub.t ......... ok
t/03-step-over.t .................. ok
t/04-breakpoint-in-code.t ......... ok
t/04-breakpoint.t ................. ok
t/04-conditional-breakpoint.t ..... ok
t/04-get-all-breakpoints.t ........ ok
t/04-inactive-brekpoint.t ......... ok
t/05-loaded-files.t ............... ok
t/05-source-file.t ................ ok
t/06-eval-blessed.t ............... ok
t/06-eval.t ....................... ok
t/07-continue.t ................... ok
t/07-step-out.t ................... ok
t/08-action.t ..................... ok
t/08-inactive-action.t ............ ok
t/09-AUTOLOAD.t ................... ok
t/10-function-args.t .............. ok
t/11-getvar.t ..................... ok
t/14-fork.t ....................... ok
t/15-continue-nostop.t ............ ok
t/16-load-breakpoints.t ........... ok
t/16-save-breakpoints.t ........... ok
t/16-startup-load-breakpoints.t ... ok
t/17-exit.t ....................... ok
t/17-package-info.t ............... ok
This is an uncaught exception at /var/tmp/cpansmoker-1023/2019072200/devel-hdb-test-ewkd line 11.
t/18-uncaught-exception.t ......... ok
t/19-trace-diff-changed-source.t .. ok
t/19-trace-diff.t ................. ok
t/20-stack.t ...................... ok
t/21-root-route.t ................. ok
t/22-watchpoint.t ................. ok
t/23-next-statement-fragment.t .... ok
t/50-router.t ..................... ok
All tests successful.
Files=39, Tests=406, 21 wallclock secs ( 0.38 usr  0.10 sys + 11.26 cusr  2.00 csys = 13.74 CPU)
Result: PASS

------------------------------
PREREQUISITES
------------------------------

Prerequisite modules loaded:

requires:

    Module                            Need  Have    
    --------------------------------- ----- --------
    base                              0     2.27    
    Carp                              0     1.50    
    Data::Dumper                      0     2.173   
    Data::Transform::ExplicitMetadata 0     0.08    
    Devel::Chitin                     0.15  0.18    
    Digest::MD5                       0     2.55    
    Exception::Class                  0     1.44    
    Exporter                          0     5.73    
    HTTP::Server::PSGI                0     0       
    IO::File                          0     1.39    
    IO::Socket::INET                  0     1.39    
    JSON                              0     4.02    
    LWP::UserAgent                    0     6.39    
    perl                              5.006 5.028002
    Plack::Request                    0     1.0047  
    Scalar::Util                      0     1.50    
    Socket                            0     2.027   
    strict                            0     1.11    
    Sub::Name                         0     0.21    
    Sys::Hostname                     0     1.22    
    Time::HiRes                       0     1.9759  
    URI::Escape                       0     3.31    
    vars                              0     1.04    
    warnings                          0     1.42    

build_requires:

    Module                            Need  Have    
    --------------------------------- ----- --------
    Devel::Callsite                   0     1.0.1   
    ExtUtils::MakeMaker               0     7.36    
    Fcntl                             0     1.13    
    File::Basename                    0     2.85    
    File::Temp                        0     0.2309  
    HTML::TreeBuilder                 0     5.07    
    IO::Socket                        0     1.39    
    lib                               0     0.64    
    Test::More                        0     1.302164

configure_requires:

    Module                            Need  Have    
    --------------------------------- ----- --------
    ExtUtils::MakeMaker               0     7.36    
    perl                              5.006 5.028002


------------------------------
ENVIRONMENT AND OTHER CONTEXT
------------------------------

Environment variables:

    LANG = en_US.UTF-8
    PATH = /usr/local/bin:/usr/bin:/bin:/usr/local/sbin:/usr/sbin:/sbin:/home/cpansand/bin/linux-gnu:/home/cpansand/bin/sh:/home/cpansand/bin:/usr/games:/home/cpansand/devel:/home/eserte/src/srezic-misc/scripts
    PERL5LIB = 
    PERL5OPT = 
    PERL5_CPANPLUS_IS_RUNNING = 23995
    PERL5_CPAN_IS_RUNNING = 23995
    PERL5_CPAN_IS_RUNNING_IN_RECURSION = 23730,23995
    PERLDOC = -MPod::Perldoc::ToTextOverstrike
    PERL_BATCH = yes
    PERL_CANARY_STABILITY_NOPROMPT = 1
    PERL_CPAN_REPORTER_CONFIG = /var/tmp/cpansmoker-1023/2019072200/cpanreporter_000_config.ini
    PERL_EXTUTILS_AUTOINSTALL = --defaultdeps
    PERL_USE_UNSAFE_INC = 1
    SHELL = /usr/bin/zsh
    TERM = screen
    TMPDIR = /var/tmp/cpansmoker-1023/2019072200

Perl special variables (and OS-specific diagnostics, for MSWin32):

    $^X = /opt/perl-5.28.2/bin/perl5.28.2
    $UID/$EUID = 1023 / 1023
    $GID = 1023 1023
    $EGID = 1023 1023

Perl module toolchain versions installed:

    Module              Have    
    ------------------- --------
    CPAN                2.20    
    CPAN::Meta          2.150010
    Cwd                 3.74    
    ExtUtils::CBuilder  0.280231
    ExtUtils::Command   7.36    
    ExtUtils::Install   2.14    
    ExtUtils::MakeMaker 7.36    
    ExtUtils::Manifest  1.70    
    ExtUtils::ParseXS   3.39    
    File::Spec          3.74    
    JSON                4.02    
    JSON::PP            2.97001 
    Module::Build       0.4229  
    Module::Signature   0.83    
    Parse::CPAN::Meta   2.150010
    Test::Harness       3.42    
    Test::More          1.302164
    YAML                1.27    
    YAML::Syck          1.31    
    version             0.9923  


--

Summary of my perl5 (revision 5 version 28 subversion 2) configuration:
   
  Platform:
    osname=linux
    osvers=3.10.0-957.10.1.el7.x86_64
    archname=x86_64-linux
    uname='linux centos-4gb-hel1-1 3.10.0-957.10.1.el7.x86_64 #1 smp mon mar 18 15:06:45 utc 2019 x86_64 x86_64 x86_64 gnulinux '
    config_args='-ds -e -Dprefix=/opt/perl-5.28.2 -Dcf_email=srezic@cpan.org'
    hint=recommended
    useposix=true
    d_sigaction=define
    useithreads=undef
    usemultiplicity=undef
    use64bitint=define
    use64bitall=define
    uselongdouble=undef
    usemymalloc=n
    default_inc_excludes_dot=define
    bincompat5005=undef
  Compiler:
    cc='cc'
    ccflags ='-fwrapv -fno-strict-aliasing -pipe -fstack-protector-strong -I/usr/local/include -D_LARGEFILE_SOURCE -D_FILE_OFFSET_BITS=64 -D_FORTIFY_SOURCE=2'
    optimize='-O2'
    cppflags='-fwrapv -fno-strict-aliasing -pipe -fstack-protector-strong -I/usr/local/include'
    ccversion=''
    gccversion='4.8.5 20150623 (Red Hat 4.8.5-36)'
    gccosandvers=''
    intsize=4
    longsize=8
    ptrsize=8
    doublesize=8
    byteorder=12345678
    doublekind=3
    d_longlong=define
    longlongsize=8
    d_longdbl=define
    longdblsize=16
    longdblkind=3
    ivtype='long'
    ivsize=8
    nvtype='double'
    nvsize=8
    Off_t='off_t'
    lseeksize=8
    alignbytes=8
    prototype=define
  Linker and Libraries:
    ld='cc'
    ldflags =' -fstack-protector-strong -L/usr/local/lib'
    libpth=/usr/local/lib /usr/lib /lib/../lib64 /usr/lib/../lib64 /lib /lib64 /usr/lib64 /usr/local/lib64
    libs=-lpthread -lnsl -lgdbm -ldb -ldl -lm -lcrypt -lutil -lc -lgdbm_compat
    perllibs=-lpthread -lnsl -ldl -lm -lcrypt -lutil -lc
    libc=libc-2.17.so
    so=so
    useshrplib=false
    libperl=libperl.a
    gnulibc_version='2.17'
  Dynamic Linking:
    dlsrc=dl_dlopen.xs
    dlext=so
    d_dlsymun=undef
    ccdlflags='-Wl,-E'
    cccdlflags='-fPIC'
    lddlflags='-shared -O2 -L/usr/local/lib -fstack-protector-strong'


Characteristics of this binary (from libperl): 
  Compile-time options:
    HAS_TIMES
    PERLIO_LAYERS
    PERL_COPY_ON_WRITE
    PERL_DONT_CREATE_GVSV
    PERL_MALLOC_WRAP
    PERL_OP_PARENT
    PERL_PRESERVE_IVUV
    USE_64_BIT_ALL
    USE_64_BIT_INT
    USE_LARGE_FILES
    USE_LOCALE
    USE_LOCALE_COLLATE
    USE_LOCALE_CTYPE
    USE_LOCALE_NUMERIC
    USE_LOCALE_TIME
    USE_PERLIO
    USE_PERL_ATOF
  Built under linux
  Compiled at Apr 20 2019 07:44:03
  %ENV:
    PERL5LIB=""
    PERL5OPT=""
    PERL5_CPANPLUS_IS_RUNNING="23995"
    PERL5_CPAN_IS_RUNNING="23995"
    PERL5_CPAN_IS_RUNNING_IN_RECURSION="23730,23995"
    PERLDOC="-MPod::Perldoc::ToTextOverstrike"
    PERL_BATCH="yes"
    PERL_CANARY_STABILITY_NOPROMPT="1"
    PERL_CPAN_REPORTER_CONFIG="/var/tmp/cpansmoker-1023/2019072200/cpanreporter_000_config.ini"
    PERL_EXTUTILS_AUTOINSTALL="--defaultdeps"
    PERL_USE_UNSAFE_INC="1"
  @INC:
    /opt/perl-5.28.2/lib/site_perl/5.28.2/x86_64-linux
    /opt/perl-5.28.2/lib/site_perl/5.28.2
    /opt/perl-5.28.2/lib/5.28.2/x86_64-linux
    /opt/perl-5.28.2/lib/5.28.2
    .