Report for Module-Provision-0.42.1

Back
From: metabase:user:314402c4-2aae-11df-837a-5e0a49663a4f
Subject: PASS Module-Provision-0.42.1 v5.22.1 FreeBSD
Date: 2017-05-08T19:52:23Z

This distribution has been tested as part of the CPAN Testers
project, supporting the Perl programming language.  See
http://wiki.cpantesters.org/ for more information or email
questions to cpan-testers-discuss@perl.org


--
Dear Peter Flanigan,

This is a computer-generated report for Module-Provision-0.42.1
on perl 5.22.1, created by CPAN-Reporter-1.2018.

Thank you for uploading your work to CPAN.  Congratulations!
All tests were successful.

Sections of this report:

    * Tester comments
    * Program output
    * Prerequisites
    * Environment and other context

------------------------------
TESTER COMMENTS
------------------------------

Additional comments from tester:

none provided

------------------------------
PROGRAM OUTPUT
------------------------------

Output from './Build test':


OS: freebsd, Host: cvrsnica-freebsd-101.herceg.de

=== Environment variables ===

    $AUTHOR_TESTING                   undef
    $AUTOMATED_TESTING                undef
    $EXTENDED_TESTING                 undef
    $NONINTERACTIVE_TESTING           undef
    $PERL_CPAN_REPORTER_CONFIG        /var/tmp/cpansmoker-1023/2017050821/cpanreporter_000_config.ini
    $PERL_CR_SMOKER_CURRENT           undef
    $PERL5_CPAN_IS_RUNNING            79938
    $PERL5_CPANPLUS_IS_VERSION        undef
    $TEST_CRITIC                      undef
    $TEST_SPELLING                    undef

Versions for all modules listed in MYMETA.json (including optional ones):

=== Configure Requires ===

    Module          Want   Have
    ------------- ------ ------
    Module::Build 0.4004 0.4222
    version         0.88 0.9917

=== Build Requires ===

    Module          Want   Have
    ------------- ------ ------
    Module::Build 0.4004 0.4222
    version         0.88 0.9917

=== Test Requires ===

    Module               Want     Have
    ---------------- -------- --------
    File::Spec            any     3.62
    Module::Build      0.4004   0.4222
    Module::Metadata 1.000011 1.000033
    Sys::Hostname         any     1.20
    Test::Requires       0.08     0.10
    version              0.88   0.9917

=== Test Recommends ===

    Module         Want     Have
    ---------- -------- --------
    CPAN::Meta 2.120900 2.150010

=== Runtime Requires ===

    Module                                         Want     Have
    ------------------------------------------ -------- --------
    CPAN::Meta                                 2.150005 2.150010
    CPAN::Uploader                             0.103004 0.103013
    Class::Null                                2.110730 2.110730
    Class::Usul                                 v0.73.0   0.80.1
    Config::Tiny                                   2.22     2.23
    Date::Format                                   2.24     2.24
    Dist::Zilla                                   5.037    6.009
    Dist::Zilla::Plugin::AbstractFromPOD         v0.3.0    0.3.1
    Dist::Zilla::Plugin::LicenseFromModule         0.05     0.05
    Dist::Zilla::Plugin::ManifestInRoot         v0.13.0   0.15.1
    Dist::Zilla::Plugin::Meta::Dynamic::Config     0.04     0.04
    Dist::Zilla::Plugin::ModuleBuild::Custom       4.26     4.26
    Dist::Zilla::Plugin::ReadmeAnyFromPod      0.150250 0.163250
    Dist::Zilla::Plugin::Signature             1.100930 1.100930
    Dist::Zilla::Plugin::Test::ReportMetadata    v0.4.0    0.5.1
    Dist::Zilla::Plugin::VersionFromModule         0.08     0.08
    File::DataClass                             v0.68.0   0.72.1
    File::ShareDir                                1.102    1.102
    HTTP::Message                                  6.06     6.11
    LWP                                            6.13     6.25
    LWP::Protocol::https                            any     6.06
    Module::Metadata                           1.000011 1.000033
    Moo                                        2.000001 2.003002
    Perl::Version                                 1.013    1.013
    Pod::Eventual                              0.094001 0.094001
    Software::License                          0.103010 0.103010
    Template                                       2.26     2.26
    Test::Requires                                 0.08     0.10
    Try::Tiny                                      0.22     0.28
    Type::Tiny                                 1.000004 1.000006
    Unexpected                                  v0.43.0   0.46.1
    local::lib                                 2.000014 2.000018
    namespace::autoclean                           0.26     0.28

t/00report-metadata.t .. ok
t/02pod.t .............. skipped: POD test only for developers
t/03podcoverage.t ...... skipped: POD coverage test only for developers
t/05kwalitee.t ......... skipped: Kwalitee test only for developers
t/06yaml.t ............. skipped: YAML test only for developers
t/07podspelling.t ...... skipped: POD spelling test only for developers
t/10test_script.t ...... ok
All tests successful.
Files=7, Tests=4,  3 wallclock secs ( 0.00 usr  0.04 sys +  0.28 cusr  0.82 csys =  1.14 CPU)
Result: PASS

------------------------------
PREREQUISITES
------------------------------

Prerequisite modules loaded:

requires:

    Module                                     Need     Have    
    ------------------------------------------ -------- --------
    Class::Null                                2.110730 2.110730
    Class::Usul                                v0.73.0  0.80.1  
    Config::Tiny                               2.22     2.23    
    CPAN::Meta                                 2.150005 2.150010
    CPAN::Uploader                             0.103004 0.103013
    Date::Format                               2.24     2.24    
    Dist::Zilla                                5.037    6.009   
    Dist::Zilla::Plugin::AbstractFromPOD       v0.3.0   0.3.1   
    Dist::Zilla::Plugin::LicenseFromModule     0.05     0.05    
    Dist::Zilla::Plugin::ManifestInRoot        v0.13.0  0.15.1  
    Dist::Zilla::Plugin::Meta::Dynamic::Config 0.04     0.04    
    Dist::Zilla::Plugin::ModuleBuild::Custom   4.26     4.26    
    Dist::Zilla::Plugin::ReadmeAnyFromPod      0.150250 0.163250
    Dist::Zilla::Plugin::Signature             1.100930 1.100930
    Dist::Zilla::Plugin::Test::ReportMetadata  v0.4.0   0.5.1   
    Dist::Zilla::Plugin::VersionFromModule     0.08     0.08    
    File::DataClass                            v0.68.0  0.72.1  
    File::ShareDir                             1.102    1.102   
    HTTP::Message                              6.06     6.11    
    local::lib                                 2.000014 2.000018
    LWP                                        6.13     6.25    
    LWP::Protocol::https                       0        6.06    
    Module::Metadata                           1.000011 1.000033
    Moo                                        2.000001 2.003002
    namespace::autoclean                       0.26     0.28    
    perl                                       5.010001 5.022001
    Perl::Version                              1.013    1.013   
    Pod::Eventual                              0.094001 0.094001
    Software::License                          0.103010 0.103010
    Template                                   2.26     2.26    
    Test::Requires                             0.08     0.10    
    Try::Tiny                                  0.22     0.28    
    Type::Tiny                                 1.000004 1.000006
    Unexpected                                 v0.43.0  0.46.1  

build_requires:

    Module                                     Need     Have    
    ------------------------------------------ -------- --------
    File::Spec                                 0        3.62    
    Module::Build                              0.4004   0.4222  
    Module::Metadata                           1.000011 1.000033
    Sys::Hostname                              0        1.20    
    Test::Requires                             0.08     0.10    
    version                                    0.88     0.9917  

configure_requires:

    Module                                     Need     Have    
    ------------------------------------------ -------- --------
    Module::Build                              0.4004   0.4222  
    version                                    0.88     0.9917  


------------------------------
ENVIRONMENT AND OTHER CONTEXT
------------------------------

Environment variables:

    LC_ALL = de_DE.ISO8859-1
    PATH = /usr/local/bin:/usr/bin:/bin:/usr/local/sbin:/usr/sbin:/sbin:/home/cpansand/bin/freebsd10.3:/home/cpansand/bin/sh:/home/cpansand/bin:/usr/games:/home/cpansand/devel:/home/eserte/src/srezic-misc/scripts
    PERL5LIB = /home/cpansand/.cpan/build/2017050821/Dist-Zilla-Plugin-Test-ReportMetadata-0.5.1-9/blib/arch:/home/cpansand/.cpan/build/2017050821/Dist-Zilla-Plugin-Test-ReportMetadata-0.5.1-9/blib/lib:/home/cpansand/.cpan/build/2017050821/Dist-Zilla-Plugin-Meta-Dynamic-Config-0.04-6/blib/arch:/home/cpansand/.cpan/build/2017050821/Dist-Zilla-Plugin-Meta-Dynamic-Config-0.04-6/blib/lib:/home/cpansand/.cpan/build/2017050821/Dist-Zilla-Plugin-LicenseFromModule-0.05-6/blib/arch:/home/cpansand/.cpan/build/2017050821/Dist-Zilla-Plugin-LicenseFromModule-0.05-6/blib/lib:/home/cpansand/.cpan/build/2017050821/Dist-Zilla-Plugin-AbstractFromPOD-0.3.1-6/blib/arch:/home/cpansand/.cpan/build/2017050821/Dist-Zilla-Plugin-AbstractFromPOD-0.3.1-6/blib/lib
    PERL5OPT = 
    PERL5_CPANPLUS_IS_RUNNING = 79938
    PERL5_CPAN_IS_RUNNING = 79938
    PERL5_CPAN_IS_RUNNING_IN_RECURSION = 79906,79938
    PERLDOC = -MPod::Perldoc::ToTextOverstrike
    PERL_BATCH = yes
    PERL_CANARY_STABILITY_NOPROMPT = 1
    PERL_CPAN_REPORTER_CONFIG = /var/tmp/cpansmoker-1023/2017050821/cpanreporter_000_config.ini
    PERL_EXTUTILS_AUTOINSTALL = --defaultdeps
    SHELL = /usr/local/bin/zsh
    TERM = screen
    TMPDIR = /var/tmp/cpansmoker-1023/2017050821

Perl special variables (and OS-specific diagnostics, for MSWin32):

    $^X = /usr/perl5.22.1p/bin/perl5.22.1
    $UID/$EUID = 1023 / 1023
    $GID = 1023 1023
    $EGID = 1023 1023

Perl module toolchain versions installed:

    Module              Have    
    ------------------- --------
    CPAN                2.16    
    CPAN::Meta          2.150010
    Cwd                 3.62    
    ExtUtils::CBuilder  0.280224
    ExtUtils::Command   7.24    
    ExtUtils::Install   2.04    
    ExtUtils::MakeMaker 7.24    
    ExtUtils::Manifest  1.70    
    ExtUtils::ParseXS   3.30    
    File::Spec          3.62    
    JSON                2.90    
    JSON::PP            2.27400 
    Module::Build       0.4222  
    Module::Signature   0.79    
    Parse::CPAN::Meta   2.150010
    Test::Harness       3.38    
    Test::More          1.302085
    YAML                1.23    
    YAML::Syck          1.29    
    version             0.9917  


--

Summary of my perl5 (revision 5 version 22 subversion 1) configuration:
   
  Platform:
    osname=freebsd, osvers=10.1-release, archname=amd64-freebsd
    uname='freebsd cvrsnica-freebsd-101.herceg.de 10.1-release freebsd 10.1-release #0 r274401: tue nov 11 21:02:49 utc 2014 root@releng1.nyi.freebsd.org:usrobjusrsrcsysgeneric amd64 '
    config_args='-ds -e -Dprefix=/usr/perl5.22.1p -Dcf_email=srezic@cpan.org'
    hint=recommended, useposix=true, d_sigaction=define
    useithreads=undef, usemultiplicity=undef
    use64bitint=define, use64bitall=define, uselongdouble=undef
    usemymalloc=n, bincompat5005=undef
  Compiler:
    cc='cc', ccflags ='-DHAS_FPSETMASK -DHAS_FLOATINGPOINT_H -fno-strict-aliasing -pipe -fstack-protector -I/usr/local/include -D_FORTIFY_SOURCE=2',
    optimize='-O',
    cppflags='-DHAS_FPSETMASK -DHAS_FLOATINGPOINT_H -fno-strict-aliasing -pipe -fstack-protector -I/usr/local/include'
    ccversion='', gccversion='4.2.1 Compatible FreeBSD Clang 3.4.1 (tags/RELEASE_34/dot1-final 208032)', gccosandvers=''
    intsize=4, longsize=8, ptrsize=8, doublesize=8, byteorder=12345678, doublekind=3
    d_longlong=define, longlongsize=8, d_longdbl=define, longdblsize=16, longdblkind=3
    ivtype='long', ivsize=8, nvtype='double', nvsize=8, Off_t='off_t', lseeksize=8
    alignbytes=8, prototype=define
  Linker and Libraries:
    ld='cc', ldflags ='-pthread -Wl,-E  -fstack-protector -L/usr/local/lib'
    libpth=/usr/lib /usr/local/lib /usr/include/clang/3.4.1 /usr/lib
    libs=-lpthread -lgdbm -lm -lcrypt -lutil -lc
    perllibs=-lpthread -lm -lcrypt -lutil -lc
    libc=, so=so, useshrplib=false, libperl=libperl.a
    gnulibc_version=''
  Dynamic Linking:
    dlsrc=dl_dlopen.xs, dlext=so, d_dlsymun=undef, ccdlflags=' '
    cccdlflags='-DPIC -fPIC', lddlflags='-shared  -L/usr/local/lib -fstack-protector'


Characteristics of this binary (from libperl): 
  Compile-time options: HAS_TIMES PERLIO_LAYERS PERL_DONT_CREATE_GVSV
                        PERL_HASH_FUNC_ONE_AT_A_TIME_HARD PERL_MALLOC_WRAP
                        PERL_NEW_COPY_ON_WRITE PERL_PRESERVE_IVUV
                        USE_64_BIT_ALL USE_64_BIT_INT USE_LARGE_FILES
                        USE_LOCALE USE_LOCALE_COLLATE USE_LOCALE_CTYPE
                        USE_LOCALE_NUMERIC USE_LOCALE_TIME USE_PERLIO
                        USE_PERL_ATOF
  Built under freebsd
  Compiled at Dec 15 2015 07:47:22
  %ENV:
    PERL5LIB="/home/cpansand/.cpan/build/2017050821/Dist-Zilla-Plugin-Test-ReportMetadata-0.5.1-9/blib/arch:/home/cpansand/.cpan/build/2017050821/Dist-Zilla-Plugin-Test-ReportMetadata-0.5.1-9/blib/lib:/home/cpansand/.cpan/build/2017050821/Dist-Zilla-Plugin-Meta-Dynamic-Config-0.04-6/blib/arch:/home/cpansand/.cpan/build/2017050821/Dist-Zilla-Plugin-Meta-Dynamic-Config-0.04-6/blib/lib:/home/cpansand/.cpan/build/2017050821/Dist-Zilla-Plugin-LicenseFromModule-0.05-6/blib/arch:/home/cpansand/.cpan/build/2017050821/Dist-Zilla-Plugin-LicenseFromModule-0.05-6/blib/lib:/home/cpansand/.cpan/build/2017050821/Dist-Zilla-Plugin-AbstractFromPOD-0.3.1-6/blib/arch:/home/cpansand/.cpan/build/2017050821/Dist-Zilla-Plugin-AbstractFromPOD-0.3.1-6/blib/lib"
    PERL5OPT=""
    PERL5_CPANPLUS_IS_RUNNING="79938"
    PERL5_CPAN_IS_RUNNING="79938"
    PERL5_CPAN_IS_RUNNING_IN_RECURSION="79906,79938"
    PERLDOC="-MPod::Perldoc::ToTextOverstrike"
    PERL_BATCH="yes"
    PERL_CANARY_STABILITY_NOPROMPT="1"
    PERL_CPAN_REPORTER_CONFIG="/var/tmp/cpansmoker-1023/2017050821/cpanreporter_000_config.ini"
    PERL_EXTUTILS_AUTOINSTALL="--defaultdeps"
  @INC:
    /home/cpansand/.cpan/build/2017050821/Dist-Zilla-Plugin-Test-ReportMetadata-0.5.1-9/blib/arch
    /home/cpansand/.cpan/build/2017050821/Dist-Zilla-Plugin-Test-ReportMetadata-0.5.1-9/blib/lib
    /home/cpansand/.cpan/build/2017050821/Dist-Zilla-Plugin-Meta-Dynamic-Config-0.04-6/blib/arch
    /home/cpansand/.cpan/build/2017050821/Dist-Zilla-Plugin-Meta-Dynamic-Config-0.04-6/blib/lib
    /home/cpansand/.cpan/build/2017050821/Dist-Zilla-Plugin-LicenseFromModule-0.05-6/blib/arch
    /home/cpansand/.cpan/build/2017050821/Dist-Zilla-Plugin-LicenseFromModule-0.05-6/blib/lib
    /home/cpansand/.cpan/build/2017050821/Dist-Zilla-Plugin-AbstractFromPOD-0.3.1-6/blib/arch
    /home/cpansand/.cpan/build/2017050821/Dist-Zilla-Plugin-AbstractFromPOD-0.3.1-6/blib/lib
    /usr/perl5.22.1p/lib/site_perl/5.22.1/amd64-freebsd
    /usr/perl5.22.1p/lib/site_perl/5.22.1
    /usr/perl5.22.1p/lib/5.22.1/amd64-freebsd
    /usr/perl5.22.1p/lib/5.22.1
    .