DateTime-Format-Intl vv0.1.8 Perl 5 v5.14.3 amd64-freebsd
- Status
- Pass
- From
- Chris Williams (BINGOS)
- Dist
-
DateTime-Format-Intl vv0.1.8
- Platform
- Perl 5 v5.14.3 amd64-freebsd
- Date
- 2025-01-06 20:57:32
- ID
- d97437c4-cc70-11ef-98b0-b3c3213a625c
This distribution has been tested as part of the CPAN Testers
project, supporting the Perl programming language. See
http://wiki.cpantesters.org/ for more information or email
questions to cpan-testers-discuss@perl.org
--
Dear JDEGUEST,
This is a computer-generated error report created automatically by
CPANPLUS, version 0.9914. Testers personal comments may appear
at the end of this report.
Thank you for uploading your work to CPAN. Congratulations!
All tests were successful.
TEST RESULTS:
Below is the error stack from stage 'make test':
PERL_DL_NONLAZY=1 "/usr/home/cpan/pit/bare/perl-5.14.3/bin/perl" "-MExtUtils::Command::MM" "-MTest::Harness" "-e" "undef *Test::Harness::Switches; test_harness(0, 'blib/lib', 'blib/arch')" t/*.t
t/001_load.t ....................... ok
t/002_methods.t .................... ok
# Test No 0 died: Cannot determine local time zone
Warning only: unsupported numbering system provided (jpanfin) via the locale "nu" extension (ja-Kana-JP-u-ca-gregory-nu-jpanfin-tz-jptyo). at lib/DateTime/Format/Intl.pm line 357.
Warning only: unsupported numbering system provided (jpanfin) via the locale "nu" extension (ja-Kana-JP-u-ca-gregory-nu-jpanfin-tz-jptyo). at lib/DateTime/Format/Intl.pm line 357.
Warning only: unsupported numbering system provided (arab) via the locale "nu" extension (ar-EG-u-ca-gregory-nu-arab-tz-egcai). at lib/DateTime/Format/Intl.pm line 357.
t/003_resolved_options.t ........... ok
t/004_supported_locales_of.t ....... ok
# Test No 0 died: Cannot determine local time zone
# Test No 1 died: Cannot determine local time zone
# Test No 2 died: Cannot determine local time zone
# Test No 3 died: Cannot determine local time zone
# Test No 4 died: Cannot determine local time zone
# Test No 5 died: Cannot determine local time zone
# Test No 6 died: Cannot determine local time zone
# Test No 7 died: Cannot determine local time zone
# Test No 8 died: Cannot determine local time zone
# Test No 9 died: Cannot determine local time zone
# Test No 10 died: Cannot determine local time zone
# Test No 11 died: Cannot determine local time zone
# Test No 12 died: Cannot determine local time zone
# Test No 13 died: Cannot determine local time zone
# Test No 14 died: Cannot determine local time zone
# Test No 15 died: Cannot determine local time zone
# Test No 16 died: Cannot determine local time zone
# Test No 17 died: Cannot determine local time zone
# Test No 18 died: Cannot determine local time zone
# Test No 19 died: Cannot determine local time zone
# Test No 20 died: Cannot determine local time zone
# Test No 21 died: Cannot determine local time zone
# Test No 22 died: Cannot determine local time zone
# Test No 23 died: Cannot determine local time zone
# Test No 24 died: Cannot determine local time zone
# Test No 25 died: Cannot determine local time zone
# Test No 26 died: Cannot determine local time zone
# Test No 27 died: Cannot determine local time zone
# Test No 28 died: Cannot determine local time zone
# Test No 29 died: Cannot determine local time zone
# Test No 30 died: Cannot determine local time zone
# Test No 31 died: Cannot determine local time zone
# Test No 32 died: Cannot determine local time zone
# Test No 33 died: Cannot determine local time zone
# Test No 34 died: Cannot determine local time zone
# Test No 35 died: Cannot determine local time zone
# Test No 36 died: Cannot determine local time zone
# Test No 37 died: Cannot determine local time zone
# Test No 38 died: Cannot determine local time zone
# Test No 39 died: Cannot determine local time zone
# Test No 40 died: Cannot determine local time zone
# Test No 41 died: Cannot determine local time zone
# Test No 42 died: Cannot determine local time zone
# Test No 43 died: Cannot determine local time zone
# Test No 44 died: Cannot determine local time zone
t/005_select_best_pattern.t ........ ok
# Test No 0 died: Cannot determine local time zone
t/006_format.t ..................... ok
# Test No 0 died: Cannot determine local time zone
# Test No 1 died: Cannot determine local time zone
# Test No 2 died: Cannot determine local time zone
# Test No 3 died: Cannot determine local time zone
# Test No 4 died: Cannot determine local time zone
# Test No 5 died: Cannot determine local time zone
# Test No 6 died: Cannot determine local time zone
# Test No 7 died: Cannot determine local time zone
# Test No 8 died: Cannot determine local time zone
# Test No 9 died: Cannot determine local time zone
# Test No 10 died: Cannot determine local time zone
# Test No 11 died: Cannot determine local time zone
# Test No 12 died: Cannot determine local time zone
# Test No 13 died: Cannot determine local time zone
# Test No 14 died: Cannot determine local time zone
# Test No 15 died: Cannot determine local time zone
# Test No 16 died: Cannot determine local time zone
# Test No 17 died: Cannot determine local time zone
# Test No 18 died: Cannot determine local time zone
# Test No 19 died: Cannot determine local time zone
# Test No 20 died: Cannot determine local time zone
# Test No 21 died: Cannot determine local time zone
# Test No 22 died: Cannot determine local time zone
# Test No 23 died: Cannot determine local time zone
# Test No 24 died: Cannot determine local time zone
# Test No 25 died: Cannot determine local time zone
# Test No 26 died: Cannot determine local time zone
# Test No 27 died: Cannot determine local time zone
# Test No 28 died: Cannot determine local time zone
# Test No 29 died: Cannot determine local time zone
# Test No 30 died: Cannot determine local time zone
# Test No 31 died: Cannot determine local time zone
# Test No 32 died: Cannot determine local time zone
# Test No 33 died: Cannot determine local time zone
# Test No 34 died: Cannot determine local time zone
# Test No 35 died: Cannot determine local time zone
# Test No 36 died: Cannot determine local time zone
# Test No 37 died: Cannot determine local time zone
# Test No 38 died: Cannot determine local time zone
Use of uninitialized value in join or string at /usr/home/cpan/pit/jail/fhEp91O_w2/lib/perl5/DateTime/Locale/FromCLDR.pm line 471.
Warning: something's wrong at /usr/home/cpan/pit/jail/fhEp91O_w2/lib/perl5/DateTime/Locale/FromCLDR.pm line 482.
# Test No 39 died: Cannot determine local time zone
Use of uninitialized value in join or string at /usr/home/cpan/pit/jail/fhEp91O_w2/lib/perl5/DateTime/Locale/FromCLDR.pm line 471.
Warning: something's wrong at /usr/home/cpan/pit/jail/fhEp91O_w2/lib/perl5/DateTime/Locale/FromCLDR.pm line 482.
# Test No 40 died: Cannot determine local time zone
Use of uninitialized value in join or string at /usr/home/cpan/pit/jail/fhEp91O_w2/lib/perl5/DateTime/Locale/FromCLDR.pm line 471.
Warning: something's wrong at /usr/home/cpan/pit/jail/fhEp91O_w2/lib/perl5/DateTime/Locale/FromCLDR.pm line 482.
# Test No 41 died: Cannot determine local time zone
Use of uninitialized value in join or string at /usr/home/cpan/pit/jail/fhEp91O_w2/lib/perl5/DateTime/Locale/FromCLDR.pm line 471.
Warning: something's wrong at /usr/home/cpan/pit/jail/fhEp91O_w2/lib/perl5/DateTime/Locale/FromCLDR.pm line 482.
# Test No 42 died: Cannot determine local time zone
Use of uninitialized value in join or string at /usr/home/cpan/pit/jail/fhEp91O_w2/lib/perl5/DateTime/Locale/FromCLDR.pm line 471.
Warning: something's wrong at /usr/home/cpan/pit/jail/fhEp91O_w2/lib/perl5/DateTime/Locale/FromCLDR.pm line 482.
# Test No 43 died: Cannot determine local time zone
Use of uninitialized value in join or string at /usr/home/cpan/pit/jail/fhEp91O_w2/lib/perl5/DateTime/Locale/FromCLDR.pm line 471.
Warning: something's wrong at /usr/home/cpan/pit/jail/fhEp91O_w2/lib/perl5/DateTime/Locale/FromCLDR.pm line 482.
# Test No 44 died: Cannot determine local time zone
Use of uninitialized value in join or string at /usr/home/cpan/pit/jail/fhEp91O_w2/lib/perl5/DateTime/Locale/FromCLDR.pm line 471.
Warning: something's wrong at /usr/home/cpan/pit/jail/fhEp91O_w2/lib/perl5/DateTime/Locale/FromCLDR.pm line 482.
# Test No 45 died: Cannot determine local time zone
Use of uninitialized value in join or string at /usr/home/cpan/pit/jail/fhEp91O_w2/lib/perl5/DateTime/Locale/FromCLDR.pm line 471.
Warning: something's wrong at /usr/home/cpan/pit/jail/fhEp91O_w2/lib/perl5/DateTime/Locale/FromCLDR.pm line 482.
# Test No 46 died: Cannot determine local time zone
# Test No 47 died: Cannot determine local time zone
# Test No 48 died: Cannot determine local time zone
# Test No 49 died: Cannot determine local time zone
# Test No 50 died: Cannot determine local time zone
# Test No 51 died: Cannot determine local time zone
# Test No 52 died: Cannot determine local time zone
# Test No 53 died: Cannot determine local time zone
# Test No 54 died: Cannot determine local time zone
# Test No 55 died: Cannot determine local time zone
# Test No 56 died: Cannot determine local time zone
# Test No 57 died: Cannot determine local time zone
# Test No 58 died: Cannot determine local time zone
# Test No 59 died: Cannot determine local time zone
# Test No 60 died: Cannot determine local time zone
# Test No 61 died: Cannot determine local time zone
# Test No 62 died: Cannot determine local time zone
# Test No 63 died: Cannot determine local time zone
# Test No 64 died: Cannot determine local time zone
# Test No 65 died: Cannot determine local time zone
# Test No 66 died: Cannot determine local time zone
# Test No 67 died: Cannot determine local time zone
# Test No 68 died: Cannot determine local time zone
# Test No 69 died: Cannot determine local time zone
# Test No 70 died: Cannot determine local time zone
# Test No 71 died: Cannot determine local time zone
# Test No 72 died: Cannot determine local time zone
# Test No 73 died: Cannot determine local time zone
# Test No 74 died: Cannot determine local time zone
t/007_select_best_range_pattern.t .. ok
# Test No 0 died: Cannot determine local time zone
# Test No 1 died: Cannot determine local time zone
# Test No 2 died: Cannot determine local time zone
# Test No 3 died: Cannot determine local time zone
# Test No 4 died: Cannot determine local time zone
# Test No 5 died: Cannot determine local time zone
# Test No 6 died: Cannot determine local time zone
# Test No 7 died: Cannot determine local time zone
# Test No 8 died: Cannot determine local time zone
# Test No 9 died: Cannot determine local time zone
# Test No 10 died: Cannot determine local time zone
# Test No 11 died: Cannot determine local time zone
# Test No 12 died: Cannot determine local time zone
# Test No 13 died: Cannot determine local time zone
# Test No 14 died: Cannot determine local time zone
# Test No 15 died: Cannot determine local time zone
# Test No 16 died: Cannot determine local time zone
# Test No 17 died: Cannot determine local time zone
# Test No 18 died: Cannot determine local time zone
# Test No 19 died: Cannot determine local time zone
# Test No 20 died: Cannot determine local time zone
# Test No 21 died: Cannot determine local time zone
# Test No 22 died: Cannot determine local time zone
# Test No 23 died: Cannot determine local time zone
# Test No 24 died: Cannot determine local time zone
# Test No 25 died: Cannot determine local time zone
# Test No 26 died: Cannot determine local time zone
# Test No 27 died: Cannot determine local time zone
# Test No 28 died: Cannot determine local time zone
# Test No 29 died: Cannot determine local time zone
# Test No 30 died: Cannot determine local time zone
# Test No 31 died: Cannot determine local time zone
# Test No 32 died: Cannot determine local time zone
# Test No 33 died: Cannot determine local time zone
# Test No 34 died: Cannot determine local time zone
# Test No 35 died: Cannot determine local time zone
# Test No 36 died: Cannot determine local time zone
# Test No 37 died: Cannot determine local time zone
# Test No 38 died: Cannot determine local time zone
Use of uninitialized value in join or string at /usr/home/cpan/pit/jail/fhEp91O_w2/lib/perl5/DateTime/Locale/FromCLDR.pm line 471.
Warning: something's wrong at /usr/home/cpan/pit/jail/fhEp91O_w2/lib/perl5/DateTime/Locale/FromCLDR.pm line 482.
# Test No 39 died: Cannot determine local time zone
Use of uninitialized value in join or string at /usr/home/cpan/pit/jail/fhEp91O_w2/lib/perl5/DateTime/Locale/FromCLDR.pm line 471.
Warning: something's wrong at /usr/home/cpan/pit/jail/fhEp91O_w2/lib/perl5/DateTime/Locale/FromCLDR.pm line 482.
# Test No 40 died: Cannot determine local time zone
Use of uninitialized value in join or string at /usr/home/cpan/pit/jail/fhEp91O_w2/lib/perl5/DateTime/Locale/FromCLDR.pm line 471.
Warning: something's wrong at /usr/home/cpan/pit/jail/fhEp91O_w2/lib/perl5/DateTime/Locale/FromCLDR.pm line 482.
# Test No 41 died: Cannot determine local time zone
Use of uninitialized value in join or string at /usr/home/cpan/pit/jail/fhEp91O_w2/lib/perl5/DateTime/Locale/FromCLDR.pm line 471.
Warning: something's wrong at /usr/home/cpan/pit/jail/fhEp91O_w2/lib/perl5/DateTime/Locale/FromCLDR.pm line 482.
# Test No 42 died: Cannot determine local time zone
Use of uninitialized value in join or string at /usr/home/cpan/pit/jail/fhEp91O_w2/lib/perl5/DateTime/Locale/FromCLDR.pm line 471.
Warning: something's wrong at /usr/home/cpan/pit/jail/fhEp91O_w2/lib/perl5/DateTime/Locale/FromCLDR.pm line 482.
# Test No 43 died: Cannot determine local time zone
Use of uninitialized value in join or string at /usr/home/cpan/pit/jail/fhEp91O_w2/lib/perl5/DateTime/Locale/FromCLDR.pm line 471.
Warning: something's wrong at /usr/home/cpan/pit/jail/fhEp91O_w2/lib/perl5/DateTime/Locale/FromCLDR.pm line 482.
# Test No 44 died: Cannot determine local time zone
Use of uninitialized value in join or string at /usr/home/cpan/pit/jail/fhEp91O_w2/lib/perl5/DateTime/Locale/FromCLDR.pm line 471.
Warning: something's wrong at /usr/home/cpan/pit/jail/fhEp91O_w2/lib/perl5/DateTime/Locale/FromCLDR.pm line 482.
# Test No 45 died: Cannot determine local time zone
Use of uninitialized value in join or string at /usr/home/cpan/pit/jail/fhEp91O_w2/lib/perl5/DateTime/Locale/FromCLDR.pm line 471.
Warning: something's wrong at /usr/home/cpan/pit/jail/fhEp91O_w2/lib/perl5/DateTime/Locale/FromCLDR.pm line 482.
# Test No 46 died: Cannot determine local time zone
# Test No 47 died: Cannot determine local time zone
# Test No 48 died: Cannot determine local time zone
# Test No 49 died: Cannot determine local time zone
# Test No 50 died: Cannot determine local time zone
# Test No 51 died: Cannot determine local time zone
# Test No 52 died: Cannot determine local time zone
# Test No 53 died: Cannot determine local time zone
# Test No 54 died: Cannot determine local time zone
# Test No 55 died: Cannot determine local time zone
# Test No 56 died: Cannot determine local time zone
# Test No 57 died: Cannot determine local time zone
# Test No 58 died: Cannot determine local time zone
# Test No 59 died: Cannot determine local time zone
# Test No 60 died: Cannot determine local time zone
# Test No 61 died: Cannot determine local time zone
# Test No 62 died: Cannot determine local time zone
# Test No 63 died: Cannot determine local time zone
# Test No 64 died: Cannot determine local time zone
# Test No 65 died: Cannot determine local time zone
# Test No 66 died: Cannot determine local time zone
# Test No 67 died: Cannot determine local time zone
# Test No 68 died: Cannot determine local time zone
# Test No 69 died: Cannot determine local time zone
# Test No 70 died: Cannot determine local time zone
# Test No 71 died: Cannot determine local time zone
# Test No 72 died: Cannot determine local time zone
# Test No 73 died: Cannot determine local time zone
# Test No 74 died: Cannot determine local time zone
t/008_format_range.t ............... ok
# Test No 0 died: Cannot determine local time zone
# Test No 1 died: Cannot determine local time zone
# Test No 2 died: Cannot determine local time zone
# Test No 3 died: Cannot determine local time zone
# Test No 4 died: Cannot determine local time zone
# Test No 5 died: Cannot determine local time zone
# Test No 6 died: Cannot determine local time zone
# Test No 7 died: Cannot determine local time zone
# Test No 8 died: Cannot determine local time zone
# Test No 9 died: Cannot determine local time zone
# Test No 10 died: Cannot determine local time zone
# Test No 11 died: Cannot determine local time zone
# Test No 12 died: Cannot determine local time zone
# Test No 13 died: Cannot determine local time zone
# Test No 14 died: Cannot determine local time zone
# Test No 15 died: Cannot determine local time zone
# Test No 16 died: Cannot determine local time zone
# Test No 17 died: Cannot determine local time zone
# Test No 18 died: Cannot determine local time zone
# Test No 19 died: Cannot determine local time zone
t/009_date_time_combination.t ...... ok
# Test No 0 died: Cannot determine local time zone
t/010_format_to_parts.t ............ ok
# Test No 0 died: Cannot determine local time zone
# Test No 1 died: Cannot determine local time zone
# Test No 2 died: Cannot determine local time zone
# Test No 3 died: Cannot determine local time zone
# Test No 4 died: Cannot determine local time zone
# Test No 5 died: Cannot determine local time zone
# Test No 6 died: Cannot determine local time zone
# Test No 7 died: Cannot determine local time zone
# Test No 8 died: Cannot determine local time zone
# Test No 9 died: Cannot determine local time zone
# Test No 10 died: Cannot determine local time zone
# Test No 11 died: Cannot determine local time zone
# Test No 12 died: Cannot determine local time zone
# Test No 13 died: Cannot determine local time zone
# Test No 14 died: Cannot determine local time zone
# Test No 15 died: Cannot determine local time zone
# Test No 16 died: Cannot determine local time zone
# Test No 17 died: Cannot determine local time zone
# Test No 18 died: Cannot determine local time zone
# Test No 19 died: Cannot determine local time zone
# Test No 20 died: Cannot determine local time zone
# Test No 21 died: Cannot determine local time zone
# Test No 22 died: Cannot determine local time zone
# Test No 23 died: Cannot determine local time zone
# Test No 24 died: Cannot determine local time zone
# Test No 25 died: Cannot determine local time zone
# Test No 26 died: Cannot determine local time zone
# Test No 27 died: Cannot determine local time zone
# Test No 28 died: Cannot determine local time zone
# Test No 29 died: Cannot determine local time zone
# Test No 30 died: Cannot determine local time zone
# Test No 31 died: Cannot determine local time zone
# Test No 32 died: Cannot determine local time zone
# Test No 33 died: Cannot determine local time zone
# Test No 34 died: Cannot determine local time zone
# Test No 35 died: Cannot determine local time zone
# Test No 36 died: Cannot determine local time zone
# Test No 37 died: Cannot determine local time zone
# Test No 38 died: Cannot determine local time zone
Use of uninitialized value in join or string at /usr/home/cpan/pit/jail/fhEp91O_w2/lib/perl5/DateTime/Locale/FromCLDR.pm line 471.
Warning: something's wrong at /usr/home/cpan/pit/jail/fhEp91O_w2/lib/perl5/DateTime/Locale/FromCLDR.pm line 482.
# Test No 39 died: Cannot determine local time zone
Use of uninitialized value in join or string at /usr/home/cpan/pit/jail/fhEp91O_w2/lib/perl5/DateTime/Locale/FromCLDR.pm line 471.
Warning: something's wrong at /usr/home/cpan/pit/jail/fhEp91O_w2/lib/perl5/DateTime/Locale/FromCLDR.pm line 482.
# Test No 40 died: Cannot determine local time zone
Use of uninitialized value in join or string at /usr/home/cpan/pit/jail/fhEp91O_w2/lib/perl5/DateTime/Locale/FromCLDR.pm line 471.
Warning: something's wrong at /usr/home/cpan/pit/jail/fhEp91O_w2/lib/perl5/DateTime/Locale/FromCLDR.pm line 482.
# Test No 41 died: Cannot determine local time zone
Use of uninitialized value in join or string at /usr/home/cpan/pit/jail/fhEp91O_w2/lib/perl5/DateTime/Locale/FromCLDR.pm line 471.
Warning: something's wrong at /usr/home/cpan/pit/jail/fhEp91O_w2/lib/perl5/DateTime/Locale/FromCLDR.pm line 482.
# Test No 42 died: Cannot determine local time zone
Use of uninitialized value in join or string at /usr/home/cpan/pit/jail/fhEp91O_w2/lib/perl5/DateTime/Locale/FromCLDR.pm line 471.
Warning: something's wrong at /usr/home/cpan/pit/jail/fhEp91O_w2/lib/perl5/DateTime/Locale/FromCLDR.pm line 482.
# Test No 43 died: Cannot determine local time zone
Use of uninitialized value in join or string at /usr/home/cpan/pit/jail/fhEp91O_w2/lib/perl5/DateTime/Locale/FromCLDR.pm line 471.
Warning: something's wrong at /usr/home/cpan/pit/jail/fhEp91O_w2/lib/perl5/DateTime/Locale/FromCLDR.pm line 482.
# Test No 44 died: Cannot determine local time zone
Use of uninitialized value in join or string at /usr/home/cpan/pit/jail/fhEp91O_w2/lib/perl5/DateTime/Locale/FromCLDR.pm line 471.
Warning: something's wrong at /usr/home/cpan/pit/jail/fhEp91O_w2/lib/perl5/DateTime/Locale/FromCLDR.pm line 482.
# Test No 45 died: Cannot determine local time zone
Use of uninitialized value in join or string at /usr/home/cpan/pit/jail/fhEp91O_w2/lib/perl5/DateTime/Locale/FromCLDR.pm line 471.
Warning: something's wrong at /usr/home/cpan/pit/jail/fhEp91O_w2/lib/perl5/DateTime/Locale/FromCLDR.pm line 482.
# Test No 46 died: Cannot determine local time zone
# Test No 47 died: Cannot determine local time zone
# Test No 48 died: Cannot determine local time zone
# Test No 49 died: Cannot determine local time zone
# Test No 50 died: Cannot determine local time zone
# Test No 51 died: Cannot determine local time zone
# Test No 52 died: Cannot determine local time zone
# Test No 53 died: Cannot determine local time zone
# Test No 54 died: Cannot determine local time zone
# Test No 55 died: Cannot determine local time zone
# Test No 56 died: Cannot determine local time zone
# Test No 57 died: Cannot determine local time zone
# Test No 58 died: Cannot determine local time zone
# Test No 59 died: Cannot determine local time zone
# Test No 60 died: Cannot determine local time zone
# Test No 61 died: Cannot determine local time zone
# Test No 62 died: Cannot determine local time zone
# Test No 63 died: Cannot determine local time zone
# Test No 64 died: Cannot determine local time zone
# Test No 65 died: Cannot determine local time zone
# Test No 66 died: Cannot determine local time zone
# Test No 67 died: Cannot determine local time zone
# Test No 68 died: Cannot determine local time zone
# Test No 69 died: Cannot determine local time zone
# Test No 70 died: Cannot determine local time zone
# Test No 71 died: Cannot determine local time zone
# Test No 72 died: Cannot determine local time zone
# Test No 73 died: Cannot determine local time zone
# Test No 74 died: Cannot determine local time zone
t/011_format_range_to_parts.t ...... ok
t/900_pod.t ........................ skipped: These tests are for author or release candidate testing
t/910_coverage.t ................... skipped: These tests are for author or release candidate testing
t/920_manifest.t ................... skipped: Author tests not required for installation
t/930_signature.t .................. skipped: Set the environment variable AUTHOR_TESTING to enable this test.
t/999_kwalitee.t ................... skipped: These tests are for author or release candidate testing
All tests successful.
Files=16, Tests=467, 47 wallclock secs ( 0.22 usr 0.43 sys + 33.16 cusr 10.44 csys = 44.24 CPU)
Result: PASS
PREREQUISITES:
Here is a list of prerequisites you specified and versions we
managed to load:
Module Name Have Want
DateTime 1.65 0.42
DateTime::Format::Unicode v0.1.6 v0.1.6
DateTime::Locale::FromCLDR v0.6.1 v0.6.1
ExtUtils::MakeMaker 7.70 0
Locale::Intl v0.1.3 v0.1.3
! Locale::Unicode::Data v1.3.1 v1.3.2
Scalar::Util 1.68 0
Test::More 1.302207 1.302120
Test::Pod 1.52 1.52
Want 0.29 0.17
lib 0.63 0.63
open 1.08 0
parent 0.225 0
strict 1.04 0
utf8 1.09 0
vars 1.02 0
warnings 1.12 0
warnings::register 1.02 0
Perl module toolchain versions installed:
Module Name Have
CPANPLUS 0.9914
CPANPLUS::Dist::Build 0.90
Cwd 3.75
ExtUtils::CBuilder 0.280236
ExtUtils::Command 7.70
ExtUtils::Install 2.22
ExtUtils::MakeMaker 7.70
ExtUtils::Manifest 1.75
ExtUtils::ParseXS 3.51
File::Spec 3.75
Module::Build 0.4234
Pod::Parser 1.37
Pod::Simple 3.16
Test2 1.302207
Test::Harness 3.48
Test::More 1.302207
version 0.9930
******************************** NOTE ********************************
The comments above are created mechanically, possibly without manual
checking by the sender. As there are many people performing automatic
tests on each upload to CPAN, it is likely that you will receive
identical messages about the same problem.
If you believe that the message is mistaken, please reply to the first
one with correction and/or additional informations, and do not take
it personally. We appreciate your patience. :)
**********************************************************************
Additional comments:
This report was machine-generated by CPANPLUS::Dist::YACSmoke 1.08.
Powered by minismokebox version 0.68
CPANPLUS is prefering Build.PL
------------------------------
ENVIRONMENT AND OTHER CONTEXT
------------------------------
Environment variables:
AUTOMATED_TESTING = 1
NONINTERACTIVE_TESTING = 1
PATH = /sbin:/bin:/usr/sbin:/usr/bin:/usr/local/sbin:/usr/local/bin:/home/cpan/bin
PERL5LIB = /usr/home/cpan/pit/jail/fhEp91O_w2/lib/perl5:/usr/home/cpan/pit/bare/conf/perl-5.14.3/.cpanplus/5.14.3/build/ZXPdWBBP6m/DateTime-Format-Intl-v0.1.8/blib/lib:/usr/home/cpan/pit/bare/conf/perl-5.14.3/.cpanplus/5.14.3/build/ZXPdWBBP6m/DateTime-Format-Intl-v0.1.8/blib/arch
PERL5_CPANPLUS_IS_RUNNING = 4884
PERL5_CPANPLUS_IS_VERSION = 0.9914
PERL5_MINISMOKEBOX = 0.68
PERL5_YACSMOKE_BASE = /usr/home/cpan/pit/bare/conf/perl-5.14.3
PERL_EXTUTILS_AUTOINSTALL = --defaultdeps
PERL_LOCAL_LIB_ROOT = /usr/home/cpan/pit/jail/fhEp91O_w2
PERL_MB_OPT = --install_base "/usr/home/cpan/pit/jail/fhEp91O_w2"
PERL_MM_OPT = INSTALL_BASE=/usr/home/cpan/pit/jail/fhEp91O_w2
PERL_MM_USE_DEFAULT = 1
SHELL = /usr/local/bin/bash
TERM = screen
Perl special variables (and OS-specific diagnostics, for MSWin32):
Perl: $^X = /usr/home/cpan/pit/bare/perl-5.14.3/bin/perl
UID: $< = 1002
EUID: $> = 1002
GID: $( = 1002 1002
EGID: $) = 1002 1002
-------------------------------
--
Summary of my perl5 (revision 5 version 14 subversion 3) configuration:
Platform:
osname=freebsd, osvers=12.4-release-p1, archname=amd64-freebsd
uname='freebsd fforc 12.4-release-p1 freebsd 12.4-release-p1 generic amd64 '
config_args='-des -Dprefix=/usr/home/cpan/pit/bare/perl-5.14.3'
hint=recommended, useposix=true, d_sigaction=define
useithreads=undef, usemultiplicity=undef
useperlio=define, d_sfio=undef, uselargefiles=define, usesocks=undef
use64bitint=define, use64bitall=define, uselongdouble=undef
usemymalloc=n, bincompat5005=undef
Compiler:
cc='cc', ccflags ='-DHAS_FPSETMASK -DHAS_FLOATINGPOINT_H -fno-strict-aliasing -pipe -fstack-protector -I/usr/local/include',
optimize='-O2',
cppflags='-DHAS_FPSETMASK -DHAS_FLOATINGPOINT_H -fno-strict-aliasing -pipe -fstack-protector -I/usr/local/include'
ccversion='', gccversion='FreeBSD Clang 13.0.0 (git@github.com:llvm/llvm-project.git llvmorg-13.0.0-0-gd7b669b3a303)', gccosandvers=''
intsize=4, longsize=8, ptrsize=8, doublesize=8, byteorder=12345678
d_longlong=define, longlongsize=8, d_longdbl=define, longdblsize=16
ivtype='long', ivsize=8, nvtype='double', nvsize=8, Off_t='off_t', lseeksize=8
alignbytes=8, prototype=define
Linker and Libraries:
ld='cc', ldflags ='-Wl,-E -fstack-protector -L/usr/local/lib'
libpth=/usr/lib /usr/local/lib
libs=-lgdbm -ldl -lm -lcrypt -lutil -lc
perllibs=-ldl -lm -lcrypt -lutil -lc
libc=, so=so, useshrplib=false, libperl=libperl.a
gnulibc_version=''
Dynamic Linking:
dlsrc=dl_dlopen.xs, dlext=so, d_dlsymun=undef, ccdlflags=' '
cccdlflags='-DPIC -fPIC', lddlflags='-shared -L/usr/local/lib -fstack-protector'
Characteristics of this binary (from libperl):
Compile-time options: PERL_DONT_CREATE_GVSV PERL_MALLOC_WRAP
PERL_PRESERVE_IVUV USE_64_BIT_ALL USE_64_BIT_INT
USE_LARGE_FILES USE_PERLIO USE_PERL_ATOF
Locally applied patches:
Devel::PatchPerl 2.08
Built under freebsd
Compiled at Mar 29 2023 16:15:29
%ENV:
PERL5LIB="/usr/home/cpan/pit/jail/fhEp91O_w2/lib/perl5:/usr/home/cpan/pit/bare/conf/perl-5.14.3/.cpanplus/5.14.3/build/ZXPdWBBP6m/DateTime-Format-Intl-v0.1.8/blib/lib:/usr/home/cpan/pit/bare/conf/perl-5.14.3/.cpanplus/5.14.3/build/ZXPdWBBP6m/DateTime-Format-Intl-v0.1.8/blib/arch"
PERL5_CPANPLUS_IS_RUNNING="4884"
PERL5_CPANPLUS_IS_VERSION="0.9914"
PERL5_MINISMOKEBOX="0.68"
PERL5_YACSMOKE_BASE="/usr/home/cpan/pit/bare/conf/perl-5.14.3"
PERL_EXTUTILS_AUTOINSTALL="--defaultdeps"
PERL_LOCAL_LIB_ROOT="/usr/home/cpan/pit/jail/fhEp91O_w2"
PERL_MB_OPT="--install_base "/usr/home/cpan/pit/jail/fhEp91O_w2""
PERL_MM_OPT="INSTALL_BASE=/usr/home/cpan/pit/jail/fhEp91O_w2"
PERL_MM_USE_DEFAULT="1"
@INC:
/usr/home/cpan/pit/jail/fhEp91O_w2/lib/perl5/5.14.3/amd64-freebsd
/usr/home/cpan/pit/jail/fhEp91O_w2/lib/perl5/5.14.3
/usr/home/cpan/pit/jail/fhEp91O_w2/lib/perl5/amd64-freebsd
/usr/home/cpan/pit/jail/fhEp91O_w2/lib/perl5
/usr/home/cpan/pit/bare/conf/perl-5.14.3/.cpanplus/5.14.3/build/ZXPdWBBP6m/DateTime-Format-Intl-v0.1.8/blib/lib
/usr/home/cpan/pit/bare/conf/perl-5.14.3/.cpanplus/5.14.3/build/ZXPdWBBP6m/DateTime-Format-Intl-v0.1.8/blib/arch
/usr/home/cpan/pit/bare/perl-5.14.3/lib/site_perl/5.14.3/amd64-freebsd
/usr/home/cpan/pit/bare/perl-5.14.3/lib/site_perl/5.14.3
/usr/home/cpan/pit/bare/perl-5.14.3/lib/5.14.3/amd64-freebsd
/usr/home/cpan/pit/bare/perl-5.14.3/lib/5.14.3
.