Back
From: metabase:user:31d414ea-2aae-11df-837a-5e0a49663a4f
Subject: PASS Net-Braintree-0.27.0 v5.8.9 GNU/Linux
Date: 2015-03-05T12:19:19Z
This distribution has been tested as part of the CPAN Testers
project, supporting the Perl programming language. See
http://wiki.cpantesters.org/ for more information or email
questions to cpan-testers-discuss@perl.org
--
Dear Braintree Devs,
This is a computer-generated report for Net-Braintree-0.27.0
on perl 5.8.9, created by CPAN-Reporter-1.1711.
Thank you for uploading your work to CPAN. Congratulations!
All tests were successful.
Sections of this report:
* Tester comments
* Program output
* Prerequisites
* Environment and other context
------------------------------
TESTER COMMENTS
------------------------------
Additional comments from tester:
this report is from an automated smoke testing program
and was not reviewed by a human for accuracy
------------------------------
PROGRAM OUTPUT
------------------------------
Output from '/usr/bin/make test':
PERL_DL_NONLAZY=1 "/home/david/cpantesting/perl-5.8.9/bin/perl" "-MExtUtils::Command::MM" "-MTest::Harness" "-e" "undef *Test::Harness::Switches; test_harness(0, 'inc', 'blib/lib', 'blib/arch'); " t/*t
# Testing Net::Braintree 0.27.0, Perl 5.008009, /home/david/cpantesting/perl-5.8.9/bin/perl
t/00-load.t ............................ ok
t/address.t ............................ ok
t/advanced_search.t .................... ok
t/boilerplate.t ........................ ok
t/client_token.t ....................... ok
t/configuration.t ...................... ok
t/credit_card.t ........................ ok
t/customer.t ........................... ok
t/digest.t ............................. ok
t/inflate_xml.t ........................ ok
t/manifest.t ........................... skipped: Author tests not required for installation
t/merchant_account.t ................... ok
t/pod.t ................................ ok
t/resource_collection.t ................ ok
t/result.t ............................. ok
t/subscription.t ....................... ok
t/transaction.t ........................ ok
t/transparent_redirect.t ............... ok
t/transparent_redirect_query_string.t .. ok
t/util.t ............................... ok
t/validation_error.t ................... ok
t/validation_error_collection.t ........ ok
t/validations_test.t ................... ok
t/webhook_notification.t ............... ok
t/xml.t ................................ ok
t/xml_builder.t ........................ ok
All tests successful.
Test Summary Report
-------------------
t/boilerplate.t (Wstat: 0 Tests: 3 Failed: 0)
TODO passed: 2-3
Files=26, Tests=212, 42 wallclock secs ( 0.10 usr 0.10 sys + 14.88 cusr 0.83 csys = 15.91 CPU)
Result: PASS
------------------------------
PREREQUISITES
------------------------------
Prerequisite modules loaded:
requires:
Module Need Have
--------------------------- ----- --------
Data::GUID 0 0.045
DateTime 0 1.18
DateTime::Format::Atom 0 v1.0.2
DateTime::Format::Strptime 0 1.56
Digest 0 1.15
Digest::HMAC_SHA1 0 1.03
Digest::SHA1 0 2.13
Digest::SHA256 0 0.01
File::Spec 0.80 3.31
Hash::Inflator 0 1.100820
JSON 0 2.21
local::lib 0 2.000015
LWP 6.02 6.13
! LWP::Protocol::https 0 broken
MIME::Base64 0 3.07
! Module::Install::TestTarget 0 n/a
Moose 0 2.1403
Mozilla::CA 0 20141217
perl 5.006 5.008009
Test::More 0 1.001014
Test::Pod 0 1.48
Test::Warn 0 0.30
Try::Tiny 0 0.22
URI::Query 0 0.10
XML::LibXML 0 2.0118
XML::Simple 0 2.20
build_requires:
Module Need Have
--------------------------- ----- --------
ExtUtils::MakeMaker 6.42 7.04
Test::More 0 1.001014
Test::Pod 0 1.48
Test::Warn 0 0.30
Try::Tiny 0 0.22
------------------------------
ENVIRONMENT AND OTHER CONTEXT
------------------------------
Environment variables:
AUTOMATED_TESTING = 1
PATH = /usr/local/bin:/usr/bin:/bin:/usr/games
PERL = 5.8.9
PERL5LIB =
PERL5OPT =
PERL5_CPANPLUS_IS_RUNNING = 18936
PERL5_CPAN_IS_RUNNING = 18936
PERLVER = 5.8.9
PERL_INLINE_DIRECTORY = /home/david/.Inline-5.8.9
PERL_MM_USE_DEFAULT = 1
SHELL = /bin/bash
TERM = screen
Perl special variables (and OS-specific diagnostics, for MSWin32):
$^X = /home/david/cpantesting/perl-5.8.9/bin/perl
$UID/$EUID = 1000 / 1000
$GID = 1000 1000
$EGID = 1000 1000
Perl module toolchain versions installed:
Module Have
------------------- --------
CPAN 1.9402
Cwd 3.31
ExtUtils::CBuilder 0.2703
ExtUtils::Command 1.16
ExtUtils::Install 1.54
ExtUtils::MakeMaker 7.04
ExtUtils::Manifest 1.65
ExtUtils::ParseXS 2.2206
File::Spec 3.31
Module::Build 0.4211
Module::Signature n/a
Test::Harness 3.35
Test::More 1.001014
YAML 0.70
YAML::Syck n/a
version 0.9912
--
Summary of my perl5 (revision 5 version 8 subversion 9) configuration:
Platform:
osname=linux, osvers=2.6.18-4-xen-amd64, archname=x86_64-linux-thread-multi
uname='linux pigsty2 2.6.18-4-xen-amd64 #1 smp fri may 4 02:40:51 utc 2007 x86_64 gnulinux '
config_args='-de -Duse64bitall -Dusethreads -Dprefix=/home/david/cpantesting/perl-5.8.9'
hint=recommended, useposix=true, d_sigaction=define
usethreads=define use5005threads=undef useithreads=define usemultiplicity=define
useperlio=define d_sfio=undef uselargefiles=define usesocks=undef
use64bitint=define use64bitall=define uselongdouble=undef
usemymalloc=n, bincompat5005=undef
Compiler:
cc='cc', ccflags ='-D_REENTRANT -D_GNU_SOURCE -DTHREADS_HAVE_PIDS -fno-strict-aliasing -pipe -I/usr/local/include -D_LARGEFILE_SOURCE -D_FILE_OFFSET_BITS=64',
optimize='-O2',
cppflags='-D_REENTRANT -D_GNU_SOURCE -DTHREADS_HAVE_PIDS -fno-strict-aliasing -pipe -I/usr/local/include'
ccversion='', gccversion='4.1.2 20061115 (prerelease) (Debian 4.1.1-21)', gccosandvers=''
intsize=4, longsize=8, ptrsize=8, doublesize=8, byteorder=12345678
d_longlong=define, longlongsize=8, d_longdbl=define, longdblsize=16
ivtype='long', ivsize=8, nvtype='double', nvsize=8, Off_t='off_t', lseeksize=8
alignbytes=8, prototype=define
Linker and Libraries:
ld='cc', ldflags =' -L/usr/local/lib'
libpth=/usr/local/lib /lib /usr/lib /lib64 /usr/lib64
libs=-lnsl -lgdbm -ldb -ldl -lm -lcrypt -lutil -lpthread -lc
perllibs=-lnsl -ldl -lm -lcrypt -lutil -lpthread -lc
libc=/lib/libc-2.3.6.so, so=so, useshrplib=false, libperl=libperl.a
gnulibc_version='2.3.6'
Dynamic Linking:
dlsrc=dl_dlopen.xs, dlext=so, d_dlsymun=undef, ccdlflags='-Wl,-E'
cccdlflags='-fPIC', lddlflags='-shared -O2 -L/usr/local/lib'
Characteristics of this binary (from libperl):
Compile-time options: MULTIPLICITY PERL_IMPLICIT_CONTEXT PERL_MALLOC_WRAP
THREADS_HAVE_PIDS USE_64_BIT_ALL USE_64_BIT_INT
USE_FAST_STDIO USE_ITHREADS USE_LARGE_FILES
USE_PERLIO USE_REENTRANT_API
Built under linux
Compiled at Jan 17 2009 20:41:01
%ENV:
PERL="5.8.9"
PERL5LIB=""
PERL5OPT=""
PERL5_CPANPLUS_IS_RUNNING="18936"
PERL5_CPAN_IS_RUNNING="18936"
PERLVER="5.8.9"
PERL_INLINE_DIRECTORY="/home/david/.Inline-5.8.9"
PERL_MM_USE_DEFAULT="1"
@INC:
/home/david/cpantesting/perl-5.8.9/lib/5.8.9/x86_64-linux-thread-multi
/home/david/cpantesting/perl-5.8.9/lib/5.8.9
/home/david/cpantesting/perl-5.8.9/lib/site_perl/5.8.9/x86_64-linux-thread-multi
/home/david/cpantesting/perl-5.8.9/lib/site_perl/5.8.9
.