YAML v1.27 Perl 5 v5.14.3 amd64-netbsd-ld

Status
Pass
From
Nigel Horne
Dist
YAML v1.27
Platform
Perl 5 v5.14.3 amd64-netbsd-ld
Date
2018-11-23 14:27:04
ID
d94372f2-ef2b-11e8-aada-a57f62b887d7
This distribution has been tested as part of the CPAN Testers
project, supporting the Perl programming language.  See
http://wiki.cpantesters.org/ for more information or email
questions to cpan-testers-discuss@perl.org


--
Dear Tina Muller,

This is a computer-generated report for YAML-1.27
on perl 5.14.3, created by CPAN-Reporter-1.2018.

Thank you for uploading your work to CPAN.  Congratulations!
All tests were successful.

Sections of this report:

    * Tester comments
    * Program output
    * Prerequisites
    * Environment and other context

------------------------------
TESTER COMMENTS
------------------------------

Additional comments from tester:

none provided

------------------------------
PROGRAM OUTPUT
------------------------------

Output from '/usr/bin/make test':

PERL_DL_NONLAZY=1 "/home/njh/perl5/perlbrew/perls/perl-5.14.3-ld/bin/perl5.14.3" "-MExtUtils::Command::MM" "-MTest::Harness" "-e" "undef *Test::Harness::Switches; test_harness(0, 'blib/lib', 'blib/arch')" t/*.t
t/000-compile-modules.t ............ ok
t/2-scalars.t ...................... ok
t/author-pod-syntax.t .............. skipped: these tests are for testing by the author
t/basic-tests.t .................... ok
t/bugs-emailed.t ................... ok
t/bugs-rt.t ........................ ok
t/changes.t ........................ ok
t/dump-basics.t .................... ok
t/dump-blessed-glob.t .............. ok
t/dump-blessed.t ................... ok
t/dump-code.t ...................... ok
t/dump-file-utf8.t ................. ok
t/dump-file.t ...................... ok
t/dump-nested.t .................... ok
t/dump-opts.t ...................... ok
t/dump-perl-types-512.t ............ skipped: test only for perls before v5.13.5-11-gfb85c04
t/dump-perl-types-514.t ............ ok
t/dump-perl-types.t ................ ok
t/dump-stringify.t ................. ok
t/dump-stringy-numbers.t ........... ok
t/dump-synopsis.t .................. ok
t/dump-tests-512.t ................. skipped: test only for perls before v5.13.5-11-gfb85c04
t/dump-tests-514.t ................. ok
t/dump-tests.t ..................... ok
t/dump-works.t ..................... ok
t/errors.t ......................... ok
t/export.t ......................... ok
t/freeze-thaw.t .................... ok
t/global-api.t ..................... ok
t/inbox.t .......................... ok
t/io-handle.t ...................... ok
t/issue-149.t ...................... ok
t/issue-69.t ....................... ok
t/load-code.t ...................... ok
t/load-fails.t ..................... ok
t/load-passes.t .................... ok
t/load-slides.t .................... ok
t/load-spec.t ...................... ok
t/load-tests.t ..................... ok
t/load-works.t ..................... ok
t/marshall.t ....................... ok
t/no-load-blessed.t ................ ok
t/node-info.t ...................... ok
t/numify.t ......................... ok
t/preserve.t ....................... ok
t/pugs-objects.t ................... ok
t/references.t ..................... ok
t/regexp.t ......................... ok
t/roundtrip.t ...................... ok
t/rt-90593.t ....................... ok
t/svk.t ............................ ok
t/test.t ........................... ok
t/trailing-comments-content.t ...... ok
t/trailing-comments-non-content.t .. ok
All tests successful.
Files=54, Tests=541, 13 wallclock secs ( 0.24 usr  0.12 sys + 10.92 cusr  1.15 csys = 12.43 CPU)
Result: PASS

------------------------------
PREREQUISITES
------------------------------

Prerequisite modules loaded:

requires:

    Module              Need     Have    
    ------------------- -------- --------
    perl                5.008001 5.014003

build_requires:

    Module              Need     Have    
    ------------------- -------- --------
    Encode              0        2.98    
    ExtUtils::MakeMaker 0        7.34    
    Test::Deep          0        1.128   
    Test::More          0.88     1.302140
    Test::YAML          1.05     1.07    

configure_requires:

    Module              Need     Have    
    ------------------- -------- --------
    ExtUtils::MakeMaker 0        7.34    


------------------------------
ENVIRONMENT AND OTHER CONTEXT
------------------------------

Environment variables:

    NONINTERACTIVE_TESTING = 1
    PATH = /home/njh/perl5/perlbrew/bin:/home/njh/perl5/perlbrew/perls/perl-5.14.3-ld/bin:/usr/bin:/bin:/usr/pkg/bin:/usr/local/bin
    PERL5LIB = 
    PERL5OPT = 
    PERL5_CPANPLUS_IS_RUNNING = 9181
    PERL5_CPAN_IS_RUNNING = 9181
    PERLBREW_HOME = /home/njh/.perlbrew
    PERLBREW_MANPATH = /home/njh/perl5/perlbrew/perls/perl-5.14.3-ld/man
    PERLBREW_PATH = /home/njh/perl5/perlbrew/bin:/home/njh/perl5/perlbrew/perls/perl-5.14.3-ld/bin
    PERLBREW_PERL = perl-5.14.3-ld
    PERLBREW_ROOT = /home/njh/perl5/perlbrew
    PERLBREW_SHELLRC_VERSION = 0.82
    PERLBREW_VERSION = 0.82
    PERL_MM_USE_DEFAULT = 1
    SHELL = /usr/pkg/bin/bash
    TERM = xterm-256color
    TMPDIR = /tmp

Perl special variables (and OS-specific diagnostics, for MSWin32):

    $^X = /home/njh/perl5/perlbrew/perls/perl-5.14.3-ld/bin/perl5.14.3
    $UID/$EUID = 1000 / 1000
    $GID = 100 100 0
    $EGID = 100 100 0

Perl module toolchain versions installed:

    Module              Have    
    ------------------- --------
    CPAN                2.16    
    CPAN::Meta          2.150010
    Cwd                 3.36    
    ExtUtils::CBuilder  0.280230
    ExtUtils::Command   7.34    
    ExtUtils::Install   2.14    
    ExtUtils::MakeMaker 7.34    
    ExtUtils::Manifest  1.71    
    ExtUtils::ParseXS   3.35    
    File::Spec          3.33    
    JSON                n/a     
    JSON::PP            2.97001 
    Module::Build       0.4224  
    Module::Signature   n/a     
    Parse::CPAN::Meta   2.150010
    Test::Harness       3.42    
    Test::More          1.302140
    YAML                1.26    
    YAML::Syck          1.30    
    version             0.9924  


--

Summary of my perl5 (revision 5 version 14 subversion 3) configuration:
   
  Platform:
    osname=netbsd, osvers=7.1.2, archname=amd64-netbsd-ld
    uname='netbsd vultr2.bandsman.co.uk 7.1.2 netbsd 7.1.2 (generic.201803151611z) amd64 '
    config_args='-de -Dprefix=/home/njh/perl5/perlbrew/perls/perl-5.14.3-ld -Dusedevel -Duselongdouble -Accflags= -Aeval:scriptdir=/home/njh/perl5/perlbrew/perls/perl-5.14.3-ld/bin'
    hint=recommended, useposix=true, d_sigaction=define
    useithreads=undef, usemultiplicity=undef
    useperlio=define, d_sfio=undef, uselargefiles=define, usesocks=undef
    use64bitint=define, use64bitall=define, uselongdouble=define
    usemymalloc=n, bincompat5005=undef
  Compiler:
    cc='cc', ccflags ='-fno-strict-aliasing -pipe -fstack-protector -I/usr/pkg/include',
    optimize='-O',
    cppflags='-fno-strict-aliasing -pipe -fstack-protector -I/usr/pkg/include'
    ccversion='', gccversion='4.8.5', gccosandvers=''
    intsize=4, longsize=8, ptrsize=8, doublesize=8, byteorder=12345678
    d_longlong=define, longlongsize=8, d_longdbl=define, longdblsize=16
    ivtype='long', ivsize=8, nvtype='long double', nvsize=16, Off_t='off_t', lseeksize=8
    alignbytes=16, prototype=define
  Linker and Libraries:
    ld='cc', ldflags =' -Wl,-rpath,/usr/pkg/lib -Wl,-rpath,/usr/local/lib -fstack-protector -L/usr/pkg/lib'
    libpth=/usr/pkg/lib /lib /usr/lib
    libs=-lm -lcrypt -lutil -lc -lposix
    perllibs=-lm -lcrypt -lutil -lc -lposix
    libc=/lib/libc.so, so=so, useshrplib=false, libperl=libperl.a
    gnulibc_version=''
  Dynamic Linking:
    dlsrc=dl_dlopen.xs, dlext=so, d_dlsymun=undef, ccdlflags='-Wl,-E '
    cccdlflags='-DPIC -fPIC ', lddlflags='-shared  -L/usr/pkg/lib -fstack-protector'


Characteristics of this binary (from libperl): 
  Compile-time options: PERL_DONT_CREATE_GVSV PERL_MALLOC_WRAP
                        PERL_PRESERVE_IVUV PERL_USE_DEVEL USE_64_BIT_ALL
                        USE_64_BIT_INT USE_LARGE_FILES USE_LONG_DOUBLE
                        USE_PERLIO USE_PERL_ATOF
  Locally applied patches:
	Devel::PatchPerl 1.48
  Built under netbsd
  Compiled at Sep 29 2018 01:06:17
  %ENV:
    PERL5LIB=""
    PERL5OPT=""
    PERL5_CPANPLUS_IS_RUNNING="9181"
    PERL5_CPAN_IS_RUNNING="9181"
    PERLBREW_HOME="/home/njh/.perlbrew"
    PERLBREW_MANPATH="/home/njh/perl5/perlbrew/perls/perl-5.14.3-ld/man"
    PERLBREW_PATH="/home/njh/perl5/perlbrew/bin:/home/njh/perl5/perlbrew/perls/perl-5.14.3-ld/bin"
    PERLBREW_PERL="perl-5.14.3-ld"
    PERLBREW_ROOT="/home/njh/perl5/perlbrew"
    PERLBREW_SHELLRC_VERSION="0.82"
    PERLBREW_VERSION="0.82"
    PERL_MM_USE_DEFAULT="1"
  @INC:
    /home/njh/perl5/perlbrew/perls/perl-5.14.3-ld/lib/site_perl/5.14.3/amd64-netbsd-ld
    /home/njh/perl5/perlbrew/perls/perl-5.14.3-ld/lib/site_perl/5.14.3
    /home/njh/perl5/perlbrew/perls/perl-5.14.3-ld/lib/5.14.3/amd64-netbsd-ld
    /home/njh/perl5/perlbrew/perls/perl-5.14.3-ld/lib/5.14.3
    .