Back
From: metabase:user:320bfe00-2aae-11df-837a-5e0a49663a4f
Subject: PASS Catalyst-Plugin-Authorization-ACL-0.15 v5.15.3 GNU/Linux
Date: 2011-10-17T11:47:53Z
This distribution has been tested as part of the CPAN Testers
project, supporting the Perl programming language. See
http://wiki.cpantesters.org/ for more information or email
questions to cpan-testers-discuss@perl.org
--
Dear Rafael Kitover,
This is a computer-generated report for Catalyst-Plugin-Authorization-ACL-0.15
on perl 5.15.3, created by CPAN-Reporter-1.1902.
Thank you for uploading your work to CPAN. Congratulations!
All tests were successful.
Sections of this report:
* Tester comments
* Program output
* Prerequisites
* Environment and other context
------------------------------
TESTER COMMENTS
------------------------------
Additional comments from tester:
this report is from an automated smoke testing program
and was not reviewed by a human for accuracy
------------------------------
PROGRAM OUTPUT
------------------------------
Output from '/usr/bin/make test':
PERL_DL_NONLAZY=1 /home/sand/src/perl/repoperls/installed-perls/perl/v5.15.3-362-gc774086/1df5/bin/perl "-MExtUtils::Command::MM" "-e" "test_harness(0, 'inc', 'blib/lib', 'blib/arch')" t/01use.t t/02pod.t t/live_app.t t/more_live_app.t
t/01use.t .......... ok
t/02pod.t .......... skipped: set TEST_POD to enable this test
t/live_app.t ....... skipped: A bunch of plugins are required for this test... Look in the source if you really care... Can't locate Test/WWW/Mechanize/Catalyst.pm in @INC (@INC contains: t/lib /tmp/loop_over_bdir-OL_B16/Catalyst-Plugin-Authorization-ACL-0.15-DB1vpt/inc /tmp/loop_over_bdir-OL_B16/Catalyst-Plugin-Authorization-ACL-0.15-DB1vpt/blib/lib /tmp/loop_over_bdir-OL_B16/Catalyst-Plugin-Authorization-ACL-0.15-DB1vpt/blib/arch /home/src/perl/repoperls/installed-perls/perl/v5.15.3-362-gc774086/1df5/lib/site_perl/5.15.3/x86_64-linux /home/src/perl/repoperls/installed-perls/perl/v5.15.3-362-gc774086/1df5/lib/site_perl/5.15.3 /home/src/perl/repoperls/installed-perls/perl/v5.15.3-362-gc774086/1df5/lib/5.15.3/x86_64-linux /home/src/perl/repoperls/installed-perls/perl/v5.15.3-362-gc774086/1df5/lib/5.15.3 .) at t/live_app.t line 12.
t/more_live_app.t .. skipped: Test::WWW::Mechanize::Catalyst required
All tests successful.
Files=4, Tests=1, 0 wallclock secs ( 0.03 usr 0.00 sys + 0.29 cusr 0.02 csys = 0.34 CPU)
Result: PASS
------------------------------
PREREQUISITES
------------------------------
Prerequisite modules loaded:
requires:
Module Need Have
---------------------------------------- ------- -------
Catalyst::Plugin::Authentication 0 0.10018
Catalyst::Plugin::Authorization::Roles 0 0.09
Catalyst::Plugin::Session 0 0.32
Catalyst::Plugin::Session::State::Cookie 0 0.17
Catalyst::Runtime 5.80013 5.90004
Class::Data::Inheritable 0 0.08
Class::Throwable 0 0.11
ExtUtils::MakeMaker 6.42 6.61_01
Moose 0 2.0205
MRO::Compat 0 0.11
namespace::autoclean 0 0.13
Test::More 0 0.98
! Test::WWW::Mechanize::Catalyst 0 n/a
Tree::Simple 0 1.18
Tree::Simple::Visitor::FindByPath 0 0.03
Tree::Simple::Visitor::GetAllDescendents 0 0.02
build_requires:
Module Need Have
---------------------------------------- ------- -------
ExtUtils::MakeMaker 0 6.61_01
configure_requires:
Module Need Have
---------------------------------------- ------- -------
ExtUtils::MakeMaker 6.42 6.61_01
------------------------------
ENVIRONMENT AND OTHER CONTEXT
------------------------------
Environment variables:
AUTOMATED_TESTING = 1
LANG = en_US.UTF-8
LANGUAGE = en_US:en
PATH = /home/sand/bin:/usr/local/bin:/usr/bin:/bin:/usr/bin/X11:/usr/games:/usr/local/perl/bin:/usr/X11/bin:/sbin:/usr/sbin
PERL5LIB =
PERL5OPT =
PERL5_CPANPLUS_IS_RUNNING = 8013
PERL5_CPAN_IS_RUNNING = 8013
PERL_MM_USE_DEFAULT = 1
SHELL = /usr/bin/zsh
TERM = screen
Perl special variables (and OS-specific diagnostics, for MSWin32):
$^X = /home/sand/src/perl/repoperls/installed-perls/perl/v5.15.3-362-gc774086/1df5/bin/perl
$UID/$EUID = 1005 / 1005
$GID = 1005 1005
$EGID = 1005 1005
Perl module toolchain versions installed:
Module Have
------------------- --------
CPAN 1.9800
Cwd 3.37
ExtUtils::CBuilder 0.280202
ExtUtils::Command 1.17
ExtUtils::Install 1.57
ExtUtils::MakeMaker 6.61_01
ExtUtils::Manifest 1.60
ExtUtils::ParseXS 3.05
File::Spec 3.34
Module::Build 0.39_01
Module::Signature 0.68
Test::Harness 3.23
Test::More 0.98
YAML 0.77
YAML::Syck n/a
version 0.94
--
Summary of my perl5 (revision 5 version 15 subversion 3) configuration:
Commit id: c774086b8a59eaff70f902565ceed342e75112a5
Platform:
osname=linux, osvers=2.6.32-5-amd64, archname=x86_64-linux
uname='linux k83 2.6.32-5-amd64 #1 smp mon oct 3 03:59:20 utc 2011 x86_64 gnulinux '
config_args='-Dprefix=/home/src/perl/repoperls/installed-perls/perl/v5.15.3-362-gc774086/1df5 -Dinstallusrbinperl=n -Uversiononly -Dusedevel -des -Ui_db -Uuseithreads -Uuselongdouble -DDEBUGGING=-g'
hint=recommended, useposix=true, d_sigaction=define
useithreads=undef, usemultiplicity=undef
useperlio=define, d_sfio=undef, uselargefiles=define, usesocks=undef
use64bitint=define, use64bitall=define, uselongdouble=undef
usemymalloc=n, bincompat5005=undef
Compiler:
cc='cc', ccflags ='-fno-strict-aliasing -pipe -fstack-protector -I/usr/local/include -D_LARGEFILE_SOURCE -D_FILE_OFFSET_BITS=64',
optimize='-O2 -g',
cppflags='-fno-strict-aliasing -pipe -fstack-protector -I/usr/local/include'
ccversion='', gccversion='4.4.5', gccosandvers=''
intsize=4, longsize=8, ptrsize=8, doublesize=8, byteorder=12345678
d_longlong=define, longlongsize=8, d_longdbl=define, longdblsize=16
ivtype='long', ivsize=8, nvtype='double', nvsize=8, Off_t='off_t', lseeksize=8
alignbytes=8, prototype=define
Linker and Libraries:
ld='cc', ldflags =' -fstack-protector -L/usr/local/lib'
libpth=/usr/local/lib /lib/../lib /usr/lib/../lib /lib /usr/lib /lib64 /usr/lib64
libs=-lnsl -ldl -lm -lcrypt -lutil -lc
perllibs=-lnsl -ldl -lm -lcrypt -lutil -lc
libc=/lib/libc-2.11.2.so, so=so, useshrplib=false, libperl=libperl.a
gnulibc_version='2.11.2'
Dynamic Linking:
dlsrc=dl_dlopen.xs, dlext=so, d_dlsymun=undef, ccdlflags='-Wl,-E'
cccdlflags='-fPIC', lddlflags='-shared -O2 -g -L/usr/local/lib -fstack-protector'
Characteristics of this binary (from libperl):
Compile-time options: HAS_TIMES PERLIO_LAYERS PERL_DONT_CREATE_GVSV
PERL_MALLOC_WRAP PERL_PRESERVE_IVUV PERL_USE_DEVEL
USE_64_BIT_ALL USE_64_BIT_INT USE_LARGE_FILES
USE_LOCALE USE_LOCALE_COLLATE USE_LOCALE_CTYPE
USE_LOCALE_NUMERIC USE_PERLIO USE_PERL_ATOF
Built under linux
Compiled at Oct 13 2011 06:28:11
%ENV:
PERL5LIB=""
PERL5OPT=""
PERL5_CPANPLUS_IS_RUNNING="8013"
PERL5_CPAN_IS_RUNNING="8013"
PERL_MM_USE_DEFAULT="1"
@INC:
/home/src/perl/repoperls/installed-perls/perl/v5.15.3-362-gc774086/1df5/lib/site_perl/5.15.3/x86_64-linux
/home/src/perl/repoperls/installed-perls/perl/v5.15.3-362-gc774086/1df5/lib/site_perl/5.15.3
/home/src/perl/repoperls/installed-perls/perl/v5.15.3-362-gc774086/1df5/lib/5.15.3/x86_64-linux
/home/src/perl/repoperls/installed-perls/perl/v5.15.3-362-gc774086/1df5/lib/5.15.3
.