Google-Ads-GoogleAds-Client v23.0.0 Perl 5 v5.38.2 x86_64-linux-thread-multi

Status
Pass
From
Slaven Rezić
Dist
Google-Ads-GoogleAds-Client v23.0.0
Platform
Perl 5 v5.38.2 x86_64-linux-thread-multi
Date
2024-06-07 14:11:35
ID
d92724e8-24d7-11ef-b083-1de86d8775ea
This distribution has been tested as part of the CPAN Testers
project, supporting the Perl programming language.  See
http://wiki.cpantesters.org/ for more information or email
questions to cpan-testers-discuss@perl.org


--
Dear Google Ads API,

This is a computer-generated report for Google-Ads-GoogleAds-Client-23.0.0
on perl 5.38.2, created by CPAN-Reporter-1.2019.

Thank you for uploading your work to CPAN.  Congratulations!
All tests were successful.

Sections of this report:

    * Tester comments
    * Program output
    * Prerequisites
    * Environment and other context

------------------------------
TESTER COMMENTS
------------------------------

Additional comments from tester:

none provided

------------------------------
PROGRAM OUTPUT
------------------------------

Output from './Build test':

t/001_require.t ....................... ok
t/011_Client.t ........................ ok
t/012_GoogleAdsException.t ............ ok
t/013_OAuth2ApplicationsHandler.t ..... ok
t/014_GoogleAdsHelper.t ............... ok
t/015_SearchGoogleAdsIterator.t ....... ok
t/016_FieldMasks.t .................... ok
t/017_PartialFailureUtils.t ........... ok
t/018_MediaUtils.t .................... ok
t/019_GoogleAdsLogger.t ............... ok
t/020_ResourcesNames.t ................ ok
t/021_OperationService.t .............. ok
t/022_SearchStreamHandler.t ........... ok
t/023_OAuth2ServiceAccountsHandler.t .. ok
All tests successful.
Files=14, Tests=5547,  3 wallclock secs ( 0.39 usr  0.11 sys +  2.92 cusr  0.59 csys =  4.01 CPU)
Result: PASS

------------------------------
PREREQUISITES
------------------------------

Prerequisite modules loaded:

requires:

    Module                     Need    Have      
    -------------------------- ------- ----------
    Class::Load                0       0.25      
    Class::Std::Fast           0       0.0.8     
    Const::Exporter            0       v1.2.3    
    Crypt::OpenSSL::RSA        0       0.33      
    Cwd                        0       3.89      
    Data::Compare              0       1.29      
    Data::Uniqid               0       0.12      
    Date::Format               0       2.24      
    Date::Parse                0       2.33      
    Digest::SHA                0       6.04      
    Exporter::Auto             0       0.04      
    File::Basename             0       2.86      
    File::HomeDir              0       1.006     
    File::Path                 0       2.18      
    File::Spec                 0       3.88      
    File::Temp                 0       0.2311    
    FindBin                    0       1.53      
    Getopt::Long               0       2.57      
    HTTP::Server::Simple::CGI  0       0         
    IO::Socket::SSL            0       2.084     
    JSON::Parse                0       0.62      
    JSON::SL                   0       1.0.7     
    JSON::WebToken             0       0.10      
    JSON::XS                   0       4.03      
    List::Util                 0       1.63      
    Log::Log4perl              0       1.57      
    LWP::Protocol::https       0       6.14      
    LWP::UserAgent             0       6.72      
    LWP::UserAgent::Determined 0       1.07      
    MIME::Base64               0       3.16_01   
    perl                       v5.28.1 5.038002  
    POSIX                      0       2.13      
    Storable                   0       3.32      
    Template                   0       3.101     
    Time::HiRes                0       1.9775    
    URI::Escape                0       5.25      
    URI::Query                 0       0.16      

build_requires:

    Module                     Need    Have      
    -------------------------- ------- ----------
    Class::Std::Fast           0       0.0.8     
    Config::Properties         0       1.80      
    Module::Build              0       0.4234    
    Test::Deep                 0       1.204     
    Test::Exception            0       0.43      
    Test::MockObject           0       1.20200122
    Test::MockObject::Extends  0       1.20200122
    Test::More                 0       1.302199  

configure_requires:

    Module                     Need    Have      
    -------------------------- ------- ----------
    Module::Build              0.42    0.4234    


------------------------------
ENVIRONMENT AND OTHER CONTEXT
------------------------------

Environment variables:

    LANG = en_US.UTF-8
    PATH = /usr/local/bin:/usr/bin:/bin:/usr/local/sbin:/usr/sbin:/sbin:/home/cpansand/bin/linux-gnu:/home/cpansand/bin/sh:/home/cpansand/bin:/usr/games:/home/cpansand/devel:/home/eserte/src/srezic-misc/scripts
    PERL5LIB = 
    PERL5OPT = 
    PERL5_CPANPLUS_IS_RUNNING = 1189649
    PERL5_CPAN_IS_RUNNING = 1189649
    PERL5_CPAN_IS_RUNNING_IN_RECURSION = 1187962,1189649
    PERLDOC = -MPod::Perldoc::ToTextOverstrike
    PERL_BATCH = yes
    PERL_CANARY_STABILITY_NOPROMPT = 1
    PERL_CPAN_REPORTER_CONFIG = /var/tmp/cpansmoker-1023/2024060714/cpanreporter_000_config.ini
    PERL_EXTUTILS_AUTOINSTALL = --defaultdeps
    PERL_USE_UNSAFE_INC = 1
    SHELL = /usr/bin/zsh
    TERM = screen
    TMPDIR = /var/tmp/cpansmoker-1023/2024060714

Perl special variables (and OS-specific diagnostics, for MSWin32):

    $^X = /opt/perl-5.38.2t/bin/perl
    $UID/$EUID = 1023 / 1023
    $GID = 1023 1023
    $EGID = 1023 1023

Perl module toolchain versions installed:

    Module              Have    
    ------------------- --------
    CPAN                2.36    
    CPAN::Meta          2.150010
    Cwd                 3.89    
    ExtUtils::CBuilder  0.280238
    ExtUtils::Command   7.70    
    ExtUtils::Install   2.22    
    ExtUtils::MakeMaker 7.70    
    ExtUtils::Manifest  1.73    
    ExtUtils::ParseXS   3.51    
    File::Spec          3.88    
    JSON                4.10    
    JSON::PP            4.16    
    Module::Build       0.4234  
    Module::Signature   n/a     
    Parse::CPAN::Meta   2.150010
    Test2               1.302199
    Test::Harness       3.44    
    Test::More          1.302199
    YAML                1.31    
    YAML::Syck          1.34    
    version             0.9929  


--

Summary of my perl5 (revision 5 version 38 subversion 2) configuration:
   
  Platform:
    osname=linux
    osvers=6.6.8-100.fc38.x86_64
    archname=x86_64-linux-thread-multi
    uname='linux fedora39-2gb-hil 6.6.8-100.fc38.x86_64 #1 smp preempt_dynamic thu dec 21 04:01:45 utc 2023 x86_64 gnulinux '
    config_args='-ds -e -Dprefix=/opt/perl-5.38.2t -Dusethreads -Dcf_email=srezic@cpan.org'
    hint=recommended
    useposix=true
    d_sigaction=define
    useithreads=define
    usemultiplicity=define
    use64bitint=define
    use64bitall=define
    uselongdouble=undef
    usemymalloc=n
    default_inc_excludes_dot=define
  Compiler:
    cc='cc'
    ccflags ='-D_REENTRANT -D_GNU_SOURCE -fwrapv -fno-strict-aliasing -pipe -fstack-protector-strong -I/usr/local/include -D_LARGEFILE_SOURCE -D_FILE_OFFSET_BITS=64 -D_FORTIFY_SOURCE=2'
    optimize='-O2'
    cppflags='-D_REENTRANT -D_GNU_SOURCE -fwrapv -fno-strict-aliasing -pipe -fstack-protector-strong -I/usr/local/include'
    ccversion=''
    gccversion='13.2.1 20231205 (Red Hat 13.2.1-6)'
    gccosandvers=''
    intsize=4
    longsize=8
    ptrsize=8
    doublesize=8
    byteorder=12345678
    doublekind=3
    d_longlong=define
    longlongsize=8
    d_longdbl=define
    longdblsize=16
    longdblkind=3
    ivtype='long'
    ivsize=8
    nvtype='double'
    nvsize=8
    Off_t='off_t'
    lseeksize=8
    alignbytes=8
    prototype=define
  Linker and Libraries:
    ld='cc'
    ldflags =' -fstack-protector-strong -L/usr/local/lib'
    libpth=/usr/local/lib /usr/lib /usr/lib64 /usr/local/lib64
    libs=-lpthread -ldb -ldl -lm -lcrypt -lutil -lc
    perllibs=-lpthread -ldl -lm -lcrypt -lutil -lc
    libc=/lib/../lib64/libc.so.6
    so=so
    useshrplib=false
    libperl=libperl.a
    gnulibc_version='2.38'
  Dynamic Linking:
    dlsrc=dl_dlopen.xs
    dlext=so
    d_dlsymun=undef
    ccdlflags='-Wl,-E'
    cccdlflags='-fPIC'
    lddlflags='-shared -O2 -L/usr/local/lib -fstack-protector-strong'


Characteristics of this binary (from libperl): 
  Compile-time options:
    HAS_LONG_DOUBLE
    HAS_STRTOLD
    HAS_TIMES
    MULTIPLICITY
    PERLIO_LAYERS
    PERL_COPY_ON_WRITE
    PERL_DONT_CREATE_GVSV
    PERL_HASH_FUNC_SIPHASH13
    PERL_HASH_USE_SBOX32
    PERL_MALLOC_WRAP
    PERL_OP_PARENT
    PERL_PRESERVE_IVUV
    PERL_USE_SAFE_PUTENV
    USE_64_BIT_ALL
    USE_64_BIT_INT
    USE_ITHREADS
    USE_LARGE_FILES
    USE_LOCALE
    USE_LOCALE_COLLATE
    USE_LOCALE_CTYPE
    USE_LOCALE_NUMERIC
    USE_LOCALE_TIME
    USE_PERLIO
    USE_PERL_ATOF
    USE_REENTRANT_API
    USE_THREAD_SAFE_LOCALE
  Built under linux
  Compiled at Dec 27 2023 08:41:53
  %ENV:
    PERL5LIB=""
    PERL5OPT=""
    PERL5_CPANPLUS_IS_RUNNING="1189649"
    PERL5_CPAN_IS_RUNNING="1189649"
    PERL5_CPAN_IS_RUNNING_IN_RECURSION="1187962,1189649"
    PERLDOC="-MPod::Perldoc::ToTextOverstrike"
    PERL_BATCH="yes"
    PERL_CANARY_STABILITY_NOPROMPT="1"
    PERL_CPAN_REPORTER_CONFIG="/var/tmp/cpansmoker-1023/2024060714/cpanreporter_000_config.ini"
    PERL_EXTUTILS_AUTOINSTALL="--defaultdeps"
    PERL_USE_UNSAFE_INC="1"
  @INC:
    /opt/perl-5.38.2t/lib/site_perl/5.38.2/x86_64-linux-thread-multi
    /opt/perl-5.38.2t/lib/site_perl/5.38.2
    /opt/perl-5.38.2t/lib/5.38.2/x86_64-linux-thread-multi
    /opt/perl-5.38.2t/lib/5.38.2
    .