App-perlbrew v0.98 Perl 5 v5.24.0 x86_64-linux

Status
Pass
From
Slaven Rezić
Dist
App-perlbrew v0.98
Platform
Perl 5 v5.24.0 x86_64-linux
Date
2023-08-11 14:46:25
ID
d8d4127c-3855-11ee-afc8-1a166e8775ea
This distribution has been tested as part of the CPAN Testers
project, supporting the Perl programming language.  See
http://wiki.cpantesters.org/ for more information or email
questions to cpan-testers-discuss@perl.org


--
Dear Liu Kang Min,

This is a computer-generated report for App-perlbrew-0.98
on perl 5.24.0, created by CPAN-Reporter-1.2018.

Thank you for uploading your work to CPAN.  Congratulations!
All tests were successful.

Sections of this report:

    * Tester comments
    * Program output
    * Prerequisites
    * Environment and other context

------------------------------
TESTER COMMENTS
------------------------------

Additional comments from tester:

none provided

------------------------------
PROGRAM OUTPUT
------------------------------

Output from './Build test':

t/00.load.t ............................... ok
t/01.options.t ............................ ok
t/02.format_perl_version.t ................ ok
t/03.test_get_available_versions.t ........ ok
t/04.find_available_perls.t ............... ok
t/05.get_current_perl.t ................... ok
t/06.installed_perls.t .................... skipped: No perl installation under PERLBREW_ROOT
t/07.argv.t ............................... ok
t/08.error_available.t .................... ok
t/08.error_install.t ...................... ok
t/08.error_install_blead.t ................ ok
t/08.error_install_cpanm.t ................ ok
t/08.error_install_cpm.t .................. ok
t/09.exit_status.t ........................ ok
t/10.resolve.t ............................ ok
t/11.editdist.t ........................... ok
t/11.root_from_arg.t ...................... ok
t/12.destdir.t ............................ ok
t/12.sitecustomize.t ...................... ok
t/13.perl_release.t ....................... ok
t/14.perl_version_parsing.t ............... ok
# /var/tmp/cpansmoker-1023/2023081116/jtqaVJXu6w/build/test/test
t/15.no-reuse-build-dir.t ................. ok
t/16.release-detail.t ..................... ok
t/18.release-detail-perl-local.t .......... ok
t/18.release-detail-perl-remote.t ......... skipped: These tests send HTTP requests. Set env TEST_LIVE=1 to really run them.
# alias, available, clean, clone-modules, compgen, display-bashrc, display-cshrc, display-installation-failure-message, display-pristine-manpath, display-pristine-path, display-system-perl-executable, display-system-perl-shebang, download, env, exec, help, info, init, init-in-bash, install, install-cpanm, install-cpm, install-multiple, install-patchperl, lib, lib-create, lib-delete, lib-list, list, list-modules, make-pp, make-shim, off, self-install, self-upgrade, switch, switch-off, symlink-executables, uninstall, upgrade-perl, use, version
t/19.find_similar_commands.t .............. ok
t/app-perlbrew-path-installation.t ........ ok
t/app-perlbrew-path.t ..................... ok
t/bashrc_content.t ........................ ok
t/builddir.t .............................. ok
t/command-alias.t ......................... ok
t/command-available.t ..................... ok
t/command-clone-modules.t ................. ok
t/command-compgen.t ....................... ok
t/command-display-rc.t .................... ok
Attempting to create directory /var/tmp/cpansmoker-1023/2023081116/gmsuq4g4mw/libs/perl-5.14.1@nobita
t/command-env.t ........................... ok
sort (...) interpreted as function at t/command-exec.t line 283.
sort (...) interpreted as function at t/command-exec.t line 305.
Command [perl -E 'somesub 42'] terminated with exit code 7 ($? = 1792) under the following perl environment:
format_info_output_value
Command [perl -E 'say 42'] terminated with exit code 3 ($? = 768) under the following perl environment:
Command [perl -E 'say 42'] terminated with exit code 3 ($? = 768) under the following perl environment:
Command [perl -E 'say 42'] terminated with exit code 3 ($? = 768) under the following perl environment:
Command [perl -E 'say 42'] terminated with exit code 255 ($? = -1) under the following perl environment:
Command [perl -E 'say 42'] terminated with exit code 7 ($? = 1792) under the following perl environment:
t/command-exec.t .......................... ok
t/command-help.t .......................... ok
t/command-info.t .......................... ok
t/command-install-cpanm.t ................. ok
t/command-install-cpm.t ................... ok
t/command-install-from-archive.t .......... ok
t/command-install-patchperl.t ............. ok
t/command-install.t ....................... ok
t/command-lib.t ........................... ok
t/command-list.t .......................... ok
# 
# The content of shim:
# ----
# #!/bin/zsh
# export PERL5LIB="/home/cpansand/.cpan/build/2023081116/App-perlbrew-0.98-2/blib/arch:/home/cpansand/.cpan/build/2023081116/App-perlbrew-0.98-2/blib/lib:/home/cpansand/.cpan/build/2023081116/Pod-Usage-2.03-0/blib/arch:/home/cpansand/.cpan/build/2023081116/Pod-Usage-2.03-0/blib/lib:/home/cpansand/.cpan/build/2023081116/Pod-Simple-3.45-0/blib/arch:/home/cpansand/.cpan/build/2023081116/Pod-Simple-3.45-0/blib/lib:/home/cpansand/.cpan/build/2023081116/Pod-Perldoc-3.28-0/blib/arch:/home/cpansand/.cpan/build/2023081116/Pod-Perldoc-3.28-0/blib/lib:/home/cpansand/.cpan/build/2023081116/Devel-PatchPerl-2.08-2/blib/arch:/home/cpansand/.cpan/build/2023081116/Devel-PatchPerl-2.08-2/blib/lib:/home/cpansand/.cpan/build/2023081116/Capture-Tiny-0.48-2/blib/arch:/home/cpansand/.cpan/build/2023081116/Capture-Tiny-0.48-2/blib/lib:/home/cpansand/.cpan/build/2023081116/CPAN-Perl-Releases-5.20230720-2/blib/arch:/home/cpansand/.cpan/build/2023081116/CPAN-Perl-Releases-5.20230720-2/blib/lib"
# unset PERLBREW_LIB
# export PERLBREW_MANPATH="/var/tmp/cpansmoker-1023/2023081116/omBmYmt075/perls/perl-5.36.1/man"
# export PERLBREW_PATH="/var/tmp/cpansmoker-1023/2023081116/omBmYmt075/bin:/var/tmp/cpansmoker-1023/2023081116/omBmYmt075/perls/perl-5.36.1/bin"
# export PERLBREW_PERL="perl-5.36.1"
# export PERLBREW_ROOT="/var/tmp/cpansmoker-1023/2023081116/omBmYmt075"
# export PERLBREW_VERSION="0.98"
# unset PERL_LOCAL_LIB_ROOT
# 
# export PATH="/var/tmp/cpansmoker-1023/2023081116/omBmYmt075/bin:/var/tmp/cpansmoker-1023/2023081116/omBmYmt075/perls/perl-5.36.1/bin:/usr/local/bin:/usr/bin:/bin:/usr/local/sbin:/usr/sbin:/sbin:/home/cpansand/bin/linux-gnu:/home/cpansand/bin/sh:/home/cpansand/bin:/usr/games:/home/cpansand/devel:/home/eserte/src/srezic-misc/scripts"
# 
# exec foo "$@"
# 
# 
# ----
# 
# The content of shim:
# ----
# #!/bin/zsh
# export PERL5LIB="/home/cpansand/.cpan/build/2023081116/App-perlbrew-0.98-2/blib/arch:/home/cpansand/.cpan/build/2023081116/App-perlbrew-0.98-2/blib/lib:/home/cpansand/.cpan/build/2023081116/Pod-Usage-2.03-0/blib/arch:/home/cpansand/.cpan/build/2023081116/Pod-Usage-2.03-0/blib/lib:/home/cpansand/.cpan/build/2023081116/Pod-Simple-3.45-0/blib/arch:/home/cpansand/.cpan/build/2023081116/Pod-Simple-3.45-0/blib/lib:/home/cpansand/.cpan/build/2023081116/Pod-Perldoc-3.28-0/blib/arch:/home/cpansand/.cpan/build/2023081116/Pod-Perldoc-3.28-0/blib/lib:/home/cpansand/.cpan/build/2023081116/Devel-PatchPerl-2.08-2/blib/arch:/home/cpansand/.cpan/build/2023081116/Devel-PatchPerl-2.08-2/blib/lib:/home/cpansand/.cpan/build/2023081116/Capture-Tiny-0.48-2/blib/arch:/home/cpansand/.cpan/build/2023081116/Capture-Tiny-0.48-2/blib/lib:/home/cpansand/.cpan/build/2023081116/CPAN-Perl-Releases-5.20230720-2/blib/arch:/home/cpansand/.cpan/build/2023081116/CPAN-Perl-Releases-5.20230720-2/blib/lib"
# unset PERLBREW_LIB
# export PERLBREW_MANPATH="/var/tmp/cpansmoker-1023/2023081116/omBmYmt075/perls/perl-5.36.1/man"
# export PERLBREW_PATH="/var/tmp/cpansmoker-1023/2023081116/omBmYmt075/bin:/var/tmp/cpansmoker-1023/2023081116/omBmYmt075/perls/perl-5.36.1/bin"
# export PERLBREW_PERL="perl-5.36.1"
# export PERLBREW_ROOT="/var/tmp/cpansmoker-1023/2023081116/omBmYmt075"
# export PERLBREW_VERSION="0.98"
# unset PERL_LOCAL_LIB_ROOT
# 
# export PATH="/var/tmp/cpansmoker-1023/2023081116/omBmYmt075/bin:/var/tmp/cpansmoker-1023/2023081116/omBmYmt075/perls/perl-5.36.1/bin:/usr/local/bin:/usr/bin:/bin:/usr/local/sbin:/usr/sbin:/sbin:/home/cpansand/bin/linux-gnu:/home/cpansand/bin/sh:/home/cpansand/bin:/usr/games:/home/cpansand/devel:/home/eserte/src/srezic-misc/scripts"
# 
# exec bar "$@"
# 
# 
# ----
t/command-make-shim.t ..................... ok
t/current_perl.t .......................... ok
t/current_shell.t ......................... ok
t/do_system.t ............................. ok
t/error-http_download-exec-error.t ........ ok
t/error-http_download-exit-nonzero.t ...... ok
t/error-http_download-param-validation.t .. ok
t/error-install-before-init.t ............. ok
t/failure-command-install-cpanm.t ......... ok
t/failure-command-install-cpm.t ........... ok
t/failure-command-install-patchperl.t ..... ok
t/home.t .................................. ok
t/http-program-control.t .................. ok
# PATH=/home/cpansand/.cpan/build/2023081116/App-perlbrew-0.98-2/t/fake-bin:/usr/local/bin:/usr/bin:/bin:/usr/local/sbin:/usr/sbin:/sbin:/home/cpansand/bin/linux-gnu:/home/cpansand/bin/sh:/home/cpansand/bin:/usr/games:/home/cpansand/devel:/home/eserte/src/srezic-misc/scripts
# curl = /home/cpansand/.cpan/build/2023081116/App-perlbrew-0.98-2/t/fake-bin/curl
t/http-ua-detect-non-curl.t ............... ok
t/http-ua-detect.t ........................ ok
t/http.t .................................. skipped: (no reason given)
t/installation-perlbrew.t ................. ok
t/installation.t .......................... ok
t/installation2.t ......................... ok
t/installation3.t ......................... ok
t/list_modules.t .......................... ok
t/unit-files-are-the-same.t ............... ok
t/util-find-similar-tokens.t .............. ok
All tests successful.
Files=69, Tests=437,  7 wallclock secs ( 0.07 usr  0.10 sys +  4.49 cusr  1.27 csys =  5.93 CPU)
Result: PASS

------------------------------
PREREQUISITES
------------------------------

Prerequisite modules loaded:

requires:

    Module               Need       Have      
    -------------------- ---------- ----------
    Capture::Tiny        0.48       0.48      
    CPAN::Perl::Releases 5.20230720 5.20230720
    Devel::PatchPerl     2.08       2.08      
    ExtUtils::MakeMaker  7.22       7.24      
    File::Copy           0          2.31      
    File::Temp           0.2304     0.2304    
    JSON::PP             0          2.27300   
    local::lib           2.000014   2.000019  
    Pod::Usage           1.69       2.03      

build_requires:

    Module               Need       Have      
    -------------------- ---------- ----------
    File::Which          1.21       1.21      
    IO::All              0.51       0.86      
    Path::Class          0.33       0.37      
    Test::Exception      0.32       0.43      
    Test::More           1.001002   1.302052  
    Test::NoWarnings     1.04       1.04      
    Test::Output         1.03       1.03      
    Test::Simple         1.001002   1.302052  
    Test::Spec           0.49       0.51      
    Test::TempDir::Tiny  0.016      0.016     

configure_requires:

    Module               Need       Have      
    -------------------- ---------- ----------
    Module::Build::Tiny  0.039      0.039     


------------------------------
ENVIRONMENT AND OTHER CONTEXT
------------------------------

Environment variables:

    LANG = en_US.UTF-8
    LANGUAGE = en_US:en
    LC_ALL = en_US.UTF-8
    PATH = /usr/local/bin:/usr/bin:/bin:/usr/local/sbin:/usr/sbin:/sbin:/home/cpansand/bin/linux-gnu:/home/cpansand/bin/sh:/home/cpansand/bin:/usr/games:/home/cpansand/devel:/home/eserte/src/srezic-misc/scripts
    PERL5LIB = /home/cpansand/.cpan/build/2023081116/Pod-Usage-2.03-0/blib/arch:/home/cpansand/.cpan/build/2023081116/Pod-Usage-2.03-0/blib/lib:/home/cpansand/.cpan/build/2023081116/Pod-Simple-3.45-0/blib/arch:/home/cpansand/.cpan/build/2023081116/Pod-Simple-3.45-0/blib/lib:/home/cpansand/.cpan/build/2023081116/Pod-Perldoc-3.28-0/blib/arch:/home/cpansand/.cpan/build/2023081116/Pod-Perldoc-3.28-0/blib/lib:/home/cpansand/.cpan/build/2023081116/Devel-PatchPerl-2.08-2/blib/arch:/home/cpansand/.cpan/build/2023081116/Devel-PatchPerl-2.08-2/blib/lib:/home/cpansand/.cpan/build/2023081116/Capture-Tiny-0.48-2/blib/arch:/home/cpansand/.cpan/build/2023081116/Capture-Tiny-0.48-2/blib/lib:/home/cpansand/.cpan/build/2023081116/CPAN-Perl-Releases-5.20230720-2/blib/arch:/home/cpansand/.cpan/build/2023081116/CPAN-Perl-Releases-5.20230720-2/blib/lib
    PERL5OPT = 
    PERL5_CPANPLUS_IS_RUNNING = 25714
    PERL5_CPAN_IS_RUNNING = 25714
    PERL5_CPAN_IS_RUNNING_IN_RECURSION = 8118,25714
    PERLDOC = -MPod::Perldoc::ToTextOverstrike
    PERL_BATCH = yes
    PERL_CANARY_STABILITY_NOPROMPT = 1
    PERL_CPAN_REPORTER_CONFIG = /var/tmp/cpansmoker-1023/2023081116/cpanreporter_000_config.ini
    PERL_EXTUTILS_AUTOINSTALL = --defaultdeps
    PERL_USE_UNSAFE_INC = 1
    SHELL = /bin/zsh
    TERM = screen
    TMPDIR = /var/tmp/cpansmoker-1023/2023081116

Perl special variables (and OS-specific diagnostics, for MSWin32):

    $^X = /opt/perl-5.24.0/bin/perl
    $UID/$EUID = 1023 / 1023
    $GID = 1023 1023
    $EGID = 1023 1023

Perl module toolchain versions installed:

    Module              Have    
    ------------------- --------
    CPAN                2.28    
    CPAN::Meta          2.150010
    Cwd                 3.63    
    ExtUtils::CBuilder  0.280225
    ExtUtils::Command   7.24    
    ExtUtils::Install   2.04    
    ExtUtils::MakeMaker 7.24    
    ExtUtils::Manifest  1.70    
    ExtUtils::ParseXS   3.31    
    File::Spec          3.63    
    JSON                2.90    
    JSON::PP            2.27300 
    Module::Build       0.4220  
    Module::Signature   0.80    
    Parse::CPAN::Meta   2.150010
    Test::Harness       3.36    
    Test::More          1.302052
    YAML                1.17    
    YAML::Syck          1.29    
    version             0.9916  


--

Summary of my perl5 (revision 5 version 24 subversion 0) configuration:
   
  Platform:
    osname=linux, osvers=3.2.0-4-amd64, archname=x86_64-linux
    uname='linux cvrsnica-wheezy 3.2.0-4-amd64 #1 smp debian 3.2.54-2 x86_64 gnulinux '
    config_args='-ds -e -Dprefix=/opt/perl-5.24.0 -Dcf_email=srezic@cpan.org'
    hint=recommended, useposix=true, d_sigaction=define
    useithreads=undef, usemultiplicity=undef
    use64bitint=define, use64bitall=define, uselongdouble=undef
    usemymalloc=n, bincompat5005=undef
  Compiler:
    cc='cc', ccflags ='-fwrapv -fno-strict-aliasing -pipe -fstack-protector -I/usr/local/include -D_LARGEFILE_SOURCE -D_FILE_OFFSET_BITS=64 -D_FORTIFY_SOURCE=2',
    optimize='-O2',
    cppflags='-fwrapv -fno-strict-aliasing -pipe -fstack-protector -I/usr/local/include'
    ccversion='', gccversion='4.7.2', gccosandvers=''
    intsize=4, longsize=8, ptrsize=8, doublesize=8, byteorder=12345678, doublekind=3
    d_longlong=define, longlongsize=8, d_longdbl=define, longdblsize=16, longdblkind=3
    ivtype='long', ivsize=8, nvtype='double', nvsize=8, Off_t='off_t', lseeksize=8
    alignbytes=8, prototype=define
  Linker and Libraries:
    ld='cc', ldflags =' -fstack-protector -L/usr/local/lib'
    libpth=/usr/local/lib /usr/lib/gcc/x86_64-linux-gnu/4.7/include-fixed /usr/include/x86_64-linux-gnu /usr/lib /lib/x86_64-linux-gnu /lib/../lib /usr/lib/x86_64-linux-gnu /usr/lib/../lib /lib
    libs=-lpthread -lnsl -ldb -ldl -lm -lcrypt -lutil -lc
    perllibs=-lpthread -lnsl -ldl -lm -lcrypt -lutil -lc
    libc=libc-2.13.so, so=so, useshrplib=false, libperl=libperl.a
    gnulibc_version='2.13'
  Dynamic Linking:
    dlsrc=dl_dlopen.xs, dlext=so, d_dlsymun=undef, ccdlflags='-Wl,-E'
    cccdlflags='-fPIC', lddlflags='-shared -O2 -L/usr/local/lib -fstack-protector'


Characteristics of this binary (from libperl): 
  Compile-time options: HAS_TIMES PERLIO_LAYERS PERL_COPY_ON_WRITE
                        PERL_DONT_CREATE_GVSV
                        PERL_HASH_FUNC_ONE_AT_A_TIME_HARD PERL_MALLOC_WRAP
                        PERL_PRESERVE_IVUV USE_64_BIT_ALL USE_64_BIT_INT
                        USE_LARGE_FILES USE_LOCALE USE_LOCALE_COLLATE
                        USE_LOCALE_CTYPE USE_LOCALE_NUMERIC USE_LOCALE_TIME
                        USE_PERLIO USE_PERL_ATOF
  Built under linux
  Compiled at May 30 2016 08:43:25
  %ENV:
    PERL5LIB="/home/cpansand/.cpan/build/2023081116/Pod-Usage-2.03-0/blib/arch:/home/cpansand/.cpan/build/2023081116/Pod-Usage-2.03-0/blib/lib:/home/cpansand/.cpan/build/2023081116/Pod-Simple-3.45-0/blib/arch:/home/cpansand/.cpan/build/2023081116/Pod-Simple-3.45-0/blib/lib:/home/cpansand/.cpan/build/2023081116/Pod-Perldoc-3.28-0/blib/arch:/home/cpansand/.cpan/build/2023081116/Pod-Perldoc-3.28-0/blib/lib:/home/cpansand/.cpan/build/2023081116/Devel-PatchPerl-2.08-2/blib/arch:/home/cpansand/.cpan/build/2023081116/Devel-PatchPerl-2.08-2/blib/lib:/home/cpansand/.cpan/build/2023081116/Capture-Tiny-0.48-2/blib/arch:/home/cpansand/.cpan/build/2023081116/Capture-Tiny-0.48-2/blib/lib:/home/cpansand/.cpan/build/2023081116/CPAN-Perl-Releases-5.20230720-2/blib/arch:/home/cpansand/.cpan/build/2023081116/CPAN-Perl-Releases-5.20230720-2/blib/lib"
    PERL5OPT=""
    PERL5_CPANPLUS_IS_RUNNING="25714"
    PERL5_CPAN_IS_RUNNING="25714"
    PERL5_CPAN_IS_RUNNING_IN_RECURSION="8118,25714"
    PERLDOC="-MPod::Perldoc::ToTextOverstrike"
    PERL_BATCH="yes"
    PERL_CANARY_STABILITY_NOPROMPT="1"
    PERL_CPAN_REPORTER_CONFIG="/var/tmp/cpansmoker-1023/2023081116/cpanreporter_000_config.ini"
    PERL_EXTUTILS_AUTOINSTALL="--defaultdeps"
    PERL_USE_UNSAFE_INC="1"
  @INC:
    /home/cpansand/.cpan/build/2023081116/Pod-Usage-2.03-0/blib/arch
    /home/cpansand/.cpan/build/2023081116/Pod-Usage-2.03-0/blib/lib
    /home/cpansand/.cpan/build/2023081116/Pod-Simple-3.45-0/blib/arch
    /home/cpansand/.cpan/build/2023081116/Pod-Simple-3.45-0/blib/lib
    /home/cpansand/.cpan/build/2023081116/Pod-Perldoc-3.28-0/blib/arch
    /home/cpansand/.cpan/build/2023081116/Pod-Perldoc-3.28-0/blib/lib
    /home/cpansand/.cpan/build/2023081116/Devel-PatchPerl-2.08-2/blib/arch
    /home/cpansand/.cpan/build/2023081116/Devel-PatchPerl-2.08-2/blib/lib
    /home/cpansand/.cpan/build/2023081116/Capture-Tiny-0.48-2/blib/arch
    /home/cpansand/.cpan/build/2023081116/Capture-Tiny-0.48-2/blib/lib
    /home/cpansand/.cpan/build/2023081116/CPAN-Perl-Releases-5.20230720-2/blib/arch
    /home/cpansand/.cpan/build/2023081116/CPAN-Perl-Releases-5.20230720-2/blib/lib
    /opt/perl-5.24.0/lib/site_perl/5.24.0/x86_64-linux
    /opt/perl-5.24.0/lib/site_perl/5.24.0
    /opt/perl-5.24.0/lib/5.24.0/x86_64-linux
    /opt/perl-5.24.0/lib/5.24.0
    .