Back
From: metabase:user:322078bc-2aae-11df-837a-5e0a49663a4f
Subject: PASS Dist-Zilla-Plugin-CheckExtraTests-0.021 v5.18.1 FreeBSD
Date: 2014-03-28T00:06:44Z
This distribution has been tested as part of the CPAN Testers
project, supporting the Perl programming language. See
http://wiki.cpantesters.org/ for more information or email
questions to cpan-testers-discuss@perl.org
--
Dear David Golden,
This is a computer-generated error report created automatically by
CPANPLUS, version 0.9148. Testers personal comments may appear
at the end of this report.
Thank you for uploading your work to CPAN. Congratulations!
All tests were successful.
TEST RESULTS:
Below is the error stack from stage 'make test':
PERL_DL_NONLAZY=1 /opt/perl-5.18.1/bin/perl "-MExtUtils::Command::MM" "-MTest::Harness" "-e" "undef *Test::Harness::Switches; test_harness(0, 'blib/lib', 'blib/arch')" t/*.t
#
# Versions for all modules listed in MYMETA.json (including optional ones):
# Version Module
# -------- --------------------------------
# 3.30 App::Prove
# 1.96 Archive::Tar
# 2.140640 CPAN::Meta
# 2.125 CPAN::Meta::Requirements
# 0.24 Capture::Tiny
# 5.014 Dist::Zilla
# 5.014 Dist::Zilla::App
# 5.014 Dist::Zilla::App::Tester
# 5.014 Dist::Zilla::Role::BeforeRelease
# 5.014 Dist::Zilla::Role::TestRunner
# 5.014 Dist::Zilla::Tester
# 6.92 ExtUtils::MakeMaker
# 3.40 File::Spec::Functions
# 1.005 File::pushd
# 1.38 List::Util
# 2.1204 Moose
# 0.15 Moose::Autobox
# 1.07 Params::Util
# 1.008 Path::Iterator::Rule
# 0.052 Path::Tiny
# 0.987 Sub::Exporter
# 1.001003 Test::More
# 0.07 Test::Requires
# 0.20 Try::Tiny
# 0.63 lib
# 0.15 namespace::autoclean
# 1.07 strict
# 0.9908 version
# 1.18 warnings
t/00-report-prereqs.t .. ok
t/checkxt.t ............ ok
t/runxt.t .............. ok
t/withblib.t ........... ok
All tests successful.
Files=4, Tests=16, 64 wallclock secs ( 0.12 usr 0.10 sys + 48.40 cusr 10.52 csys = 59.15 CPU)
Result: PASS
PREREQUISITES:
Here is a list of prerequisites you specified and versions we
managed to load:
Module Name Have Want
App::Prove 3.30 3.00
Archive::Tar 1.96 0
Capture::Tiny 0.24 0
Dist::Zilla 5.014 4.3
Dist::Zilla::App 5.014 0
Dist::Zilla::App::Tester 5.014 0
Dist::Zilla::Role::BeforeRelease 5.014 0
Dist::Zilla::Role::TestRunner 5.014 0
Dist::Zilla::Tester 5.014 0
ExtUtils::MakeMaker 6.92 0
File::Spec::Functions 3.40 0
File::pushd 1.005 0
List::Util 1.38 0
Moose 2.1204 2
Moose::Autobox 0.15 0
Params::Util 1.07 0
Path::Iterator::Rule 1.008 0
Path::Tiny 0.052 0.013
Sub::Exporter 0.987 0
Test::More 1.001003 0.88
Test::Requires 0.07 0
Try::Tiny 0.20 0
lib 0.63 0
namespace::autoclean 0.15 0.09
strict 1.07 0
version 0.9908 0
warnings 1.18 0
Perl module toolchain versions installed:
Module Name Have
CPANPLUS 0.9148
CPANPLUS::Dist::Build 0.76
Cwd 3.40
ExtUtils::CBuilder 0.280216
ExtUtils::Command 1.18
ExtUtils::Install 1.63
ExtUtils::MakeMaker 6.92
ExtUtils::Manifest 1.63
ExtUtils::ParseXS 3.24
File::Spec 3.40
Module::Build 0.4205
Pod::Parser 1.62
Pod::Simple 3.28
Test::Harness 3.30
Test::More 1.001003
version 0.9908
******************************** NOTE ********************************
The comments above are created mechanically, possibly without manual
checking by the sender. As there are many people performing automatic
tests on each upload to CPAN, it is likely that you will receive
identical messages about the same problem.
If you believe that the message is mistaken, please reply to the first
one with correction and/or additional informations, and do not take
it personally. We appreciate your patience. :)
**********************************************************************
Additional comments:
This report was machine-generated by CPANPLUS::Dist::YACSmoke 0.90.
------------------------------
ENVIRONMENT AND OTHER CONTEXT
------------------------------
Environment variables:
AUTOMATED_TESTING = 1
PATH = /opt/perl-5.18.1/.cpanplus/5.18.1/build/Archive-Zip-1.37/blib/script:/sbin:/bin:/usr/sbin:/usr/bin:/usr/games:/usr/local/sbin:/usr/local/bin:/root/bin
PERL5LIB = :/opt/perl-5.18.1/.cpanplus/5.18.1/build/Archive-Zip-1.37/blib/lib:/opt/perl-5.18.1/.cpanplus/5.18.1/build/Archive-Zip-1.37/blib/arch:/opt/perl-5.18.1/.cpanplus/5.18.1/build/Dist-Zilla-Plugin-CheckExtraTests-0.021/blib/lib:/opt/perl-5.18.1/.cpanplus/5.18.1/build/Dist-Zilla-Plugin-CheckExtraTests-0.021/blib/arch
PERL5_CPANIDX_URL = http://cpan.mirror.local/cpanidx/
PERL5_CPANPLUS_HOME = /opt/perl-5.18.1/
PERL5_CPANPLUS_IS_RUNNING = 45933
PERL5_CPANPLUS_IS_VERSION = 0.9148
PERL_EXTUTILS_AUTOINSTALL = --defaultdeps
PERL_MM_USE_DEFAULT = 1
SHELL = /bin/csh
TERM = screen
Perl special variables (and OS-specific diagnostics, for MSWin32):
Perl: $^X = /opt/perl-5.18.1/bin/perl
UID: $< = 0
EUID: $> = 0
GID: $( = 0 0 5
EGID: $) = 0 0 5
-------------------------------
--
Summary of my perl5 (revision 5 version 18 subversion 1) configuration:
Platform:
osname=freebsd, osvers=9.2-release, archname=i386-freebsd
uname='freebsd canker 9.2-release freebsd 9.2-release #0 r255898: fri sep 27 03:52:52 utc 2013 root@bake.isc.freebsd.org:usrobjusrsrcsysgeneric i386 '
config_args='-des -Dprefix=/opt/perl-5.18.1 -Dcc=clang'
hint=recommended, useposix=true, d_sigaction=define
useithreads=undef, usemultiplicity=undef
useperlio=define, d_sfio=undef, uselargefiles=define, usesocks=undef
use64bitint=undef, use64bitall=undef, uselongdouble=undef
usemymalloc=n, bincompat5005=undef
Compiler:
cc='clang', ccflags ='-DHAS_FPSETMASK -DHAS_FLOATINGPOINT_H -fno-strict-aliasing -pipe -fstack-protector -I/usr/local/include',
optimize='-O',
cppflags='-DHAS_FPSETMASK -DHAS_FLOATINGPOINT_H -fno-strict-aliasing -pipe -fstack-protector -I/usr/local/include'
ccversion='', gccversion='4.2.1 Compatible FreeBSD Clang 3.3 (tags/RELEASE_33/final 183502)', gccosandvers=''
intsize=4, longsize=4, ptrsize=4, doublesize=8, byteorder=1234
d_longlong=define, longlongsize=8, d_longdbl=define, longdblsize=12
ivtype='long', ivsize=4, nvtype='double', nvsize=8, Off_t='off_t', lseeksize=8
alignbytes=4, prototype=define
Linker and Libraries:
ld='clang', ldflags ='-Wl,-E -fstack-protector -L/usr/local/lib'
libpth=/usr/lib /usr/local/lib
libs=-lgdbm -lm -lcrypt -lutil -lc
perllibs=-lm -lcrypt -lutil -lc
libc=, so=so, useshrplib=false, libperl=libperl.a
gnulibc_version=''
Dynamic Linking:
dlsrc=dl_dlopen.xs, dlext=so, d_dlsymun=undef, ccdlflags=' '
cccdlflags='-DPIC -fPIC', lddlflags='-shared -L/usr/local/lib -fstack-protector'
Characteristics of this binary (from libperl):
Compile-time options: HAS_TIMES PERLIO_LAYERS PERL_DONT_CREATE_GVSV
PERL_HASH_FUNC_ONE_AT_A_TIME_HARD PERL_MALLOC_WRAP
PERL_PRESERVE_IVUV PERL_SAWAMPERSAND USE_LARGE_FILES
USE_LOCALE USE_LOCALE_COLLATE USE_LOCALE_CTYPE
USE_LOCALE_NUMERIC USE_PERLIO USE_PERL_ATOF
Built under freebsd
Compiled at Sep 30 2013 20:57:58
%ENV:
PERL5LIB=":/opt/perl-5.18.1/.cpanplus/5.18.1/build/Archive-Zip-1.37/blib/lib:/opt/perl-5.18.1/.cpanplus/5.18.1/build/Archive-Zip-1.37/blib/arch:/opt/perl-5.18.1/.cpanplus/5.18.1/build/Dist-Zilla-Plugin-CheckExtraTests-0.021/blib/lib:/opt/perl-5.18.1/.cpanplus/5.18.1/build/Dist-Zilla-Plugin-CheckExtraTests-0.021/blib/arch"
PERL5_CPANIDX_URL="http://cpan.mirror.local/cpanidx/"
PERL5_CPANPLUS_HOME="/opt/perl-5.18.1/"
PERL5_CPANPLUS_IS_RUNNING="45933"
PERL5_CPANPLUS_IS_VERSION="0.9148"
PERL_EXTUTILS_AUTOINSTALL="--defaultdeps"
PERL_MM_USE_DEFAULT="1"
@INC:
/opt/perl-5.18.1/.cpanplus/5.18.1/build/Archive-Zip-1.37/blib/lib
/opt/perl-5.18.1/.cpanplus/5.18.1/build/Archive-Zip-1.37/blib/arch
/opt/perl-5.18.1/.cpanplus/5.18.1/build/Dist-Zilla-Plugin-CheckExtraTests-0.021/blib/lib
/opt/perl-5.18.1/.cpanplus/5.18.1/build/Dist-Zilla-Plugin-CheckExtraTests-0.021/blib/arch
/opt/perl-5.18.1/lib/site_perl/5.18.1/i386-freebsd
/opt/perl-5.18.1/lib/site_perl/5.18.1
/opt/perl-5.18.1/lib/5.18.1/i386-freebsd
/opt/perl-5.18.1/lib/5.18.1
.