Test-Harness v3.52 Perl 5 v5.18.4 MSWin32-x64-multi-thread

Status
Pass
From
LNATION
Dist
Test-Harness v3.52
Platform
Perl 5 v5.18.4 MSWin32-x64-multi-thread
Date
2025-05-16 08:27:49
ID
d8a89c3a-6bfd-1014-9fec-f756972aaad8
This distribution has been tested as part of the CPAN Testers
project, supporting the Perl programming language.  See
http://wiki.cpantesters.org/ for more information or email
questions to cpan-testers-discuss@perl.org


--
Dear Leon Timmermans,

This is a computer-generated report for Test-Harness-3.52
on perl 5.18.4, created by CPAN-Reporter-1.2020.

Thank you for uploading your work to CPAN.  Congratulations!
All tests were successful.

Sections of this report:

    * Tester comments
    * Program output
    * Prerequisites
    * Environment and other context

------------------------------
TESTER COMMENTS
------------------------------

Additional comments from tester:

this report is from an automated smoke testing program
and was not reviewed by a human for accuracy

------------------------------
PROGRAM OUTPUT
------------------------------

Output from 'C:\strawberry\c\bin\dmake.exe test':

C:\strawberry\perl\bin\perl.exe "-Iblib\lib" "-Iblib\arch" "-MExtUtils::Command::MM" "-MTest::Harness" "-e" "undef *Test::Harness::Switches; test_harness(0, 'blib\lib', 'blib\arch')" t/*.t t/compat/*.t
# Testing Test::Harness 3.52, Perl 5.018004, C:\strawberry\perl\bin\perl.exe
t/000-load.t .................... ok
t/aggregator.t .................. ok
t/bailout.t ..................... ok
t/base.t ........................ ok
t/callbacks.t ................... ok
t/compat/env.t .................. ok
t/compat/env_opts.t ............. ok
t/compat/failure.t .............. ok
t/compat/inc-propagation.t ...... ok
t/compat/inc_taint.t ............ ok
t/compat/nonumbers.t ............ ok
t/compat/regression.t ........... ok
t/compat/subclass.t ............. ok
t/compat/switches.t ............. ok
t/compat/test-harness-compat.t .. ok
t/compat/version.t .............. ok
t/console.t ..................... ok
t/env_opts.t .................... ok
t/errors.t ...................... ok
t/file.t ........................ ok
t/glob-to-regexp.t .............. ok
t/grammar.t ..................... ok
t/harness-bailout.t ............. ok
t/harness-subclass.t ............ ok
t/harness.t ..................... ok
t/iterator_factory.t ............ ok
t/iterators.t ................... ok
t/multiplexer.t ................. ok
t/nested.t ...................... ok
t/nofork-mux.t .................. ok
t/nofork.t ...................... skipped: your system already has no fork
t/object.t ...................... ok
t/parse.t ....................... ok
t/parser-config.t ............... ok
t/parser-subclass.t ............. ok
t/perl5lib.t .................... ok
t/premature-bailout.t ........... ok
t/process.t ..................... ok
t/prove.t ....................... ok
t/proverc.t ..................... ok
t/proverun.t .................... ok
t/proveversion.t ................ ok
t/regression.t .................. ok
t/results.t ..................... ok
t/rulesfile.t ................... ok
t/scheduler.t ................... ok
t/source.t ...................... ok
t/source_handler.t .............. ok
t/spool.t ....................... ok
t/state.t ....................... ok
t/state_results.t ............... ok
t/streams.t ..................... ok
t/taint.t ....................... ok
t/testargs.t .................... ok
t/unicode.t ..................... ok
t/yamlish-output.t .............. ok
t/yamlish-writer.t .............. ok
t/yamlish.t ..................... ok
All tests successful.
Files=58, Tests=12046, 32 wallclock secs ( 1.72 usr +  0.20 sys =  1.92 CPU)
Result: PASS

------------------------------
PREREQUISITES
------------------------------

Prerequisite modules loaded:

build_requires:

    Module              Need Have
    ------------------- ---- ----
    ExtUtils::MakeMaker 0    6.98

configure_requires:

    Module              Need Have
    ------------------- ---- ----
    ExtUtils::MakeMaker 0    6.98

opt_requires:

    Module              Need Have
    ------------------- ---- ----
    Pod::Usage          1.12 1.64


------------------------------
ENVIRONMENT AND OTHER CONTEXT
------------------------------

Environment variables:

    AUTOMATED_TESTING = 1
    COMSPEC = C:\Windows\system32\cmd.exe
    NUMBER_OF_PROCESSORS = 2
    PATH = C:\Windows\system32;C:\Windows;C:\Windows\System32\Wbem;C:\Windows\System32\WindowsPowerShell\v1.0\;C:\Windows\System32\OpenSSH\;C:\Program Files\Amazon\cfn-bootstrap\;C:\strawberry\c\bin;C:\strawberry\perl\site\bin;C:\strawberry\perl\bin;C:\Users\Administrator\AppData\Local\Microsoft\WindowsApps;C:\Users\Administrator\AppData\Local\Microsoft\WinGet\Links;
    PERL5LIB = 
    PERL5OPT = 
    PERL5_CPANPLUS_IS_RUNNING = 6340
    PERL5_CPAN_IS_RUNNING = 6340
    PERL5_CPAN_IS_RUNNING_IN_RECURSION = 6424,6340
    PERL_CR_SMOKER_CURRENT = Config-Abstraction-0.25
    PERL_EXTUTILS_AUTOINSTALL = --defaultdeps
    PERL_MM_USE_DEFAULT = 1
    PROCESSOR_IDENTIFIER = Intel64 Family 6 Model 85 Stepping 7, GenuineIntel
    TEMP = C:\Users\ADMINI~1\AppData\Local\Temp\2

Perl special variables (and OS-specific diagnostics, for MSWin32):

    $^X = C:\strawberry\perl\bin\perl.exe
    $UID/$EUID = 0 / 0
    $GID = 0
    $EGID = 0
    Win32::GetOSName = Win2012
    Win32::GetOSVersion = , 6, 2, 9200, 2, 0, 0, 400, 3
    Win32::FsType = NTFS
    Win32::IsAdminUser = 1

Perl module toolchain versions installed:

    Module              Have    
    ------------------- --------
    CPAN                2.05    
    CPAN::Meta          2.142690
    Cwd                 3.47    
    ExtUtils::CBuilder  0.280220
    ExtUtils::Command   1.18    
    ExtUtils::Install   2.04    
    ExtUtils::MakeMaker 6.98    
    ExtUtils::Manifest  1.68    
    ExtUtils::ParseXS   3.24    
    File::Spec          3.47    
    JSON                4.10    
    JSON::PP            4.16    
    Module::Build       0.4210  
    Module::Signature   n/a     
    Parse::CPAN::Meta   1.4414  
    Test2               1.302211
    Test::Harness       3.28    
    Test::More          1.302211
    YAML                1.12    
    YAML::Syck          n/a     
    version             0.9909  


--

Summary of my perl5 (revision 5 version 18 subversion 4) configuration:
   
  Platform:
    osname=MSWin32, osvers=6.3, archname=MSWin32-x64-multi-thread
    uname='Win32 strawberry-perl 5.18.4.1 #1 Thu Oct  2 07:49:26 2014 x64'
    config_args='undef'
    hint=recommended, useposix=true, d_sigaction=undef
    useithreads=define, usemultiplicity=define
    useperlio=define, d_sfio=undef, uselargefiles=define, usesocks=undef
    use64bitint=define, use64bitall=undef, uselongdouble=undef
    usemymalloc=n, bincompat5005=undef
  Compiler:
    cc='gcc', ccflags =' -s -O2 -DWIN32 -DWIN64 -DCONSERVATIVE  -DPERL_TEXTMODE_SCRIPTS -DPERL_IMPLICIT_CONTEXT -DPERL_IMPLICIT_SYS -DUSE_PERLIO -fno-strict-aliasing -mms-bitfields',
    optimize='-s -O2',
    cppflags='-DWIN32'
    ccversion='', gccversion='4.7.3', gccosandvers=''
    intsize=4, longsize=4, ptrsize=8, doublesize=8, byteorder=12345678
    d_longlong=define, longlongsize=8, d_longdbl=define, longdblsize=12
    ivtype='long long', ivsize=8, nvtype='double', nvsize=8, Off_t='long long', lseeksize=8
    alignbytes=8, prototype=define
  Linker and Libraries:
    ld='g++', ldflags ='-s -L"C:\strawberry\perl\lib\CORE" -L"C:\strawberry\c\lib"'
    libpth=C:\strawberry\c\lib C:\strawberry\c\x86_64-w64-mingw32\lib C:\strawberry\c\lib\gcc\x86_64-w64-mingw32\4.7.3
    libs=-lmoldname -lkernel32 -luser32 -lgdi32 -lwinspool -lcomdlg32 -ladvapi32 -lshell32 -lole32 -loleaut32 -lnetapi32 -luuid -lws2_32 -lmpr -lwinmm -lversion -lodbc32 -lodbccp32 -lcomctl32
    perllibs=-lmoldname -lkernel32 -luser32 -lgdi32 -lwinspool -lcomdlg32 -ladvapi32 -lshell32 -lole32 -loleaut32 -lnetapi32 -luuid -lws2_32 -lmpr -lwinmm -lversion -lodbc32 -lodbccp32 -lcomctl32
    libc=, so=dll, useshrplib=true, libperl=libperl518.a
    gnulibc_version=''
  Dynamic Linking:
    dlsrc=dl_win32.xs, dlext=dll, d_dlsymun=undef, ccdlflags=' '
    cccdlflags=' ', lddlflags='-mdll -s -L"C:\strawberry\perl\lib\CORE" -L"C:\strawberry\c\lib"'


Characteristics of this binary (from libperl): 
  Compile-time options: HAS_TIMES HAVE_INTERP_INTERN MULTIPLICITY
                        PERLIO_LAYERS PERL_DONT_CREATE_GVSV
                        PERL_HASH_FUNC_ONE_AT_A_TIME_HARD
                        PERL_IMPLICIT_CONTEXT PERL_IMPLICIT_SYS
                        PERL_MALLOC_WRAP PERL_PRESERVE_IVUV PERL_SAWAMPERSAND
                        USE_64_BIT_INT USE_ITHREADS USE_LARGE_FILES
                        USE_LOCALE USE_LOCALE_COLLATE USE_LOCALE_CTYPE
                        USE_LOCALE_NUMERIC USE_PERLIO USE_PERL_ATOF
  Built under MSWin32
  Compiled at Oct  2 2014 07:58:36
  %ENV:
    PERL5_CPANPLUS_IS_RUNNING="6340"
    PERL5_CPAN_IS_RUNNING="6340"
    PERL5_CPAN_IS_RUNNING_IN_RECURSION="6424,6340"
    PERL_CR_SMOKER_CURRENT="Config-Abstraction-0.25"
    PERL_EXTUTILS_AUTOINSTALL="--defaultdeps"
    PERL_MM_USE_DEFAULT="1"
  @INC:
    C:/strawberry/perl/site/lib
    C:/strawberry/perl/vendor/lib
    C:/strawberry/perl/lib
    .