Back
From: metabase:user:31d414ea-2aae-11df-837a-5e0a49663a4f
Subject: PASS WebService-Annict-0.02 v5.20.2 GNU/Linux
Date: 2016-10-12T23:23:12Z
This distribution has been tested as part of the CPAN Testers
project, supporting the Perl programming language.  See
http://wiki.cpantesters.org/ for more information or email
questions to cpan-testers-discuss@perl.org
--
Dear nuko suke,
This is a computer-generated report for WebService-Annict-0.02
on perl 5.20.2, created by CPAN-Reporter-1.2018.
Thank you for uploading your work to CPAN.  Congratulations!
All tests were successful.
Sections of this report:
    * Tester comments
    * Program output
    * Prerequisites
    * Environment and other context
------------------------------
TESTER COMMENTS
------------------------------
Additional comments from tester:
this report is from an automated smoke testing program
and was not reviewed by a human for accuracy
------------------------------
PROGRAM OUTPUT
------------------------------
Output from './Build test':
t/00_compile.t ... ok
Use of uninitialized value $access_token in concatenation (.) or string at /home/david/cpantesting/perl-5.20.2/.cpan/build/WebService-Annict-0.02-yuuLCJ/blib/lib/WebService/Annict.pm line 18.
t/10_annict.t .... ok
t/20_works.t ..... ok
t/30_episodes.t .. ok
t/40_records.t ... ok
All tests successful.
Files=5, Tests=9,  1 wallclock secs ( 0.03 usr  0.02 sys +  0.18 cusr  0.03 csys =  0.26 CPU)
Result: PASS
------------------------------
PREREQUISITES
------------------------------
Prerequisite modules loaded:
requires:
    Module               Need     Have    
    -------------------- -------- --------
    HTTP::Message        6.11     6.11    
    JSON                 2.90     2.90    
    LWP::Protocol::https 6.06     6.06    
    LWP::UserAgent       6.15     6.15    
    perl                 5.008001 5.020002
    URI                  1.71     1.71    
build_requires:
    Module               Need     Have    
    -------------------- -------- --------
    Test::More           0.98     1.302059
configure_requires:
    Module               Need     Have    
    -------------------- -------- --------
    Module::Build::Tiny  0.035    0.039   
------------------------------
ENVIRONMENT AND OTHER CONTEXT
------------------------------
Environment variables:
    AUTOMATED_TESTING = 1
    NONINTERACTIVE_TESTING = 1
    PATH = /usr/local/bin:/usr/bin:/bin:/usr/local/games:/usr/games
    PERL = 5.20.2
    PERL5LIB = 
    PERL5OPT = 
    PERL5_CPANPLUS_IS_RUNNING = 12052
    PERL5_CPAN_IS_RUNNING = 12052
    PERLVER = 5.20.2
    PERL_INLINE_DIRECTORY = /home/david/.Inline-5.20.2
    PERL_MM_USE_DEFAULT = 1
    SHELL = /bin/bash
    TERM = screen
Perl special variables (and OS-specific diagnostics, for MSWin32):
    $^X = /home/david/cpantesting/perl-5.20.2/bin/perl
    $UID/$EUID = 1000 / 1000
    $GID = 1000 1000
    $EGID = 1000 1000
Perl module toolchain versions installed:
    Module              Have    
    ------------------- --------
    CPAN                2.05    
    CPAN::Meta          2.150010
    Cwd                 3.48_01 
    ExtUtils::CBuilder  0.280217
    ExtUtils::Command   7.24    
    ExtUtils::Install   1.67    
    ExtUtils::MakeMaker 7.24    
    ExtUtils::Manifest  1.70    
    ExtUtils::ParseXS   3.24    
    File::Spec          3.48_01 
    JSON                2.90    
    JSON::PP            2.27400 
    Module::Build       0.4220  
    Module::Signature   n/a     
    Parse::CPAN::Meta   2.150010
    Test::Harness       3.36    
    Test::More          1.302059
    YAML                1.18    
    YAML::Syck          n/a     
    version             0.9909  
--
Summary of my perl5 (revision 5 version 20 subversion 2) configuration:
   
  Platform:
    osname=linux, osvers=3.16.0-4-amd64, archname=x86_64-linux-thread-multi
    uname='linux pigsty.barnyard.co.uk 3.16.0-4-amd64 #1 smp debian 3.16.36-1+deb8u1 (2016-09-03) x86_64 gnulinux '
    config_args='-de -Duse64bitall -Dusethreads -Dprefix=/home/david/cpantesting/perl-5.20.2'
    hint=recommended, useposix=true, d_sigaction=define
    useithreads=define, usemultiplicity=define
    use64bitint=define, use64bitall=define, uselongdouble=undef
    usemymalloc=n, bincompat5005=undef
  Compiler:
    cc='cc', ccflags ='-D_REENTRANT -D_GNU_SOURCE -fwrapv -fno-strict-aliasing -pipe -fstack-protector -I/usr/local/include -D_LARGEFILE_SOURCE -D_FILE_OFFSET_BITS=64',
    optimize='-O2',
    cppflags='-D_REENTRANT -D_GNU_SOURCE -fwrapv -fno-strict-aliasing -pipe -fstack-protector -I/usr/local/include'
    ccversion='', gccversion='4.9.2', gccosandvers=''
    intsize=4, longsize=8, ptrsize=8, doublesize=8, byteorder=12345678
    d_longlong=define, longlongsize=8, d_longdbl=define, longdblsize=16
    ivtype='long', ivsize=8, nvtype='double', nvsize=8, Off_t='off_t', lseeksize=8
    alignbytes=8, prototype=define
  Linker and Libraries:
    ld='cc', ldflags =' -fstack-protector -L/usr/local/lib'
    libpth=/usr/local/lib /usr/lib/gcc/x86_64-linux-gnu/4.9/include-fixed /usr/include/x86_64-linux-gnu /usr/lib /lib/x86_64-linux-gnu /lib/../lib /usr/lib/x86_64-linux-gnu /usr/lib/../lib /lib
    libs=-lnsl -ldb -ldl -lm -lcrypt -lutil -lpthread -lc
    perllibs=-lnsl -ldl -lm -lcrypt -lutil -lpthread -lc
    libc=libc-2.19.so, so=so, useshrplib=false, libperl=libperl.a
    gnulibc_version='2.19'
  Dynamic Linking:
    dlsrc=dl_dlopen.xs, dlext=so, d_dlsymun=undef, ccdlflags='-Wl,-E'
    cccdlflags='-fPIC', lddlflags='-shared -O2 -L/usr/local/lib -fstack-protector'
Characteristics of this binary (from libperl): 
  Compile-time options: HAS_TIMES MULTIPLICITY PERLIO_LAYERS
                        PERL_DONT_CREATE_GVSV
                        PERL_HASH_FUNC_ONE_AT_A_TIME_HARD
                        PERL_IMPLICIT_CONTEXT PERL_MALLOC_WRAP
                        PERL_NEW_COPY_ON_WRITE PERL_PRESERVE_IVUV
                        USE_64_BIT_ALL USE_64_BIT_INT USE_ITHREADS
                        USE_LARGE_FILES USE_LOCALE USE_LOCALE_COLLATE
                        USE_LOCALE_CTYPE USE_LOCALE_NUMERIC USE_PERLIO
                        USE_PERL_ATOF USE_REENTRANT_API
  Locally applied patches:
	Devel::PatchPerl 1.44
  Built under linux
  Compiled at Oct 12 2016 16:20:03
  %ENV:
    PERL="5.20.2"
    PERL5LIB=""
    PERL5OPT=""
    PERL5_CPANPLUS_IS_RUNNING="12052"
    PERL5_CPAN_IS_RUNNING="12052"
    PERLVER="5.20.2"
    PERL_INLINE_DIRECTORY="/home/david/.Inline-5.20.2"
    PERL_MM_USE_DEFAULT="1"
  @INC:
    /home/david/cpantesting/perl-5.20.2/lib/site_perl/5.20.2/x86_64-linux-thread-multi
    /home/david/cpantesting/perl-5.20.2/lib/site_perl/5.20.2
    /home/david/cpantesting/perl-5.20.2/lib/5.20.2/x86_64-linux-thread-multi
    /home/david/cpantesting/perl-5.20.2/lib/5.20.2
    .