Mo v0.40 Perl 5 v5.34.0 x86_64-linux-thread-multi

Status
Pass
From
Daniel Șuteu
Dist
Mo v0.40
Platform
Perl 5 v5.34.0 x86_64-linux-thread-multi
Date
2021-11-10 19:31:47
ID
d826a84e-425c-11ec-bd3b-927b499b7102
This distribution has been tested as part of the CPAN Testers
project, supporting the Perl programming language.  See
https://wiki.cpantesters.org/ for more information or email
questions to cpan-testers-discuss@perl.org


--
Dear TINITA,

This is a computer-generated report for Mo-0.40
on perl 5.34.0, created by App::cpanminus::reporter 0.17 (1.7044).

Thank you for uploading your work to CPAN.  Congratulations!
All tests were successful.

Sections of this report:

    * Tester comments
    * Program output
    * Prerequisites
    * Environment and other context

------------------------------
TESTER COMMENTS
------------------------------

Additional comments from tester:

none provided

------------------------------
PROGRAM OUTPUT
------------------------------

Output from '':

Building and testing Mo-0.40
[proxychains] DLL init: proxychains-ng 4.15
[proxychains] DLL init: proxychains-ng 4.15
[proxychains] DLL init: proxychains-ng 4.15
[proxychains] DLL init: proxychains-ng 4.15
[proxychains] DLL init: proxychains-ng 4.15
[proxychains] DLL init: proxychains-ng 4.15
[proxychains] DLL init: proxychains-ng 4.15
[proxychains] DLL init: proxychains-ng 4.15
[proxychains] DLL init: proxychains-ng 4.15
[proxychains] DLL init: proxychains-ng 4.15
[proxychains] DLL init: proxychains-ng 4.15
[proxychains] DLL init: proxychains-ng 4.15
[proxychains] DLL init: proxychains-ng 4.15
[proxychains] DLL init: proxychains-ng 4.15
[proxychains] DLL init: proxychains-ng 4.15
[proxychains] DLL init: proxychains-ng 4.15
[proxychains] DLL init: proxychains-ng 4.15
[proxychains] DLL init: proxychains-ng 4.15
[proxychains] DLL init: proxychains-ng 4.15
[proxychains] DLL init: proxychains-ng 4.15
[proxychains] DLL init: proxychains-ng 4.15
[proxychains] DLL init: proxychains-ng 4.15
[proxychains] DLL init: proxychains-ng 4.15
[proxychains] DLL init: proxychains-ng 4.15
[proxychains] DLL init: proxychains-ng 4.15
[proxychains] DLL init: proxychains-ng 4.15
[proxychains] DLL init: proxychains-ng 4.15
[proxychains] DLL init: proxychains-ng 4.15
[proxychains] DLL init: proxychains-ng 4.15
[proxychains] DLL init: proxychains-ng 4.15
[proxychains] DLL init: proxychains-ng 4.15
[proxychains] DLL init: proxychains-ng 4.15
[proxychains] DLL init: proxychains-ng 4.15
[proxychains] DLL init: proxychains-ng 4.15
[proxychains] DLL init: proxychains-ng 4.15
[proxychains] DLL init: proxychains-ng 4.15
[proxychains] DLL init: proxychains-ng 4.15
[proxychains] DLL init: proxychains-ng 4.15
[proxychains] DLL init: proxychains-ng 4.15
[proxychains] DLL init: proxychains-ng 4.15
[proxychains] DLL init: proxychains-ng 4.15
[proxychains] DLL init: proxychains-ng 4.15
cp lib/Mo/importer.pod blib/lib/Mo/importer.pod
cp lib/Mo/is.pod blib/lib/Mo/is.pod
cp lib/Mo/chain.pm blib/lib/Mo/chain.pm
cp lib/Mo/required.pm blib/lib/Mo/required.pm
cp lib/Mo.pm blib/lib/Mo.pm
cp lib/Mo/Mouse.pod blib/lib/Mo/Mouse.pod
cp lib/Mo/option.pod blib/lib/Mo/option.pod
cp lib/Mo/exporter.pm blib/lib/Mo/exporter.pm
cp lib/Mo/coerce.pm blib/lib/Mo/coerce.pm
cp lib/Mo/builder.pm blib/lib/Mo/builder.pm
cp lib/Mo/Moose.pod blib/lib/Mo/Moose.pod
cp lib/Mo/default.pm blib/lib/Mo/default.pm
cp lib/Mo/Design.pod blib/lib/Mo/Design.pod
cp lib/Mo/import.pm blib/lib/Mo/import.pm
cp lib/Mo/build.pm blib/lib/Mo/build.pm
cp lib/Mo/xs.pod blib/lib/Mo/xs.pod
cp lib/Mo/nonlazy.pm blib/lib/Mo/nonlazy.pm
cp lib/Mo/import.pod blib/lib/Mo/import.pod
cp lib/Mo/Mouse.pm blib/lib/Mo/Mouse.pm
cp lib/Mo/chain.pod blib/lib/Mo/chain.pod
cp lib/Mo/required.pod blib/lib/Mo/required.pod
cp lib/Mo/coerce.pod blib/lib/Mo/coerce.pod
cp lib/Mo/importer.pm blib/lib/Mo/importer.pm
cp lib/Mo/exports.pod blib/lib/Mo/exports.pod
cp lib/Mo/option.pm blib/lib/Mo/option.pm
cp lib/Mo/is.pm blib/lib/Mo/is.pm
cp lib/Mo/Hacking.pod blib/lib/Mo/Hacking.pod
cp lib/Mo/Inline.pm blib/lib/Mo/Inline.pm
cp lib/Mo/xs.pm blib/lib/Mo/xs.pm
cp lib/Mo/Moose.pm blib/lib/Mo/Moose.pm
cp lib/Mo/Golf.pm blib/lib/Mo/Golf.pm
cp lib/Mo.pod blib/lib/Mo.pod
cp lib/Mo/builder.pod blib/lib/Mo/builder.pod
cp lib/Mo/Features.pod blib/lib/Mo/Features.pod
cp lib/Mo/default.pod blib/lib/Mo/default.pod
cp lib/Mo/build.pod blib/lib/Mo/build.pod
[proxychains] DLL init: proxychains-ng 4.15
[proxychains] DLL init: proxychains-ng 4.15
[proxychains] DLL init: proxychains-ng 4.15
cp bin/mo-inline blib/script/mo-inline
[proxychains] DLL init: proxychains-ng 4.15
"/usr/bin/perl" -MExtUtils::MY -e 'MY->fixin(shift)' -- blib/script/mo-inline
[proxychains] DLL init: proxychains-ng 4.15
[proxychains] DLL init: proxychains-ng 4.15
[proxychains] DLL init: proxychains-ng 4.15
[proxychains] DLL init: proxychains-ng 4.15
[proxychains] DLL init: proxychains-ng 4.15
[proxychains] DLL init: proxychains-ng 4.15
Manifying 20 pod documents
[proxychains] DLL init: proxychains-ng 4.15
[proxychains] DLL init: proxychains-ng 4.15
[proxychains] DLL init: proxychains-ng 4.15
[proxychains] DLL init: proxychains-ng 4.15
[proxychains] DLL init: proxychains-ng 4.15
[proxychains] DLL init: proxychains-ng 4.15
[proxychains] DLL init: proxychains-ng 4.15
[proxychains] DLL init: proxychains-ng 4.15
[proxychains] DLL init: proxychains-ng 4.15
[proxychains] DLL init: proxychains-ng 4.15
[proxychains] DLL init: proxychains-ng 4.15
[proxychains] DLL init: proxychains-ng 4.15
PERL_DL_NONLAZY=1 "/usr/bin/perl" "-MExtUtils::Command::MM" "-MTest::Harness" "-e" "undef *Test::Harness::Switches; test_harness(0, 'blib/lib', 'blib/arch')" t/*.t
[proxychains] DLL init: proxychains-ng 4.15
[proxychains] DLL init: proxychains-ng 4.15
[proxychains] DLL init: proxychains-ng 4.15
[proxychains] DLL init: proxychains-ng 4.15
[proxychains] DLL init: proxychains-ng 4.15
# 
# 
# Generated by Dist::Zilla::Plugin::ReportVersions::Tiny v1.12
# perl: 5.034000 (wanted v5.6.0) on linux from /usr/bin/perl
# 
# Class::XSAccessor                             => 1.19       (want any version)
# ExtUtils::MakeMaker                           => 7.62       (want any version)
# IO::All                                       => 0.87       (want any version)
# Moose                                         => 2.2201     (want any version)
# Mouse                                         => module not found. (want any version)
# Test::More                                    => 1.302188   (want 0.96)   
# 
# Thanks for using my code.  I hope it works for you.
# If not, please try and include this output in the bug report.
# That will help me reproduce the issue and solve your problem.
# 
t/000-report-versions-tiny.t .. ok
[proxychains] DLL init: proxychains-ng 4.15
t/author-00-compile.t ......... skipped: these tests are for testing by the author
[proxychains] DLL init: proxychains-ng 4.15
t/author-pod-spell.t .......... skipped: these tests are for testing by the author
[proxychains] DLL init: proxychains-ng 4.15
t/author-pod-syntax.t ......... skipped: these tests are for testing by the author
[proxychains] DLL init: proxychains-ng 4.15
t/author-test-version.t ....... skipped: these tests are for testing by the author
[proxychains] DLL init: proxychains-ng 4.15
t/build.t ..................... ok
[proxychains] DLL init: proxychains-ng 4.15
t/builder.t ................... ok
[proxychains] DLL init: proxychains-ng 4.15
t/chain.t ..................... ok
[proxychains] DLL init: proxychains-ng 4.15
t/coerce.t .................... ok
[proxychains] DLL init: proxychains-ng 4.15
t/combined.t .................. ok
[proxychains] DLL init: proxychains-ng 4.15
t/default.t ................... ok
[proxychains] DLL init: proxychains-ng 4.15
t/extends.t ................... ok
[proxychains] DLL init: proxychains-ng 4.15
t/importer.t .................. ok
[proxychains] DLL init: proxychains-ng 4.15
t/is.t ........................ ok
[proxychains] DLL init: proxychains-ng 4.15
t/lazy-nonlazy.t .............. ok
[proxychains] DLL init: proxychains-ng 4.15
t/main_sub.t .................. ok
[proxychains] DLL init: proxychains-ng 4.15
t/Moose.t ..................... ok
[proxychains] DLL init: proxychains-ng 4.15
t/Mouse.t ..................... skipped: Mouse is needed
[proxychains] DLL init: proxychains-ng 4.15
t/object.t .................... ok
[proxychains] DLL init: proxychains-ng 4.15
t/option.t .................... ok
[proxychains] DLL init: proxychains-ng 4.15
t/release-correct-version.t ... skipped: these tests are for release candidate testing
[proxychains] DLL init: proxychains-ng 4.15
t/release-distmeta.t .......... skipped: these tests are for release candidate testing
[proxychains] DLL init: proxychains-ng 4.15
t/release-eol.t ............... skipped: these tests are for release candidate testing
[proxychains] DLL init: proxychains-ng 4.15
t/release-no-tabs.t ........... skipped: these tests are for release candidate testing
[proxychains] DLL init: proxychains-ng 4.15
t/required.t .................. ok
[proxychains] DLL init: proxychains-ng 4.15
t/strict.t .................... ok
[proxychains] DLL init: proxychains-ng 4.15
t/test.t ...................... ok
[proxychains] DLL init: proxychains-ng 4.15
t/xs.t ........................ ok
All tests successful.
Files=28, Tests=153,  3 wallclock secs ( 0.10 usr  0.03 sys +  2.36 cusr  0.32 csys =  2.81 CPU)
Result: PASS

------------------------------
PREREQUISITES
------------------------------

Prerequisite modules loaded:

    No requirements found

------------------------------
ENVIRONMENT AND OTHER CONTEXT
------------------------------

Environment variables:

    CCFLAGS = -march=native -O3 -pipe -fno-plt -fexceptions -Wp,-D_FORTIFY_SOURCE=2 -Wformat -Werror=format-security -fstack-clash-protection -fcf-protection
    LANG = en_US.UTF-8
    LANGUAGE = 
    LC_ADDRESS = 
    LC_COLLATE = 
    LC_CTYPE = 
    LC_IDENTIFICATION = 
    LC_MEASUREMENT = 
    LC_MESSAGES = 
    LC_MONETARY = 
    LC_NAME = 
    LC_NUMERIC = 
    LC_PAPER = 
    LC_TELEPHONE = 
    LC_TIME = 
    LDFLAGS = -Wl,-O1,--sort-common,--as-needed,-z,relro,-z,now
    PATH = /usr/lib/ccache/bin:/usr/local/sbin:/usr/local/bin:/usr/bin:/opt/android-sdk/platform-tools:/usr/lib/jvm/default/bin:/usr/bin/site_perl:/usr/bin/vendor_perl:/usr/bin/core_perl:/usr/share/perl6/vendor/bin:/home/swampyx/.raku/bin:/opt/android-ndk/toolchains/llvm/prebuilt/linux-x86_64/bin
    PERL_MM_OPT = OPTIMIZE="-march=native -O3 -pipe -fno-plt -fstack-clash-protection -fcf-protection"
    SHELL = /usr/bin/zsh
    TEMP = /tmp
    TERM = xterm

Perl special variables (and OS-specific diagnostics, for MSWin32):

    EGID = 100 50 91 92 93 95 98 100 108 1002
    EUID = 1000
    EXECUTABLE_NAME = /usr/bin/perl
    GID = 100 50 91 92 93 95 98 100 108 1002
    UID = 1000

Perl module toolchain versions installed:

    Module              Have    
    ------------------- --------
    CPAN                2.28    
    CPAN::Meta          2.150010
    Cwd                 3.80    
    ExtUtils::CBuilder  0.280236
    ExtUtils::Command   7.62    
    ExtUtils::Install   2.20    
    ExtUtils::MakeMaker 7.62    
    ExtUtils::Manifest  1.73    
    ExtUtils::ParseXS   3.35    
    File::Spec          3.80    
    JSON                4.03    
    JSON::PP            4.06    
    Module::Build       0.4231  
    Module::Signature   0.87    
    Parse::CPAN::Meta   2.150010
    Test::Harness       3.42    
    Test::More          1.302188
    YAML                1.30    
    YAML::Syck          n/a     
    version             0.9929  


--

Summary of my perl5 (revision 5 version 34 subversion 0) configuration:
   
  Platform:
    osname=linux
    osvers=5.12.15-arch1-1
    archname=x86_64-linux-thread-multi
    uname='archlinux'
    config_args='-des -Dusethreads -Duseshrplib -Doptimize=-march=x86-64 -mtune=generic -O2 -pipe -fno-plt -Dprefix=/usr -Dvendorprefix=/usr -Dprivlib=/usr/share/perl5/core_perl -Darchlib=/usr/lib/perl5/5.34/core_perl -Dsitelib=/usr/share/perl5/site_perl -Dsitearch=/usr/lib/perl5/5.34/site_perl -Dvendorlib=/usr/share/perl5/vendor_perl -Dvendorarch=/usr/lib/perl5/5.34/vendor_perl -Dscriptdir=/usr/bin/core_perl -Dsitescript=/usr/bin/site_perl -Dvendorscript=/usr/bin/vendor_perl -Dinc_version_list=none -Dman1ext=1perl -Dman3ext=3perl -Dcccdlflags='-fPIC' -Dlddlflags=-shared -Wl,-O1,--sort-common,--as-needed,-z,relro,-z,now -Dldflags=-Wl,-O1,--sort-common,--as-needed,-z,relro,-z,now'
    hint=recommended
    useposix=true
    d_sigaction=define
    useithreads=define
    usemultiplicity=define
    use64bitint=define
    use64bitall=define
    uselongdouble=undef
    usemymalloc=n
    default_inc_excludes_dot=define
  Compiler:
    cc='cc'
    ccflags ='-D_REENTRANT -D_GNU_SOURCE -fwrapv -fno-strict-aliasing -pipe -fstack-protector-strong -I/usr/local/include -D_LARGEFILE_SOURCE -D_FILE_OFFSET_BITS=64 -D_FORTIFY_SOURCE=2'
    optimize='-march=x86-64 -mtune=generic -O2 -pipe -fno-plt'
    cppflags='-D_REENTRANT -D_GNU_SOURCE -fwrapv -fno-strict-aliasing -pipe -fstack-protector-strong -I/usr/local/include'
    ccversion=''
    gccversion='11.1.0'
    gccosandvers=''
    intsize=4
    longsize=8
    ptrsize=8
    doublesize=8
    byteorder=12345678
    doublekind=3
    d_longlong=define
    longlongsize=8
    d_longdbl=define
    longdblsize=16
    longdblkind=3
    ivtype='long'
    ivsize=8
    nvtype='double'
    nvsize=8
    Off_t='off_t'
    lseeksize=8
    alignbytes=8
    prototype=define
  Linker and Libraries:
    ld='cc'
    ldflags ='-Wl,-O1,--sort-common,--as-needed,-z,relro,-z,now -fstack-protector-strong -L/usr/local/lib'
    libpth=/usr/local/lib /usr/lib
    libs=-lpthread -lgdbm -ldb -ldl -lm -lcrypt -lutil -lc -lgdbm_compat
    perllibs=-lpthread -ldl -lm -lcrypt -lutil -lc
    libc=libc-2.33.so
    so=so
    useshrplib=true
    libperl=libperl.so
    gnulibc_version='2.33'
  Dynamic Linking:
    dlsrc=dl_dlopen.xs
    dlext=so
    d_dlsymun=undef
    ccdlflags='-Wl,-E -Wl,-rpath,/usr/lib/perl5/5.34/core_perl/CORE'
    cccdlflags='-fPIC'
    lddlflags='-shared -Wl,-O1,--sort-common,--as-needed,-z,relro,-z,now -L/usr/local/lib -fstack-protector-strong'


Characteristics of this binary (from libperl): 
  Compile-time options:
    HAS_TIMES
    MULTIPLICITY
    PERLIO_LAYERS
    PERL_COPY_ON_WRITE
    PERL_DONT_CREATE_GVSV
    PERL_IMPLICIT_CONTEXT
    PERL_MALLOC_WRAP
    PERL_OP_PARENT
    PERL_PRESERVE_IVUV
    USE_64_BIT_ALL
    USE_64_BIT_INT
    USE_ITHREADS
    USE_LARGE_FILES
    USE_LOCALE
    USE_LOCALE_COLLATE
    USE_LOCALE_CTYPE
    USE_LOCALE_NUMERIC
    USE_LOCALE_TIME
    USE_PERLIO
    USE_PERL_ATOF
    USE_REENTRANT_API
    USE_THREAD_SAFE_LOCALE
  Built under linux
  Compiled at Jul 18 2021 17:20:56
  %ENV:
    PERL_MM_OPT="OPTIMIZE="-march=native -O3 -pipe -fno-plt -fstack-clash-protection -fcf-protection""
  @INC:
    /usr/lib/perl5/5.34/site_perl
    /usr/share/perl5/site_perl
    /usr/lib/perl5/5.34/vendor_perl
    /usr/share/perl5/vendor_perl
    /usr/lib/perl5/5.34/core_perl
    /usr/share/perl5/core_perl