Back
From: metabase:user:83145d68-08df-11e6-8426-04a496649788
Subject: PASS Test-TempDir-0.10 v5.22.1 GNU/Linux
Date: 2016-04-29T06:23:09Z
This distribution has been tested as part of the CPAN Testers
project, supporting the Perl programming language. See
http://wiki.cpantesters.org/ for more information or email
questions to cpan-testers-discuss@perl.org
--
Dear Karen Etheridge,
This is a computer-generated report for Test-TempDir-0.10
on perl 5.22.1, created by CPAN-Reporter-1.2017.
Thank you for uploading your work to CPAN. Congratulations!
All tests were successful.
Sections of this report:
* Tester comments
* Program output
* Prerequisites
* Environment and other context
------------------------------
TESTER COMMENTS
------------------------------
Additional comments from tester:
none provided
------------------------------
PROGRAM OUTPUT
------------------------------
Output from './Build test':
#
# Versions for all modules listed in MYMETA.json (including optional ones):
#
# === Configure Requires ===
#
# Module Want Have
# ------------------- ----- -----
# Module::Build::Tiny 0.039 0.039
#
# === Test Requires ===
#
# Module Want Have
# ------------------- ---- --------
# ExtUtils::MakeMaker any 7.14
# File::Path 2.04 2.12
# File::Spec any 3.62
# Test::More 0.88 1.001014
# Test::Requires any 0.10
# ok any 0.16
#
# === Test Recommends ===
#
# Module Want Have
# ---------- -------- --------
# CPAN::Meta 2.120900 2.150005
#
# === Runtime Requires ===
#
# Module Want Have
# ---------------------------- ---- --------
# Carp any 1.38
# File::NFSLock any 1.27
# File::Spec any 3.62
# File::Temp any 0.2304
# Moose any 2.1605
# Moose::Util::TypeConstraints any 2.1605
# MooseX::Types::Path::Class any 0.08
# Path::Class any 0.36
# Sub::Exporter any 0.987
# Test::Builder any 1.001014
# namespace::autoclean 0.08 0.28
# strict any 1.09
# warnings any 1.34
#
# === Runtime Recommends ===
#
# Module Want Have
# ------------------ ---- ----
# Directory::Scratch any 0.18
#
t/00-report-prereqs.t .. ok
t/00_load.t ............ ok
t/basic.t .............. ok
Warning: not cleaning up files in t/tmp/p2LUx60A0t at t/directory_scratch.t line 0.
t/directory_scratch.t .. ok
t/factory.t ............ ok
t/handle.t ............. ok
All tests successful.
Files=6, Tests=73, 2 wallclock secs ( 0.10 usr 0.05 sys + 2.05 cusr 0.14 csys = 2.34 CPU)
Result: PASS
------------------------------
PREREQUISITES
------------------------------
Prerequisite modules loaded:
requires:
Module Need Have
---------------------------- -------- --------
Carp 0 1.38
File::NFSLock 0 1.27
File::Spec 0 3.62
File::Temp 0 0.2304
Moose 0 2.1605
Moose::Util::TypeConstraints 0 2.1605
MooseX::Types::Path::Class 0 0.08
namespace::autoclean 0.08 0.28
Path::Class 0 0.36
perl 5.006 5.022001
strict 0 1.09
Sub::Exporter 0 0.987
Test::Builder 0 1.001014
warnings 0 1.34
build_requires:
Module Need Have
---------------------------- -------- --------
ExtUtils::MakeMaker 0 7.14
File::Path 2.04 2.12
File::Spec 0 3.62
ok 0 0.16
perl 5.006 5.022001
Test::More 0.88 1.001014
Test::Requires 0 0.10
configure_requires:
Module Need Have
---------------------------- -------- --------
Module::Build::Tiny 0.039 0.039
perl 5.006 5.022001
opt_requires:
Module Need Have
---------------------------- -------- --------
Directory::Scratch 0 0.18
opt_build_requires:
Module Need Have
---------------------------- -------- --------
CPAN::Meta 2.120900 2.150005
------------------------------
ENVIRONMENT AND OTHER CONTEXT
------------------------------
Environment variables:
LANG = de_DE.UTF-8
LANGUAGE = de_DE
PATH = /home/ss5/bin:/home/ss5/perl5/perlbrew/bin:/home/ss5/perl5/perlbrew/perls/perl-5.22.1-l4/bin:/home/ss5/bin:/usr/local/sbin:/usr/local/bin:/usr/sbin:/usr/bin:/sbin:/bin:/usr/games:/usr/local/games:/snap/bin:/snap/bin
PERL5LIB =
PERL5OPT =
PERL5_CPANPLUS_IS_RUNNING = 1617
PERL5_CPAN_IS_RUNNING = 1617
PERLBREW_BASHRC_VERSION = 0.75
PERLBREW_HOME = /home/ss5/.perlbrew
PERLBREW_MANPATH = /home/ss5/perl5/perlbrew/perls/perl-5.22.1-l4/man
PERLBREW_PATH = /home/ss5/perl5/perlbrew/bin:/home/ss5/perl5/perlbrew/perls/perl-5.22.1-l4/bin
PERLBREW_PERL = perl-5.22.1-l4
PERLBREW_ROOT = /home/ss5/perl5/perlbrew
PERLBREW_VERSION = 0.75
SHELL = /bin/bash
TERM = xterm
Perl special variables (and OS-specific diagnostics, for MSWin32):
$^X = /home/ss5/perl5/perlbrew/perls/perl-5.22.1-l4/bin/perl
$UID/$EUID = 1000 / 1000
$GID = 1000 4 24 27 30 46 113 129 1000
$EGID = 1000 4 24 27 30 46 113 129 1000
Perl module toolchain versions installed:
Module Have
------------------- --------
CPAN 2.11
CPAN::Meta 2.150005
Cwd 3.62
ExtUtils::CBuilder 0.280224
ExtUtils::Command 7.14
ExtUtils::Install 2.04
ExtUtils::MakeMaker 7.14
ExtUtils::Manifest 1.70
ExtUtils::ParseXS 3.30
File::Spec 3.62
JSON 2.90
JSON::PP 2.27400
Module::Build 0.4218
Module::Signature 0.79
Parse::CPAN::Meta 1.4417
Test::Harness 3.36
Test::More 1.001014
YAML 1.15
YAML::Syck 1.29
version 0.9916
--
Summary of my perl5 (revision 5 version 22 subversion 1) configuration:
Platform:
osname=linux, osvers=4.4.0-l4-g2be3f0e, archname=x86_64-linux
uname='linux ss5x201 4.4.0-l4-g2be3f0e #3 smp tue apr 19 15:28:23 cest 2016 x86_64 x86_64 x86_64 gnulinux '
config_args='-de -Dprefix=/home/ss5/perl5/perlbrew/perls/perl-5.22.1-l4 -Aeval:scriptdir=/home/ss5/perl5/perlbrew/perls/perl-5.22.1-l4/bin'
hint=recommended, useposix=true, d_sigaction=define
useithreads=undef, usemultiplicity=undef
use64bitint=define, use64bitall=define, uselongdouble=undef
usemymalloc=n, bincompat5005=undef
Compiler:
cc='cc', ccflags ='-fwrapv -fno-strict-aliasing -pipe -fstack-protector-strong -I/usr/local/include -D_LARGEFILE_SOURCE -D_FILE_OFFSET_BITS=64',
optimize='-O2',
cppflags='-fwrapv -fno-strict-aliasing -pipe -fstack-protector-strong -I/usr/local/include'
ccversion='', gccversion='5.3.1 20160413', gccosandvers=''
intsize=4, longsize=8, ptrsize=8, doublesize=8, byteorder=12345678, doublekind=3
d_longlong=define, longlongsize=8, d_longdbl=define, longdblsize=16, longdblkind=3
ivtype='long', ivsize=8, nvtype='double', nvsize=8, Off_t='off_t', lseeksize=8
alignbytes=8, prototype=define
Linker and Libraries:
ld='cc', ldflags =' -fstack-protector-strong -L/usr/local/lib'
libpth=/usr/local/lib /usr/lib/gcc/x86_64-linux-gnu/5/include-fixed /usr/include/x86_64-linux-gnu /usr/lib /lib/x86_64-linux-gnu /lib/../lib /usr/lib/x86_64-linux-gnu /usr/lib/../lib /lib
libs=-lpthread -lnsl -ldl -lm -lcrypt -lutil -lc
perllibs=-lpthread -lnsl -ldl -lm -lcrypt -lutil -lc
libc=libc-2.23.so, so=so, useshrplib=false, libperl=libperl.a
gnulibc_version='2.23'
Dynamic Linking:
dlsrc=dl_dlopen.xs, dlext=so, d_dlsymun=undef, ccdlflags='-Wl,-E'
cccdlflags='-fPIC', lddlflags='-shared -O2 -L/usr/local/lib -fstack-protector-strong'
Characteristics of this binary (from libperl):
Compile-time options: HAS_TIMES PERLIO_LAYERS PERL_DONT_CREATE_GVSV
PERL_HASH_FUNC_ONE_AT_A_TIME_HARD PERL_MALLOC_WRAP
PERL_NEW_COPY_ON_WRITE PERL_PRESERVE_IVUV
USE_64_BIT_ALL USE_64_BIT_INT USE_LARGE_FILES
USE_LOCALE USE_LOCALE_COLLATE USE_LOCALE_CTYPE
USE_LOCALE_NUMERIC USE_LOCALE_TIME USE_PERLIO
USE_PERL_ATOF
Locally applied patches:
Devel::PatchPerl 1.38
Built under linux
Compiled at Apr 23 2016 08:12:53
%ENV:
PERL5LIB=""
PERL5OPT=""
PERL5_CPANPLUS_IS_RUNNING="1617"
PERL5_CPAN_IS_RUNNING="1617"
PERLBREW_BASHRC_VERSION="0.75"
PERLBREW_HOME="/home/ss5/.perlbrew"
PERLBREW_MANPATH="/home/ss5/perl5/perlbrew/perls/perl-5.22.1-l4/man"
PERLBREW_PATH="/home/ss5/perl5/perlbrew/bin:/home/ss5/perl5/perlbrew/perls/perl-5.22.1-l4/bin"
PERLBREW_PERL="perl-5.22.1-l4"
PERLBREW_ROOT="/home/ss5/perl5/perlbrew"
PERLBREW_VERSION="0.75"
@INC:
/home/ss5/perl5/perlbrew/perls/perl-5.22.1-l4/lib/site_perl/5.22.1/x86_64-linux
/home/ss5/perl5/perlbrew/perls/perl-5.22.1-l4/lib/site_perl/5.22.1
/home/ss5/perl5/perlbrew/perls/perl-5.22.1-l4/lib/5.22.1/x86_64-linux
/home/ss5/perl5/perlbrew/perls/perl-5.22.1-l4/lib/5.22.1
.