args v0.02 Perl 5 v5.13.2 i686-linux-thread-multi

Status
Pass
From
Jeff Lavallee (JLAVALLEE)
Dist
args v0.02
Platform
Perl 5 v5.13.2 i686-linux-thread-multi
Date
2010-07-19T05:52:40
ID
d7cc0548-92f9-11df-9bbb-dcc614482eb2
This distribution has been tested as part of the CPAN Testers
project, supporting the Perl programming language.  See
http://wiki.cpantesters.org/ for more information or email
questions to cpan-testers-discuss@perl.org


--
Dear Tokuhiro Matsuno,

This is a computer-generated report for args-0.02
on perl 5.13.2, created by CPAN-Reporter-1.1711.

Thank you for uploading your work to CPAN.  Congratulations!
All tests were successful.

Sections of this report:

    * Tester comments
    * Program output
    * Prerequisites
    * Environment and other context

------------------------------
TESTER COMMENTS
------------------------------

Additional comments from tester:

this report is from an automated smoke testing program
and was not reviewed by a human for accuracy

------------------------------
PROGRAM OUTPUT
------------------------------

Output from 'make test':

PERL_DL_NONLAZY=1 /usr/local/perl-5.13.2-threads/bin/perl "-MExtUtils::Command::MM" "-e" "test_harness(0, 'inc', 'blib/lib', 'blib/arch')" t/*.t t/*/*.t t/*/*/*.t
t/00_compile.t ................. ok
t/010_simple/01_basic.t ........ ok
t/010_simple/02_type.t ......... ok
t/010_simple/03_optional.t ..... ok
t/010_simple/04_default.t ...... ok
t/010_simple/05_methods.t ...... ok
t/010_simple/06_optional_tc.t .. ok
t/010_simple/07_create_tc.t .... ok
All tests successful.
Files=8, Tests=21,  1 wallclock secs ( 0.10 usr  0.07 sys +  1.05 cusr  0.19 csys =  1.41 CPU)
Result: PASS

------------------------------
PREREQUISITES
------------------------------

Prerequisite modules loaded:

requires:

    Module              Need Have  
    ------------------- ---- ------
    ExtUtils::MakeMaker 6.42 6.5601
    Filter::Util::Call  0    1.08  
    Mouse               0.62 0.62  
    PadWalker           1.91 1.92  
    Scalar::Util        1.21 1.23  
    Test::More          0    0.94  

configure_requires:

    Module              Need Have  
    ------------------- ---- ------
    ExtUtils::MakeMaker 6.42 6.5601


------------------------------
ENVIRONMENT AND OTHER CONTEXT
------------------------------

Environment variables:

    AUTOMATED_TESTING = 1
    LANG = en_US.UTF-8
    PATH = /usr/local/bin:/usr/bin:/bin:/usr/games
    PERL5LIB = /home/smoke2/.cpan/build/Mouse-0.62-VBh4qz/blib/arch:/home/smoke2/.cpan/build/Mouse-0.62-VBh4qz/blib/lib:/home/smoke2/.cpan/build/Test-Requires-0.05-wODfiA/blib/arch:/home/smoke2/.cpan/build/Test-Requires-0.05-wODfiA/blib/lib:/home/smoke2/.cpan/build/PadWalker-1.92-qP2_Ew/blib/arch:/home/smoke2/.cpan/build/PadWalker-1.92-qP2_Ew/blib/lib
    PERL5OPT = 
    PERL5_CPANPLUS_IS_RUNNING = 23117
    PERL5_CPAN_IS_RUNNING = 23117
    PERL5_CPAN_IS_RUNNING_IN_RECURSION = 639,23117
    PERL_CR_SMOKER_CURRENT = args-0.02
    PERL_EXTUTILS_AUTOINSTALL = --defaultdeps
    PERL_MM_USE_DEFAULT = 1
    SHELL = /bin/bash
    TERM = screen

Perl special variables (and OS-specific diagnostics, for MSWin32):

    $^X = /usr/local/perl-5.13.2-threads/bin/perl
    $UID/$EUID = 1002 / 1002
    $GID = 1002 1002
    $EGID = 1002 1002

Perl module toolchain versions installed:

    Module              Have   
    ------------------- -------
    CPAN                1.94_57
    Cwd                 3.31   
    ExtUtils::CBuilder  0.27   
    ExtUtils::Command   1.16   
    ExtUtils::Install   1.55   
    ExtUtils::MakeMaker 6.5601 
    ExtUtils::Manifest  1.57   
    ExtUtils::ParseXS   2.2205 
    File::Spec          3.31   
    Module::Build       0.3603 
    Module::Signature   n/a    
    Test::Harness       3.17   
    Test::More          0.94   
    YAML                n/a    
    YAML::Syck          n/a    
    version             0.82   


--

Summary of my perl5 (revision 5 version 13 subversion 2) configuration:
   
  Platform:
    osname=linux, osvers=2.6.32-5-xen-686, archname=i686-linux-thread-multi
    uname='linux prickle 2.6.32-5-xen-686 #1 smp tue jun 1 08:48:09 utc 2010 i686 gnulinux '
    config_args=''
    hint=recommended, useposix=true, d_sigaction=define
    useithreads=define, usemultiplicity=define
    useperlio=define, d_sfio=undef, uselargefiles=define, usesocks=undef
    use64bitint=undef, use64bitall=undef, uselongdouble=undef
    usemymalloc=n, bincompat5005=undef
  Compiler:
    cc='cc', ccflags ='-D_REENTRANT -D_GNU_SOURCE -fno-strict-aliasing -pipe -fstack-protector -I/usr/local/include -D_LARGEFILE_SOURCE -D_FILE_OFFSET_BITS=64',
    optimize='-O2',
    cppflags='-D_REENTRANT -D_GNU_SOURCE -fno-strict-aliasing -pipe -fstack-protector -I/usr/local/include'
    ccversion='', gccversion='4.3.2', gccosandvers=''
    intsize=4, longsize=4, ptrsize=4, doublesize=8, byteorder=1234
    d_longlong=define, longlongsize=8, d_longdbl=define, longdblsize=12
    ivtype='long', ivsize=4, nvtype='double', nvsize=8, Off_t='off_t', lseeksize=8
    alignbytes=4, prototype=define
  Linker and Libraries:
    ld='cc', ldflags =' -fstack-protector -L/usr/local/lib'
    libpth=/usr/local/lib /lib /usr/lib
    libs=-lnsl -ldl -lm -lcrypt -lutil -lpthread -lc
    perllibs=-lnsl -ldl -lm -lcrypt -lutil -lpthread -lc
    libc=/lib/libc-2.11.2.so, so=so, useshrplib=false, libperl=libperl.a
    gnulibc_version='2.11.2'
  Dynamic Linking:
    dlsrc=dl_dlopen.xs, dlext=so, d_dlsymun=undef, ccdlflags='-Wl,-E'
    cccdlflags='-fPIC', lddlflags='-shared -O2 -L/usr/local/lib -fstack-protector'


Characteristics of this binary (from libperl): 
  Compile-time options: MULTIPLICITY PERL_DONT_CREATE_GVSV
                        PERL_IMPLICIT_CONTEXT PERL_MALLOC_WRAP USE_ITHREADS
                        USE_LARGE_FILES USE_PERLIO USE_PERL_ATOF
                        USE_REENTRANT_API
  Built under linux
  Compiled at Jul 18 2010 13:52:08
  %ENV:
    PERL5LIB="/home/smoke2/.cpan/build/Mouse-0.62-VBh4qz/blib/arch:/home/smoke2/.cpan/build/Mouse-0.62-VBh4qz/blib/lib:/home/smoke2/.cpan/build/Test-Requires-0.05-wODfiA/blib/arch:/home/smoke2/.cpan/build/Test-Requires-0.05-wODfiA/blib/lib:/home/smoke2/.cpan/build/PadWalker-1.92-qP2_Ew/blib/arch:/home/smoke2/.cpan/build/PadWalker-1.92-qP2_Ew/blib/lib"
    PERL5OPT=""
    PERL5_CPANPLUS_IS_RUNNING="23117"
    PERL5_CPAN_IS_RUNNING="23117"
    PERL5_CPAN_IS_RUNNING_IN_RECURSION="639,23117"
    PERL_CR_SMOKER_CURRENT="args-0.02"
    PERL_EXTUTILS_AUTOINSTALL="--defaultdeps"
    PERL_MM_USE_DEFAULT="1"
  @INC:
    /home/smoke2/.cpan/build/Mouse-0.62-VBh4qz/blib/arch
    /home/smoke2/.cpan/build/Mouse-0.62-VBh4qz/blib/lib
    /home/smoke2/.cpan/build/Test-Requires-0.05-wODfiA/blib/arch
    /home/smoke2/.cpan/build/Test-Requires-0.05-wODfiA/blib/lib
    /home/smoke2/.cpan/build/PadWalker-1.92-qP2_Ew/blib/arch
    /home/smoke2/.cpan/build/PadWalker-1.92-qP2_Ew/blib/lib
    /usr/local/perl-5.13.2-threads/lib/site_perl/5.13.2/i686-linux-thread-multi
    /usr/local/perl-5.13.2-threads/lib/site_perl/5.13.2
    /usr/local/perl-5.13.2-threads/lib/5.13.2/i686-linux-thread-multi
    /usr/local/perl-5.13.2-threads/lib/5.13.2
    .