App-DGIPUtils v0.001 Perl 5 v5.30.3 amd64-freebsd

Status
Pass
From
Slaven Rezić
Dist
App-DGIPUtils v0.001
Platform
Perl 5 v5.30.3 amd64-freebsd
Date
2023-07-05T09:03:43
ID
d764e57a-1b12-11ee-9573-aff96d8775ea
This distribution has been tested as part of the CPAN Testers
project, supporting the Perl programming language.  See
http://wiki.cpantesters.org/ for more information or email
questions to cpan-testers-discuss@perl.org


--
Dear perlancar,

This is a computer-generated report for App-DGIPUtils-0.001
on perl 5.30.3, created by CPAN-Reporter-1.2018.

Thank you for uploading your work to CPAN.  Congratulations!
All tests were successful.

Sections of this report:

    * Tester comments
    * Program output
    * Prerequisites
    * Environment and other context

------------------------------
TESTER COMMENTS
------------------------------

Additional comments from tester:

none provided

------------------------------
PROGRAM OUTPUT
------------------------------

Output from '/usr/bin/make test':

PERL_DL_NONLAZY=1 "/usr/perl5.30.3p/bin/perl5.30.3" "-MExtUtils::Command::MM" "-MTest::Harness" "-e" "undef *Test::Harness::Switches; test_harness(0, 'blib/lib', 'blib/arch')" t/*.t
t/00-compile.t ........... ok
t/author-critic.t ........ skipped: these tests are for testing by the author
t/author-pod-coverage.t .. skipped: these tests are for testing by the author
t/author-pod-syntax.t .... skipped: these tests are for testing by the author
t/release-rinci.t ........ skipped: these tests are for release candidate testing
All tests successful.
Files=5, Tests=3,  1 wallclock secs ( 0.04 usr  0.00 sys +  0.26 cusr  0.06 csys =  0.36 CPU)
Result: PASS

------------------------------
PREREQUISITES
------------------------------

Prerequisite modules loaded:

requires:

    Module                                Need     Have        
    ------------------------------------- -------- ------------
    Data::Sah::Compiler::perl::TH::array  0.914    0.914       
    Data::Sah::Compiler::perl::TH::bool   0.914    0.914       
    Data::Sah::Compiler::perl::TH::int    0.914    0.914       
    Data::Sah::Compiler::perl::TH::str    0.914    0.914       
    Date::Format::ISO8601                 0        0.010       
    Exporter                              5.57     5.74        
    HTTP::CookieJar::LWP                  0        0.014       
    JSON::Encode::TableData               0        0.002       
    Log::ger                              0.038    0.040       
    LWP::UserAgent::Plugin                0.004    0.004       
    Perinci::CmdLine::Any                 0.154    0.154       
    Perinci::CmdLine::Lite                1.924    1.927       
  ! Perinci::Sub::Gen::AccessTable        0.592    0.591       
    Perinci::Sub::Property::result::table 0        0.09        
    perl                                  5.010001 5.030003    
    strict                                0        1.11        
    TableData::Business::ID::DGIP::Class  0        20220831.0.0
    Time::HiRes                           0        1.9764      
    URI::Escape                           0        5.19        
    warnings                              0        1.44        

build_requires:

    Module                                Need     Have        
    ------------------------------------- -------- ------------
    ExtUtils::MakeMaker                   0        7.70        
    File::Spec                            0        3.78        
    IO::Handle                            0        1.51        
    IPC::Open3                            0        1.20        
    Test::More                            0        1.302195    

configure_requires:

    Module                                Need     Have        
    ------------------------------------- -------- ------------
    ExtUtils::MakeMaker                   0        7.70        


------------------------------
ENVIRONMENT AND OTHER CONTEXT
------------------------------

Environment variables:

    PATH = /usr/local/bin:/usr/bin:/bin:/usr/local/sbin:/usr/sbin:/sbin:/home/cpansand/bin/sh:/home/cpansand/bin:/usr/games:/home/cpansand/devel:/usr/home/eserte/src/srezic-misc/scripts
    PERL5LIB = 
    PERL5OPT = 
    PERL5_CPANPLUS_IS_RUNNING = 94520
    PERL5_CPAN_IS_RUNNING = 94520
    PERL5_CPAN_IS_RUNNING_IN_RECURSION = 92890,94520
    PERL_BATCH = yes
    PERL_CANARY_STABILITY_NOPROMPT = 1
    PERL_CPAN_REPORTER_CONFIG = /var/tmp/cpansmoker-1023/2023070509/cpanreporter_000_config.ini
    PERL_EXTUTILS_AUTOINSTALL = --defaultdeps
    PERL_USE_UNSAFE_INC = 1
    SHELL = /bin/sh
    TMPDIR = /var/tmp/cpansmoker-1023/2023070509

Perl special variables (and OS-specific diagnostics, for MSWin32):

    $^X = /usr/perl5.30.3p/bin/perl5.30.3
    $UID/$EUID = 1023 / 1023
    $GID = 1023 1023
    $EGID = 1023 1023

Perl module toolchain versions installed:

    Module              Have    
    ------------------- --------
    CPAN                2.36    
    CPAN::Meta          2.150010
    Cwd                 3.78    
    ExtUtils::CBuilder  0.280236
    ExtUtils::Command   7.70    
    ExtUtils::Install   2.20    
    ExtUtils::MakeMaker 7.70    
    ExtUtils::Manifest  1.75    
    ExtUtils::ParseXS   3.40    
    File::Spec          3.78    
    JSON                4.10    
    JSON::PP            4.15    
    Module::Build       0.4232  
    Module::Signature   0.88    
    Parse::CPAN::Meta   2.150010
    Test::Harness       3.42    
    Test::More          1.302195
    YAML                1.30    
    YAML::Syck          1.34    
    version             0.9929  


--

Summary of my perl5 (revision 5 version 30 subversion 3) configuration:
   
  Platform:
    osname=freebsd
    osvers=12.1-stable
    archname=amd64-freebsd
    uname='freebsd cloud1.bbbike.org 12.1-stable freebsd 12.1-stable c3d9189e4c2(stable12) generic amd64 '
    config_args='-ds -e -Dprefix=/usr/perl5.30.3p -Dcf_email=srezic@cpan.org -Doptimize=-O2 -pipe'
    hint=recommended
    useposix=true
    d_sigaction=define
    useithreads=undef
    usemultiplicity=undef
    use64bitint=define
    use64bitall=define
    uselongdouble=undef
    usemymalloc=n
    default_inc_excludes_dot=define
    bincompat5005=undef
  Compiler:
    cc='cc'
    ccflags ='-DHAS_FPSETMASK -DHAS_FLOATINGPOINT_H -fno-strict-aliasing -pipe -fstack-protector-strong -I/usr/local/include'
    optimize='-O2 -pipe'
    cppflags='-DHAS_FPSETMASK -DHAS_FLOATINGPOINT_H -fno-strict-aliasing -pipe -fstack-protector-strong -I/usr/local/include'
    ccversion=''
    gccversion='FreeBSD Clang 10.0.0 (git@github.com:llvm/llvm-project.git llvmorg-10.0.0-0-gd32170dbd5b)'
    gccosandvers=''
    intsize=4
    longsize=8
    ptrsize=8
    doublesize=8
    byteorder=12345678
    doublekind=3
    d_longlong=define
    longlongsize=8
    d_longdbl=define
    longdblsize=16
    longdblkind=3
    ivtype='long'
    ivsize=8
    nvtype='double'
    nvsize=8
    Off_t='off_t'
    lseeksize=8
    alignbytes=8
    prototype=define
  Linker and Libraries:
    ld='cc'
    ldflags ='-pthread -Wl,-E  -fstack-protector-strong -L/usr/local/lib'
    libpth=/usr/lib /usr/local/lib /usr/lib/clang/10.0.0/lib /usr/lib
    libs=-lpthread -lgdbm -ldl -lm -lcrypt -lutil -lc
    perllibs=-lpthread -ldl -lm -lcrypt -lutil -lc
    libc=
    so=so
    useshrplib=false
    libperl=libperl.a
    gnulibc_version=''
  Dynamic Linking:
    dlsrc=dl_dlopen.xs
    dlext=so
    d_dlsymun=undef
    ccdlflags=' '
    cccdlflags='-DPIC -fPIC'
    lddlflags='-shared  -L/usr/local/lib -fstack-protector-strong'


Characteristics of this binary (from libperl): 
  Compile-time options:
    HAS_TIMES
    PERLIO_LAYERS
    PERL_COPY_ON_WRITE
    PERL_DONT_CREATE_GVSV
    PERL_MALLOC_WRAP
    PERL_OP_PARENT
    PERL_PRESERVE_IVUV
    USE_64_BIT_ALL
    USE_64_BIT_INT
    USE_LARGE_FILES
    USE_LOCALE
    USE_LOCALE_COLLATE
    USE_LOCALE_CTYPE
    USE_LOCALE_NUMERIC
    USE_LOCALE_TIME
    USE_PERLIO
    USE_PERL_ATOF
  Built under freebsd
  Compiled at Jul  6 2020 19:02:57
  %ENV:
    PERL5LIB=""
    PERL5OPT=""
    PERL5_CPANPLUS_IS_RUNNING="94520"
    PERL5_CPAN_IS_RUNNING="94520"
    PERL5_CPAN_IS_RUNNING_IN_RECURSION="92890,94520"
    PERL_BATCH="yes"
    PERL_CANARY_STABILITY_NOPROMPT="1"
    PERL_CPAN_REPORTER_CONFIG="/var/tmp/cpansmoker-1023/2023070509/cpanreporter_000_config.ini"
    PERL_EXTUTILS_AUTOINSTALL="--defaultdeps"
    PERL_USE_UNSAFE_INC="1"
  @INC:
    /usr/perl5.30.3p/lib/site_perl/5.30.3/amd64-freebsd
    /usr/perl5.30.3p/lib/site_perl/5.30.3
    /usr/perl5.30.3p/lib/5.30.3/amd64-freebsd
    /usr/perl5.30.3p/lib/5.30.3
    .