Spreadsheet-WriteExcel v2.40 Perl 5 v5.14.0 x86_64-linux-thread-multi

Status
Pass
From
Nigel Horne
Dist
Spreadsheet-WriteExcel v2.40
Platform
Perl 5 v5.14.0 x86_64-linux-thread-multi
Date
2018-07-05 23:04:58
ID
d6d43f76-80a7-11e8-8fb1-ef5133556b3f
This distribution has been tested as part of the CPAN Testers
project, supporting the Perl programming language.  See
http://wiki.cpantesters.org/ for more information or email
questions to cpan-testers-discuss@perl.org


--
Dear John McNamara,

This is a computer-generated report for Spreadsheet-WriteExcel-2.40
on perl 5.14.0, created by CPAN-Reporter-1.2018.

Thank you for uploading your work to CPAN.  Congratulations!
All tests were successful.

Sections of this report:

    * Tester comments
    * Program output
    * Prerequisites
    * Environment and other context

------------------------------
TESTER COMMENTS
------------------------------

Additional comments from tester:

this report is from an automated smoke testing program
and was not reviewed by a human for accuracy

------------------------------
PROGRAM OUTPUT
------------------------------

Output from '/usr/bin/make test':

PERL_DL_NONLAZY=1 "/home/njh/perl5/perlbrew/perls/perl-5.14.0/bin/perl" "-MExtUtils::Command::MM" "-MTest::Harness" "-e" "undef *Test::Harness::Switches; test_harness(0, 'blib/lib', 'blib/arch')" t/*.t
t/00_IEEE_double.t ............ ok
t/01_add_worksheet.t .......... ok
t/02_merge_formats.t .......... ok
t/03_cleanup.t ................ ok
t/04_dimensions.t ............. ok
t/05_rows.t ................... ok
t/07_set_propertes.t .......... ok
t/06_extsst.t ................. ok
t/11_date_time.t .............. ok
t/13_date_seconds.t ........... ok
t/12_date_only.t .............. ok
t/21_escher.t ................. ok
t/23_note.t ................... ok
t/24_txo.t .................... ok
t/25_position_object.t ........ ok
t/26_autofilter.t ............. ok
t/27_autofilter.t ............. ok
t/28_autofilter.t ............. ok
t/29_process_jpg.t ............ ok
t/30_validation_dval.t ........ ok
t/31_validation_dv_strings.t .. ok
t/22_mso_drawing_group.t ...... ok
t/32_validation_dv_formula.t .. ok
t/40_property_types.t ......... ok
t/41_properties.t ............. ok
t/33_validation_dv.t .......... ok
t/42_set_properties.t ......... ok
t/50_name_stored.t ............ ok
t/51_name_print_area.t ........ ok
t/52_name_print_titles.t ...... ok
t/60_chart_generic.t .......... ok
t/53_name_autofilter.t ........ ok
t/61_chart_subclasses.t ....... ok
t/62_chart_formats.t .......... ok
t/63_chart_area_formats.t ..... ok
All tests successful.
Files=35, Tests=1254,  3 wallclock secs ( 0.23 usr  0.07 sys +  6.07 cusr  0.70 csys =  7.07 CPU)
Result: PASS

------------------------------
PREREQUISITES
------------------------------

Prerequisite modules loaded:

requires:

    Module              Need Have    
    ------------------- ---- --------
    File::Temp          0    0.22    
    OLE::Storage_Lite   0.19 0.19    
    Parse::RecDescent   0    1.967015

build_requires:

    Module              Need Have    
    ------------------- ---- --------
    ExtUtils::MakeMaker 0    7.22    

configure_requires:

    Module              Need Have    
    ------------------- ---- --------
    ExtUtils::MakeMaker 0    7.22    


------------------------------
ENVIRONMENT AND OTHER CONTEXT
------------------------------

Environment variables:

    AUTOMATED_TESTING = 1
    HARNESS_OPTIONS = j2
    LANG = en_US.UTF-8
    PATH = /home/njh/perl5/perlbrew/bin:/home/njh/perl5/perlbrew/perls/perl-5.14.0/bin:/home/njh/src/njh/smoker/bin:/usr/bin:/bin
    PERL5LIB = /home/njh/.cpan/build/OLE-Storage_Lite-0.19-0/blib/arch:/home/njh/.cpan/build/OLE-Storage_Lite-0.19-0/blib/lib
    PERL5OPT = 
    PERL5_CPANPLUS_IS_RUNNING = 21756
    PERL5_CPAN_IS_RUNNING = 21756
    PERLBREW_HOME = /home/njh/.perlbrew
    PERLBREW_MANPATH = /home/njh/perl5/perlbrew/perls/perl-5.14.0/man
    PERLBREW_PATH = /home/njh/perl5/perlbrew/bin:/home/njh/perl5/perlbrew/perls/perl-5.14.0/bin
    PERLBREW_PERL = perl-5.14.0
    PERLBREW_ROOT = /home/njh/perl5/perlbrew
    PERLBREW_SHELLRC_VERSION = 0.83
    PERLBREW_VERSION = 0.83
    SHELL = /bin/sh
    TEMP = /tmp/user/1000
    TMPDIR = /tmp/user/1000/testwrapper.21738

Perl special variables (and OS-specific diagnostics, for MSWin32):

    $^X = /home/njh/perl5/perlbrew/perls/perl-5.14.0/bin/perl
    $UID/$EUID = 1000 / 1000
    $GID = 1000 4 24 25 29 30 44 46 103 108 115 123 1000
    $EGID = 1000 4 24 25 29 30 44 46 103 108 115 123 1000

Perl module toolchain versions installed:

    Module              Have    
    ------------------- --------
    CPAN                2.16    
    CPAN::Meta          2.150005
    Cwd                 3.47    
    ExtUtils::CBuilder  0.280220
    ExtUtils::Command   7.22    
    ExtUtils::Install   1.56    
    ExtUtils::MakeMaker 7.22    
    ExtUtils::Manifest  1.70    
    ExtUtils::ParseXS   3.30    
    File::Spec          3.47    
    JSON                2.97001 
    JSON::PP            2.27400 
    Module::Build       0.4210  
    Module::Signature   n/a     
    Parse::CPAN::Meta   1.4422  
    Test::Harness       3.36    
    Test::More          1.302136
    YAML                1.26    
    YAML::Syck          1.30    
    version             0.88    


--

Summary of my perl5 (revision 5 version 14 subversion 0) configuration:
   
  Platform:
    osname=linux, osvers=3.16-3-amd64, archname=x86_64-linux-thread-multi
    uname='linux amelia 3.16-3-amd64 #1 smp debian 3.16.5-1 (2014-10-10) x86_64 gnulinux '
    config_args='-de -Dprefix=/home/njh/perl5/perlbrew/perls/perl-5.14.0 -Duseithreads -Dusemultiplicity -Dusedevel -Accflags= -Aeval:scriptdir=/home/njh/perl5/perlbrew/perls/perl-5.14.0/bin'
    hint=recommended, useposix=true, d_sigaction=define
    useithreads=define, usemultiplicity=define
    useperlio=define, d_sfio=undef, uselargefiles=define, usesocks=undef
    use64bitint=define, use64bitall=define, uselongdouble=undef
    usemymalloc=n, bincompat5005=undef
  Compiler:
    cc='cc', ccflags ='-D_REENTRANT -D_GNU_SOURCE -fno-strict-aliasing -pipe -fstack-protector -I/usr/local/include -D_LARGEFILE_SOURCE -D_FILE_OFFSET_BITS=64',
    optimize='-O2',
    cppflags='-D_REENTRANT -D_GNU_SOURCE -fno-strict-aliasing -pipe -fstack-protector -I/usr/local/include'
    ccversion='', gccversion='4.9.2', gccosandvers=''
    intsize=4, longsize=8, ptrsize=8, doublesize=8, byteorder=12345678
    d_longlong=define, longlongsize=8, d_longdbl=define, longdblsize=16
    ivtype='long', ivsize=8, nvtype='double', nvsize=8, Off_t='off_t', lseeksize=8
    alignbytes=8, prototype=define
  Linker and Libraries:
    ld='cc', ldflags =' -fstack-protector -L/usr/local/lib'
    libpth=/usr/local/lib /lib/x86_64-linux-gnu /lib/../lib /usr/lib/x86_64-linux-gnu /usr/lib/../lib /lib /usr/lib
    libs=-lnsl -lgdbm -ldb -ldl -lm -lcrypt -lutil -lpthread -lc -lgdbm_compat
    perllibs=-lnsl -ldl -lm -lcrypt -lutil -lpthread -lc
    libc=libc-2.19.so, so=so, useshrplib=false, libperl=libperl.a
    gnulibc_version='2.19'
  Dynamic Linking:
    dlsrc=dl_dlopen.xs, dlext=so, d_dlsymun=undef, ccdlflags='-Wl,-E'
    cccdlflags='-fPIC', lddlflags='-shared -O2 -L/usr/local/lib -fstack-protector'


Characteristics of this binary (from libperl): 
  Compile-time options: MULTIPLICITY PERL_DONT_CREATE_GVSV
                        PERL_IMPLICIT_CONTEXT PERL_MALLOC_WRAP
                        PERL_PRESERVE_IVUV PERL_USE_DEVEL USE_64_BIT_ALL
                        USE_64_BIT_INT USE_ITHREADS USE_LARGE_FILES
                        USE_PERLIO USE_PERL_ATOF USE_REENTRANT_API
  Built under linux
  Compiled at Nov 15 2014 02:23:01
  %ENV:
    PERL5LIB="/home/njh/.cpan/build/OLE-Storage_Lite-0.19-0/blib/arch:/home/njh/.cpan/build/OLE-Storage_Lite-0.19-0/blib/lib"
    PERL5OPT=""
    PERL5_CPANPLUS_IS_RUNNING="21756"
    PERL5_CPAN_IS_RUNNING="21756"
    PERLBREW_HOME="/home/njh/.perlbrew"
    PERLBREW_MANPATH="/home/njh/perl5/perlbrew/perls/perl-5.14.0/man"
    PERLBREW_PATH="/home/njh/perl5/perlbrew/bin:/home/njh/perl5/perlbrew/perls/perl-5.14.0/bin"
    PERLBREW_PERL="perl-5.14.0"
    PERLBREW_ROOT="/home/njh/perl5/perlbrew"
    PERLBREW_SHELLRC_VERSION="0.83"
    PERLBREW_VERSION="0.83"
  @INC:
    /home/njh/.cpan/build/OLE-Storage_Lite-0.19-0/blib/arch
    /home/njh/.cpan/build/OLE-Storage_Lite-0.19-0/blib/lib
    /home/njh/perl5/perlbrew/perls/perl-5.14.0/lib/site_perl/5.14.0/x86_64-linux-thread-multi
    /home/njh/perl5/perlbrew/perls/perl-5.14.0/lib/site_perl/5.14.0
    /home/njh/perl5/perlbrew/perls/perl-5.14.0/lib/5.14.0/x86_64-linux-thread-multi
    /home/njh/perl5/perlbrew/perls/perl-5.14.0/lib/5.14.0
    .