Report for Dist-Zilla-Plugin-CheckExtraTests-0.022

Back
From: metabase:user:320bfe00-2aae-11df-837a-5e0a49663a4f
Subject: PASS Dist-Zilla-Plugin-CheckExtraTests-0.022 v5.21.3 GNU/Linux
Date: 2014-08-02T04:09:46Z

This distribution has been tested as part of the CPAN Testers
project, supporting the Perl programming language.  See
http://wiki.cpantesters.org/ for more information or email
questions to cpan-testers-discuss@perl.org


--
Dear David Golden,

This is a computer-generated report for Dist-Zilla-Plugin-CheckExtraTests-0.022
on perl 5.21.3, created by CPAN-Reporter-1.2011.

Thank you for uploading your work to CPAN.  Congratulations!
All tests were successful.

Sections of this report:

    * Tester comments
    * Program output
    * Prerequisites
    * Environment and other context

------------------------------
TESTER COMMENTS
------------------------------

Additional comments from tester:

this report is from an automated smoke testing program
and was not reviewed by a human for accuracy

------------------------------
PROGRAM OUTPUT
------------------------------

Output from '/usr/bin/make test':

PERL_DL_NONLAZY=1 /tmp/basesmoker-reloperl-ob9u/bin/perl "-MExtUtils::Command::MM" "-MTest::Harness" "-e" "undef *Test::Harness::Switches; test_harness(0, 'blib/lib', 'blib/arch')" t/*.t
# 
# Versions for all modules listed in MYMETA.json (including optional ones):
#    Version Module                          
#   -------- --------------------------------
#       3.32 App::Prove                      
#       2.00 Archive::Tar                    
#   2.142060 CPAN::Meta                      
#      2.126 CPAN::Meta::Requirements        
#       0.24 Capture::Tiny                   
#      5.020 Dist::Zilla                     
#      5.020 Dist::Zilla::App                
#      5.020 Dist::Zilla::App::Tester        
#      5.020 Dist::Zilla::Role::BeforeRelease
#      5.020 Dist::Zilla::Role::TestRunner   
#      5.020 Dist::Zilla::Tester             
#       6.98 ExtUtils::MakeMaker             
#       3.49 File::Spec::Functions           
#      1.009 File::pushd                     
#       1.39 List::Util                      
#     2.1210 Moose                           
#       0.15 Moose::Autobox                  
#       1.07 Params::Util                    
#      1.008 Path::Iterator::Rule            
#      0.055 Path::Tiny                      
#      0.987 Sub::Exporter                   
#   1.001003 Test::More                      
#       0.08 Test::Requires                  
#       0.22 Try::Tiny                       
#       0.63 lib                             
#       0.19 namespace::autoclean            
#       1.08 strict                          
#     0.9908 version                         
#       1.26 warnings                        
t/00-report-prereqs.t .. ok
t/checkxt.t ............ ok
t/runxt.t .............. ok
t/withblib.t ........... ok
All tests successful.
Files=4, Tests=16, 10 wallclock secs ( 0.03 usr  0.01 sys +  7.85 cusr  0.64 csys =  8.53 CPU)
Result: PASS

------------------------------
PREREQUISITES
------------------------------

Prerequisite modules loaded:

requires:

    Module                           Need  Have    
    -------------------------------- ----- --------
    App::Prove                       3.00  3.32    
    Archive::Tar                     0     2.00    
    Dist::Zilla                      4.3   5.020   
    Dist::Zilla::App                 0     5.020   
    Dist::Zilla::Role::BeforeRelease 0     5.020   
    Dist::Zilla::Role::TestRunner    0     5.020   
    File::pushd                      0     1.009   
    Moose                            2     2.1210  
    Moose::Autobox                   0     0.15    
    namespace::autoclean             0.09  0.19    
    Path::Iterator::Rule             0     1.008   
    Path::Tiny                       0.013 0.055   
    strict                           0     1.08    
    warnings                         0     1.26    

build_requires:

    Module                           Need  Have    
    -------------------------------- ----- --------
    Capture::Tiny                    0     0.24    
    Dist::Zilla::App::Tester         0     5.020   
    Dist::Zilla::Tester              0     5.020   
    ExtUtils::MakeMaker              0     6.98    
    File::Spec::Functions            0     3.49    
    lib                              0     0.63    
    List::Util                       0     1.39    
    Params::Util                     0     1.07    
    Sub::Exporter                    0     0.987   
    Test::More                       0.88  1.001003
    Test::Requires                   0     0.08    
    Try::Tiny                        0     0.22    
    version                          0     0.9908  

configure_requires:

    Module                           Need  Have    
    -------------------------------- ----- --------
    ExtUtils::MakeMaker              6.17  6.98    


------------------------------
ENVIRONMENT AND OTHER CONTEXT
------------------------------

Environment variables:

    AUTOMATED_TESTING = 1
    LANG = en_US.UTF-8
    LANGUAGE = en_US:en
    PATH = /usr/lib/ccache:/home/sand/bin:/usr/local/bin:/usr/bin:/bin:/usr/games:/usr/local/perl/bin:/usr/X11/bin:/sbin:/usr/sbin
    PERL5LIB = 
    PERL5OPT = 
    PERL5_CPANPLUS_IS_RUNNING = 5394
    PERL5_CPAN_IS_RUNNING = 5394
    PERL_MM_USE_DEFAULT = 1
    SHELL = /usr/bin/zsh
    TERM = screen

Perl special variables (and OS-specific diagnostics, for MSWin32):

    $^X = /tmp/basesmoker-reloperl-ob9u/bin/perl
    $UID/$EUID = 1005 / 1005
    $GID = 1005 1005
    $EGID = 1005 1005

Perl module toolchain versions installed:

    Module              Have    
    ------------------- --------
    CPAN                2.05    
    CPAN::Meta          2.142060
    Cwd                 3.49    
    ExtUtils::CBuilder  0.280216
    ExtUtils::Command   1.18    
    ExtUtils::Install   1.68    
    ExtUtils::MakeMaker 6.98    
    ExtUtils::Manifest  1.64    
    ExtUtils::ParseXS   3.25    
    File::Spec          3.49    
    JSON                2.90    
    JSON::PP            2.27203 
    Module::Build       0.4206  
    Module::Signature   0.73    
    Parse::CPAN::Meta   1.4414  
    Test::Harness       3.32    
    Test::More          1.001003
    YAML                0.98    
    YAML::Syck          1.27    
    version             0.9908  


--

Summary of my perl5 (revision 5 version 21 subversion 3) configuration:
  Commit id: 33e493d3ba71689dfaec10efd9847548790cc922
  Platform:
    osname=linux, osvers=3.14-2-amd64, archname=x86_64-linux
    uname='linux k83 3.14-2-amd64 #1 smp debian 3.14.13-2 (2014-07-24) x86_64 gnulinux '
    config_args='-Dprefix=/home/sand/src/perl/repoperls/installed-perls/perl/v5.21.2-87-g33e493d/165a -Dmyhostname=k83 -Dinstallusrbinperl=n -Uversiononly -Dusedevel -des -Ui_db -Uuseithreads -Uuselongdouble -DDEBUGGING=-g'
    hint=recommended, useposix=true, d_sigaction=define
    useithreads=undef, usemultiplicity=undef
    use64bitint=define, use64bitall=define, uselongdouble=undef
    usemymalloc=n, bincompat5005=undef
  Compiler:
    cc='cc', ccflags ='-fwrapv -fno-strict-aliasing -pipe -fstack-protector -I/usr/local/include -D_LARGEFILE_SOURCE -D_FILE_OFFSET_BITS=64 -D_FORTIFY_SOURCE=2',
    optimize='-O2 -g',
    cppflags='-fwrapv -fno-strict-aliasing -pipe -fstack-protector -I/usr/local/include'
    ccversion='', gccversion='4.9.1', gccosandvers=''
    intsize=4, longsize=8, ptrsize=8, doublesize=8, byteorder=12345678
    d_longlong=define, longlongsize=8, d_longdbl=define, longdblsize=16
    ivtype='long', ivsize=8, nvtype='double', nvsize=8, Off_t='off_t', lseeksize=8
    alignbytes=8, prototype=define
  Linker and Libraries:
    ld='cc', ldflags =' -fstack-protector -L/usr/local/lib'
    libpth=/usr/local/lib /usr/lib/gcc/x86_64-linux-gnu/4.9/include-fixed /usr/include/x86_64-linux-gnu /usr/lib /lib/x86_64-linux-gnu /lib/../lib /usr/lib/x86_64-linux-gnu /usr/lib/../lib /lib
    libs=-lnsl -lgdbm -ldb -ldl -lm -lcrypt -lutil -lc -lgdbm_compat
    perllibs=-lnsl -ldl -lm -lcrypt -lutil -lc
    libc=libc-2.19.so, so=so, useshrplib=false, libperl=libperl.a
    gnulibc_version='2.19'
  Dynamic Linking:
    dlsrc=dl_dlopen.xs, dlext=so, d_dlsymun=undef, ccdlflags='-Wl,-E'
    cccdlflags='-fPIC', lddlflags='-shared -O2 -g -L/usr/local/lib -fstack-protector'


Characteristics of this binary (from libperl): 
  Compile-time options: HAS_TIMES PERLIO_LAYERS PERL_DONT_CREATE_GVSV
                        PERL_HASH_FUNC_ONE_AT_A_TIME_HARD PERL_MALLOC_WRAP
                        PERL_NEW_COPY_ON_WRITE PERL_PRESERVE_IVUV
                        PERL_USE_DEVEL USE_64_BIT_ALL USE_64_BIT_INT
                        USE_LARGE_FILES USE_LOCALE USE_LOCALE_COLLATE
                        USE_LOCALE_CTYPE USE_LOCALE_NUMERIC USE_LOCALE_TIME
                        USE_PERLIO USE_PERL_ATOF
  Built under linux
  Compiled at Aug  1 2014 19:46:22
  %ENV:
    PERL5LIB=""
    PERL5OPT=""
    PERL5_CPANPLUS_IS_RUNNING="5394"
    PERL5_CPAN_IS_RUNNING="5394"
    PERL_MM_USE_DEFAULT="1"
  @INC:
    /home/sand/src/perl/repoperls/installed-perls/perl/v5.21.2-87-g33e493d/165a/lib/site_perl/5.21.3/x86_64-linux
    /home/sand/src/perl/repoperls/installed-perls/perl/v5.21.2-87-g33e493d/165a/lib/site_perl/5.21.3
    /home/sand/src/perl/repoperls/installed-perls/perl/v5.21.2-87-g33e493d/165a/lib/5.21.3/x86_64-linux
    /home/sand/src/perl/repoperls/installed-perls/perl/v5.21.2-87-g33e493d/165a/lib/5.21.3
    .