LaTeXML v0.8.8 Perl 5 v5.16.3 amd64-freebsd-thread-multi

Status
Pass
From
Slaven Rezić
Dist
LaTeXML v0.8.8
Platform
Perl 5 v5.16.3 amd64-freebsd-thread-multi
Date
2024-02-28 12:21:03
ID
d6c7b728-d633-11ee-bbe7-60266e8775ea
This distribution has been tested as part of the CPAN Testers
project, supporting the Perl programming language.  See
http://wiki.cpantesters.org/ for more information or email
questions to cpan-testers-discuss@perl.org


--
Dear Bruce Miller,

This is a computer-generated report for LaTeXML-0.8.8
on perl 5.16.3, created by CPAN-Reporter-1.2019.

Thank you for uploading your work to CPAN.  Congratulations!
All tests were successful.

Sections of this report:

    * Tester comments
    * Program output
    * Prerequisites
    * Environment and other context

------------------------------
TESTER COMMENTS
------------------------------

Additional comments from tester:

none provided

------------------------------
PROGRAM OUTPUT
------------------------------

Output from '/usr/bin/make test':

PERL_DL_NONLAZY=1 "/usr/perl5.16.3t/bin/perl" "-MExtUtils::Command::MM" "-MTest::Harness" "-e" "undef *Test::Harness::Switches; test_harness(0, 'blib/lib', 'blib/arch')" t/*.t
# 
#   LaTeXML version 0.8.8
#   XML::LibXML 2.0209; libxml2 20902
#   XML::LibXSLT 2.002001; libxslt 10128
#   No TeX
t/000_test_context.t ...... ok
t/002_unit_findfile.t ..... ok
# Skip: This unit test only examines basic Image::Magick conversion, when installed.
t/003_unit_imagemagick.t .. ok
t/00_unittest.t ........... ok
t/05_tokenize.t ........... ok
# Skip: Missing requirement etoolbox.sty for t/expansion/etoolbox
t/10_expansion.t .......... ok
t/12_grouping.t ........... ok
t/170_grammar_coverage.t .. skipped: Only checked in continuous integration. (use make test CI=true)
t/20_digestion.t .......... ok
element XMTok: validity error : ID S0.Ex2.m1.21 already defined
element XMTok: validity error : ID S0.Ex2.m1.20 already defined
element XMTok: validity error : ID S0.Ex2.m1.19 already defined
element XMTok: validity error : ID S0.Ex2.m1.18 already defined
element XMTok: validity error : ID S0.Ex2.m1.17 already defined
element XMTok: validity error : ID S0.Ex2.m1.16 already defined
element XMTok: validity error : ID S0.Ex2.m1.15 already defined
element XMTok: validity error : ID S0.Ex2.m1.14 already defined
element XMTok: validity error : ID S0.Ex2.m1.13 already defined
element XMTok: validity error : ID S0.Ex2.m1.12 already defined
element XMTok: validity error : ID S0.Ex2.m1.11 already defined
element XMTok: validity error : ID S0.Ex2.m1.10 already defined
element XMTok: validity error : ID S0.Ex2.m1.9 already defined
element XMTok: validity error : ID S0.Ex2.m1.8 already defined
element XMTok: validity error : ID S0.Ex2.m1.7 already defined
element XMTok: validity error : ID S0.Ex2.m1.6 already defined
element XMTok: validity error : ID S0.Ex2.m1.5 already defined
element XMTok: validity error : ID S0.Ex2.m1.4 already defined
element XMTok: validity error : ID S0.Ex2.m1.3 already defined
element XMTok: validity error : ID S0.Ex2.m1.2 already defined
element XMTok: validity error : ID S0.Ex2.m1.1 already defined
element XMTok: validity error : ID S0.Ex1.m1.1 already defined
t/22_fonts.t .............. ok
t/30_encoding.t ........... ok
# Skip: Missing requirement xkvview.sty for t/keyval/xkeyvalview
t/32_keyval.t ............. ok
t/33_keyval_options.t ..... ok
element XMApp: validity error : ID S2.Ex6.m1.2 already defined
element XMApp: validity error : ID S1.Ex2.m1.5 already defined
element XMApp: validity error : ID S1.Ex2.m1.4 already defined
element XMApp: validity error : ID S1.Ex1.m1.10 already defined
element XMApp: validity error : ID S2.E10.m1.18 already defined
element XMApp: validity error : ID S2.E10.m1.17 already defined
element XMApp: validity error : ID S2.E10.m1.16 already defined
t/40_math.t ............... ok
# Skip: Missing requirement csquotes.sty for t/structure/csquotes
# Skip: Minimal texlive 2021 requirement not met for t/structure/figure_grids
# Skip: Missing requirement glossaries.sty for t/structure/glossary
element figure: validity error : ID S0.F3.sf1 already defined
t/50_structure.t .......... ok
t/52_namespace.t .......... ok
# Skip: Missing requirement algpseudocode.sty for t/alignment/algx
# Skip: Missing requirement makecell.sty for t/alignment/cells
element equationgroup: validity error : ID Ch0.Ex2 already defined
t/53_alignment.t .......... ok
t/55_theorem.t ............ ok
t/56_ams.t ................ ok
t/65_graphics.t ........... ok
t/70_parse.t .............. ok
# Skip: Missing requirement cleveref.sty for t/complex/cleveref_minimal
# Skip: Minimal texlive 2021 requirement not met for t/complex/figure_dual_caption
# Skip: Minimal texlive 2021 requirement not met for t/complex/figure_mixed_content
element XMApp: validity error : ID S1.Ex26.m1.11 already defined
element XMApp: validity error : ID S1.Ex23.m1.6 already defined
element XMTok: validity error : ID S1.Ex23.m1.5 already defined
element XMTok: validity error : ID S1.Ex18.m1.7 already defined
element XMTok: validity error : ID S1.Ex18.m1.5 already defined
element XMTok: validity error : ID S1.Ex18.m1.3 already defined
element XMTok: validity error : ID S1.Ex18.m1.1 already defined
element XMTok: validity error : ID S1.Ex16.m1.6 already defined
element XMTok: validity error : ID S1.Ex14.m1.11 already defined
element XMTok: validity error : ID S1.Ex14.m1.9 already defined
element XMTok: validity error : ID S1.Ex14.m1.6 already defined
element XMTok: validity error : ID S1.Ex14.m1.4 already defined
element XMApp: validity error : ID S1.Ex12.m1.7 already defined
element XMApp: validity error : ID S1.Ex9.m1.7 already defined
element XMTok: validity error : ID S1.Ex9.m1.6 already defined
# Skip: Missing requirement siunitx.sty for t/complex/si
t/80_complex.t ............ ok
# Skip: Missing requirement csquotes.sty for t/babel/csquotes
# Skip: Missing requirement numprint.sty for t/babel/french
# Skip: Missing requirement numprint.sty for t/babel/numprints
t/81_babel.t .............. ok
t/82_moderncv.t ........... ok
# Skip: Missing requirement expl3.sty for t/expl3/tilde_tricks
# Skip: Missing requirement expl3.sty for t/expl3/xparse
t/83_expl3.t .............. ok
t/84_slides.t ............. ok
:0: element XMTok: validity error : ID S1.Ex6.m1.1 already defined
:0: element XMTok: validity error : ID S1.Ex6.m1.2 already defined
:0: element XMTok: validity error : ID S1.Ex6.m1.3 already defined
:0: element XMTok: validity error : ID S1.Ex6.m1.4 already defined
:0: element XMApp: validity error : ID S0.Ex4.m1.1 already defined
:0: element XMTok: validity error : ID S0.Ex3.m1.1 already defined
:0: element XMApp: validity error : ID S0.Ex3.m1.2 already defined
:0: element XMTok: validity error : ID S0.Ex2.m1.1 already defined
:0: element XMTok: validity error : ID S0.Ex2.m1.2 already defined
t/90_latexmlpost.t ........ ok
t/91_latexmlc_api.t ....... ok
t/92_profiles.t ........... ok
t/931_epub.t .............. ok
t/93_formats.t ............ ok
t/94_runtimes.t ........... ok
t/95_complex_config.t ..... ok
t/96_fatal.t .............. ok
t/97_manifest.t ........... skipped: Only checked in continuous integration. (use make test CI=true)
All tests successful.
Files=35, Tests=452, 411 wallclock secs ( 0.09 usr  0.18 sys + 385.84 cusr  7.38 csys = 393.49 CPU)
Result: PASS

------------------------------
PREREQUISITES
------------------------------

Prerequisite modules loaded:

requires:

    Module              Need     Have    
    ------------------- -------- --------
    Archive::Zip        0        1.67    
    DB_File             0        1.858   
    File::Which         0        1.27    
    Getopt::Long        2.37     2.56    
    Image::Size         0        3.300   
    IO::Handle          0        1.55    
    IO::String          0        1.08    
    JSON::XS            0        4.03    
    LWP                 0        6.75    
    MIME::Base64        0        3.16    
    Parse::RecDescent   0        1.967015
    perl                5.010001 5.016003
    Pod::Parser         0        1.67    
    Test::More          0        1.302198
    Text::Unidecode     0        1.30    
    Time::HiRes         0        1.9764  
    URI                 0        5.25    
    version             0        0.9929  
    XML::LibXML         1.61     2.0209  
    XML::LibXSLT        1.58     2.002001

build_requires:

    Module              Need     Have    
    ------------------- -------- --------
    ExtUtils::MakeMaker 0        7.70    


------------------------------
ENVIRONMENT AND OTHER CONTEXT
------------------------------

Environment variables:

    LC_ALL = de_DE.ISO8859-1
    PATH = /usr/local/bin:/usr/bin:/bin:/usr/local/sbin:/usr/sbin:/sbin:/home/cpansand/bin/freebsd9.3:/home/cpansand/bin/sh:/home/cpansand/bin:/usr/games:/home/cpansand/devel:/usr/home/eserte/src/srezic-misc/scripts
    PERL5LIB = 
    PERL5OPT = 
    PERL5_CPANPLUS_IS_RUNNING = 59942
    PERL5_CPAN_IS_RUNNING = 59942
    PERL5_CPAN_IS_RUNNING_IN_RECURSION = 6460,59942
    PERLDOC = -MPod::Perldoc::ToTextOverstrike
    PERL_BATCH = yes
    PERL_CANARY_STABILITY_NOPROMPT = 1
    PERL_CPAN_REPORTER_CONFIG = /var/tmp/cpansmoker-1023/2024022807/cpanreporter_000_config.ini
    PERL_EXTUTILS_AUTOINSTALL = --defaultdeps
    PERL_USE_UNSAFE_INC = 1
    SHELL = /usr/local/bin/zsh
    TERM = screen
    TMPDIR = /var/tmp/cpansmoker-1023/2024022807

Perl special variables (and OS-specific diagnostics, for MSWin32):

    $^X = /usr/perl5.16.3t/bin/perl
    $UID/$EUID = 1023 / 1023
    $GID = 1023 1023
    $EGID = 1023 1023

Perl module toolchain versions installed:

    Module              Have    
    ------------------- --------
    CPAN                2.36    
    CPAN::Meta          2.150010
    Cwd                 3.75    
    ExtUtils::CBuilder  0.280236
    ExtUtils::Command   7.70    
    ExtUtils::Install   2.22    
    ExtUtils::MakeMaker 7.70    
    ExtUtils::Manifest  1.75    
    ExtUtils::ParseXS   3.51    
    File::Spec          3.75    
    JSON                4.10    
    JSON::PP            4.16    
    Module::Build       0.4234  
    Module::Signature   0.88    
    Parse::CPAN::Meta   2.150010
    Test2               1.302198
    Test::Harness       3.47    
    Test::More          1.302198
    YAML                1.30    
    YAML::Syck          1.34    
    version             0.9929  


--

Summary of my perl5 (revision 5 version 16 subversion 3) configuration:
   
  Platform:
    osname=freebsd, osvers=9.2-release-p4, archname=amd64-freebsd-thread-multi
    uname='freebsd cvrsnica-freebsd-92 9.2-release-p4 freebsd 9.2-release-p4 #0: tue apr 8 18:08:22 utc 2014 root@amd64-builder.daemonology.net:usrobjusrsrcsysgeneric amd64 '
    config_args='-ds -e -Dprefix=/usr/perl5.16.3t -Dusethreads'
    hint=recommended, useposix=true, d_sigaction=define
    useithreads=define, usemultiplicity=define
    useperlio=define, d_sfio=undef, uselargefiles=define, usesocks=undef
    use64bitint=define, use64bitall=define, uselongdouble=undef
    usemymalloc=n, bincompat5005=undef
  Compiler:
    cc='cc', ccflags ='-DHAS_FPSETMASK -DHAS_FLOATINGPOINT_H -fno-strict-aliasing -pipe -fstack-protector -I/usr/local/include',
    optimize='-O',
    cppflags='-DHAS_FPSETMASK -DHAS_FLOATINGPOINT_H -fno-strict-aliasing -pipe -fstack-protector -I/usr/local/include'
    ccversion='', gccversion='4.2.1 20070831 patched [FreeBSD]', gccosandvers=''
    intsize=4, longsize=8, ptrsize=8, doublesize=8, byteorder=12345678
    d_longlong=define, longlongsize=8, d_longdbl=define, longdblsize=16
    ivtype='long', ivsize=8, nvtype='double', nvsize=8, Off_t='off_t', lseeksize=8
    alignbytes=8, prototype=define
  Linker and Libraries:
    ld='cc', ldflags ='-pthread -Wl,-E  -fstack-protector -L/usr/local/lib'
    libpth=/usr/lib /usr/local/lib
    libs=-lgdbm -lm -lcrypt
    perllibs=-lm -lcrypt
    libc=, so=so, useshrplib=false, libperl=libperl.a
    gnulibc_version=''
  Dynamic Linking:
    dlsrc=dl_dlopen.xs, dlext=so, d_dlsymun=undef, ccdlflags=' '
    cccdlflags='-DPIC -fPIC', lddlflags='-shared  -L/usr/local/lib -fstack-protector'


Characteristics of this binary (from libperl): 
  Compile-time options: HAS_TIMES MULTIPLICITY PERLIO_LAYERS
                        PERL_DONT_CREATE_GVSV PERL_IMPLICIT_CONTEXT
                        PERL_MALLOC_WRAP PERL_PRESERVE_IVUV USE_64_BIT_ALL
                        USE_64_BIT_INT USE_ITHREADS USE_LARGE_FILES
                        USE_LOCALE USE_LOCALE_COLLATE USE_LOCALE_CTYPE
                        USE_LOCALE_NUMERIC USE_PERLIO USE_PERL_ATOF
                        USE_REENTRANT_API
  Built under freebsd
  Compiled at May 16 2014 07:49:48
  %ENV:
    PERL5LIB=""
    PERL5OPT=""
    PERL5_CPANPLUS_IS_RUNNING="59942"
    PERL5_CPAN_IS_RUNNING="59942"
    PERL5_CPAN_IS_RUNNING_IN_RECURSION="6460,59942"
    PERLDOC="-MPod::Perldoc::ToTextOverstrike"
    PERL_BATCH="yes"
    PERL_CANARY_STABILITY_NOPROMPT="1"
    PERL_CPAN_REPORTER_CONFIG="/var/tmp/cpansmoker-1023/2024022807/cpanreporter_000_config.ini"
    PERL_EXTUTILS_AUTOINSTALL="--defaultdeps"
    PERL_USE_UNSAFE_INC="1"
  @INC:
    /usr/perl5.16.3t/lib/site_perl/5.16.3/amd64-freebsd-thread-multi
    /usr/perl5.16.3t/lib/site_perl/5.16.3
    /usr/perl5.16.3t/lib/5.16.3/amd64-freebsd-thread-multi
    /usr/perl5.16.3t/lib/5.16.3
    .