Dist-Zilla-Plugin-CheckExtraTests v0.029 Perl 5 v5.26.1 x86_64-linux
- Status
- Pass
- From
- Ioan Rogers
- Dist
-
Dist-Zilla-Plugin-CheckExtraTests v0.029
- Platform
- Perl 5 v5.26.1 x86_64-linux
- Date
- 2017-10-16 21:13:21
- ID
- d6c6ba0a-b2b6-11e7-af8a-d0ec1e117d75
This distribution has been tested as part of the CPAN Testers
project, supporting the Perl programming language. See
http://wiki.cpantesters.org/ for more information or email
questions to cpan-testers-discuss@perl.org
--
Dear DAGOLDEN,
This is a computer-generated report for Dist-Zilla-Plugin-CheckExtraTests-0.029
on perl 5.26.1, created by App::cpanminus::reporter 0.17 (1.7043).
Thank you for uploading your work to CPAN. Congratulations!
All tests were successful.
Sections of this report:
* Tester comments
* Program output
* Prerequisites
* Environment and other context
------------------------------
TESTER COMMENTS
------------------------------
Additional comments from tester:
none provided
------------------------------
PROGRAM OUTPUT
------------------------------
Output from '':
Building and testing Dist-Zilla-Plugin-CheckExtraTests-0.029
cp lib/Dist/Zilla/App/Command/xtest.pm blib/lib/Dist/Zilla/App/Command/xtest.pm
cp lib/Dist/Zilla/Plugin/CheckExtraTests.pm blib/lib/Dist/Zilla/Plugin/CheckExtraTests.pm
cp lib/Dist/Zilla/Plugin/RunExtraTests.pm blib/lib/Dist/Zilla/Plugin/RunExtraTests.pm
PERL_DL_NONLAZY=1 "/home/ioanrogers/.plenv/versions/5.26.1/bin/perl5.26.1" "-MExtUtils::Command::MM" "-MTest::Harness" "-e" "undef *Test::Harness::Switches; test_harness(0, 'blib/lib', 'blib/arch')" t/*.t
#
# Versions for all modules listed in MYMETA.json (including optional ones):
#
# === Configure Requires ===
#
# Module Want Have
# ------------------- ---- ----
# ExtUtils::MakeMaker 6.17 7.24
#
# === Configure Suggests ===
#
# Module Want Have
# -------- ------- ----------
# JSON::PP 2.27300 2.27400_02
#
# === Build Requires ===
#
# Module Want Have
# ------------------- ---- ----
# ExtUtils::MakeMaker any 7.24
#
# === Test Requires ===
#
# Module Want Have
# ------------------------ ---- --------
# Capture::Tiny any 0.46
# Dist::Zilla::App::Tester any 6.010
# ExtUtils::MakeMaker any 7.24
# File::Spec any 3.67
# Params::Util any 1.07
# Sub::Exporter any 0.987
# Test::More 0.88 1.302103
# Test::Requires any 0.10
# Try::Tiny any 0.28
# lib any 0.64
#
# === Test Recommends ===
#
# Module Want Have
# ---------- -------- --------
# CPAN::Meta 2.120900 2.150010
#
# === Runtime Requires ===
#
# Module Want Have
# -------------------------------- ----- ------
# App::Prove 3.00 3.38
# Archive::Tar any 2.24
# Dist::Zilla 4.3 6.010
# Dist::Zilla::App any 6.010
# Dist::Zilla::Role::BeforeRelease any 6.010
# Dist::Zilla::Role::TestRunner any 6.010
# File::pushd any 1.014
# Moose 2 2.2006
# Path::Iterator::Rule any 1.012
# Path::Tiny 0.013 0.104
# namespace::autoclean 0.09 0.28
# strict any 1.11
# warnings any 1.37
#
[13:26:01] t/00-report-prereqs.t .. ok 132 ms ( 0.00 usr 0.00 sys + 0.16 cusr 0.01 csys = 0.17 CPU)
[13:26:02] t/withblib.t ........... ok 564 ms ( 0.00 usr 0.00 sys + 1.13 cusr 0.14 csys = 1.27 CPU)
[13:26:03] t/checkxt.t ............ ok 1042 ms ( 0.00 usr 0.00 sys + 2.72 cusr 0.37 csys = 3.09 CPU)
[13:26:05] t/runxt.t .............. ok 2872 ms ( 0.00 usr 0.00 sys + 5.74 cusr 0.95 csys = 6.69 CPU)
[13:26:05]
All tests successful.
Files=4, Tests=20, 4 wallclock secs ( 0.02 usr 0.00 sys + 5.90 cusr 0.96 csys = 6.88 CPU)
Result: PASS
------------------------------
PREREQUISITES
------------------------------
Prerequisite modules loaded:
No requirements found
------------------------------
ENVIRONMENT AND OTHER CONTEXT
------------------------------
Environment variables:
HARNESS_OPTIONS = j8
HARNESS_TIMER = 1
LANG = en_GB.UTF-8
PATH = /home/ioanrogers/.plenv/versions/5.26.1/bin:/home/ioanrogers/.plenv/libexec:/home/ioanrogers/.plenv/plugins/perl-build/bin:/home/ioanrogers/.local/share/go/bin:/opt/perforce/bin:/home/ioanrogers/.perl6/bin:/home/ioanrogers/.plenv/shims:~/.plenv/bin::/home/ioanrogers/.local/bin:/home/ioanrogers/.cargo/bin:/usr/local/bin:/usr/bin:/bin:/usr/local/sbin:/sbin:/usr/sbin:/usr/games
PERL_CPANM_OPT = --prompt --no-man-pages --verify --mirror https://cpan.metacpan.org
SHELL = /bin/bash
TERM = xterm-256color
Perl special variables (and OS-specific diagnostics, for MSWin32):
EGID = 1854000021 10 190 969 973 982 1854000000 1854000021 1854000040 1854100503 1854100505
EUID = 1854000021
EXECUTABLE_NAME = /home/ioanrogers/.plenv/versions/5.26.1/bin/perl5.26.1
GID = 1854000021 10 190 969 973 982 1854000000 1854000021 1854000040 1854100503 1854100505
UID = 1854000021
Perl module toolchain versions installed:
Module Have
------------------- ----------
CPAN 2.18
CPAN::Meta 2.150010
Cwd 3.67
ExtUtils::CBuilder 0.280225
ExtUtils::Command 7.24
ExtUtils::Install 2.04
ExtUtils::MakeMaker 7.24
ExtUtils::Manifest 1.70
ExtUtils::ParseXS 3.34
File::Spec 3.67
JSON 2.94
JSON::PP 2.27400_02
Module::Build 0.4224
Module::Signature 0.81
Parse::CPAN::Meta 2.150010
Test::Harness 3.38
Test::More 1.302103
YAML 1.23
YAML::Syck n/a
version 0.9917
--
Summary of my perl5 (revision 5 version 26 subversion 1) configuration:
Platform:
osname=linux
osvers=4.12.14-300.fc26.x86_64
archname=x86_64-linux
uname='linux ioan-desktop.eng.sophos 4.12.14-300.fc26.x86_64 #1 smp wed sep 20 16:28:07 utc 2017 x86_64 x86_64 x86_64 gnulinux '
config_args='-Dprefix=/home/ioanrogers/.plenv/versions/5.26.1 -de -Dusedevel -Dcc=clang -Dccflags-march=native -O3 -Wall -Werror=format-security -Wp,-D_FORTIFY_SOURCE=2 -fexceptions -fstack-protector-strong --param=ssp-buffer-size=4 -Dman1dir=none -Dman3dir=none -A'eval:scriptdir=/home/ioanrogers/.plenv/versions/5.26.1/bin''
hint=recommended
useposix=true
d_sigaction=define
useithreads=undef
usemultiplicity=undef
use64bitint=define
use64bitall=define
uselongdouble=undef
usemymalloc=n
default_inc_excludes_dot=define
bincompat5005=undef
Compiler:
cc='clang'
ccflags ='-fno-strict-aliasing -pipe -fstack-protector-strong -I/usr/local/include -D_LARGEFILE_SOURCE -D_FILE_OFFSET_BITS=64 -D_FORTIFY_SOURCE=2'
optimize='-O2'
cppflags='-fno-strict-aliasing -pipe -fstack-protector-strong -I/usr/local/include'
ccversion=''
gccversion='4.2.1 Compatible Clang 4.0.1 (tags/RELEASE_401/final)'
gccosandvers=''
intsize=4
longsize=8
ptrsize=8
doublesize=8
byteorder=12345678
doublekind=3
d_longlong=define
longlongsize=8
d_longdbl=define
longdblsize=16
longdblkind=3
ivtype='long'
ivsize=8
nvtype='double'
nvsize=8
Off_t='off_t'
lseeksize=8
alignbytes=8
prototype=define
Linker and Libraries:
ld='clang'
ldflags =' -fstack-protector-strong -L/usr/local/lib'
libpth=/usr/local/lib /usr/bin/../lib64/clang/4.0.1/lib /usr/lib /lib/../lib64 /usr/lib/../lib64 /lib /lib64 /usr/lib64 /usr/local/lib64
libs=-lpthread -lnsl -lgdbm -ldb -ldl -lm -lcrypt -lutil -lc -lgdbm_compat
perllibs=-lpthread -lnsl -ldl -lm -lcrypt -lutil -lc
libc=libc-2.25.so
so=so
useshrplib=false
libperl=libperl.a
gnulibc_version='2.25'
Dynamic Linking:
dlsrc=dl_dlopen.xs
dlext=so
d_dlsymun=undef
ccdlflags='-Wl,-E'
cccdlflags='-fPIC'
lddlflags='-shared -O2 -L/usr/local/lib -fstack-protector-strong'
Characteristics of this binary (from libperl):
Compile-time options:
HAS_TIMES
PERLIO_LAYERS
PERL_COPY_ON_WRITE
PERL_DONT_CREATE_GVSV
PERL_MALLOC_WRAP
PERL_OP_PARENT
PERL_PRESERVE_IVUV
PERL_USE_DEVEL
USE_64_BIT_ALL
USE_64_BIT_INT
USE_LARGE_FILES
USE_LOCALE
USE_LOCALE_COLLATE
USE_LOCALE_CTYPE
USE_LOCALE_NUMERIC
USE_LOCALE_TIME
USE_PERLIO
USE_PERL_ATOF
Locally applied patches:
Devel::PatchPerl 1.48
Built under linux
Compiled at Oct 11 2017 08:27:19
%ENV:
PERL_CPANM_OPT="--prompt --no-man-pages --verify --mirror https://cpan.metacpan.org"
@INC:
/home/ioanrogers/.plenv/versions/5.26.1/lib/perl5/site_perl/5.26.1/x86_64-linux
/home/ioanrogers/.plenv/versions/5.26.1/lib/perl5/site_perl/5.26.1
/home/ioanrogers/.plenv/versions/5.26.1/lib/perl5/5.26.1/x86_64-linux
/home/ioanrogers/.plenv/versions/5.26.1/lib/perl5/5.26.1