DateTime-Format-Intl vv0.1.7 Perl 5 v5.20.2 amd64-freebsd

Status
Pass
From
David Cantrell (DCANTRELL)
Dist
DateTime-Format-Intl vv0.1.7
Platform
Perl 5 v5.20.2 amd64-freebsd
Date
2025-01-06 01:37:48
ID
d5f26bea-cbce-11ef-bfa0-ed2f246ae8a0
This distribution has been tested as part of the CPAN Testers
project, supporting the Perl programming language.  See
http://wiki.cpantesters.org/ for more information or email
questions to cpan-testers-discuss@perl.org


--
Dear Jacques Deguest,

This is a computer-generated report for DateTime-Format-Intl-v0.1.7
on perl 5.20.2, created by CPAN-Reporter-1.2018.

Thank you for uploading your work to CPAN.  Congratulations!
All tests were successful.

Sections of this report:

    * Tester comments
    * Program output
    * Prerequisites
    * Environment and other context

------------------------------
TESTER COMMENTS
------------------------------

Additional comments from tester:

this report is from an automated smoke testing program
and was not reviewed by a human for accuracy

------------------------------
PROGRAM OUTPUT
------------------------------

Output from '/usr/bin/make test':

PERL_DL_NONLAZY=1 "/usr/home/david/cpantesting/perl-5.20.2/bin/perl" "-MExtUtils::Command::MM" "-MTest::Harness" "-e" "undef *Test::Harness::Switches; test_harness(0, 'blib/lib', 'blib/arch')" t/*.t
t/001_load.t ....................... ok
t/002_methods.t .................... ok
    # Test No 0 died: Cannot determine local time zone
Warning only: unsupported numbering system provided (jpanfin) via the locale "nu" extension (ja-Kana-JP-u-ca-gregory-nu-jpanfin-tz-jptyo). at lib/DateTime/Format/Intl.pm line 357.
Warning only: unsupported numbering system provided (jpanfin) via the locale "nu" extension (ja-Kana-JP-u-ca-gregory-nu-jpanfin-tz-jptyo). at lib/DateTime/Format/Intl.pm line 357.
Warning only: unsupported numbering system provided (arab) via the locale "nu" extension (ar-EG-u-ca-gregory-nu-arab-tz-egcai). at lib/DateTime/Format/Intl.pm line 357.
t/003_resolved_options.t ........... ok
t/004_supported_locales_of.t ....... ok
    # Test No 0 died: Cannot determine local time zone
    # Test No 1 died: Cannot determine local time zone
    # Test No 2 died: Cannot determine local time zone
    # Test No 3 died: Cannot determine local time zone
    # Test No 4 died: Cannot determine local time zone
    # Test No 5 died: Cannot determine local time zone
    # Test No 6 died: Cannot determine local time zone
    # Test No 7 died: Cannot determine local time zone
    # Test No 8 died: Cannot determine local time zone
    # Test No 9 died: Cannot determine local time zone
    # Test No 10 died: Cannot determine local time zone
    # Test No 11 died: Cannot determine local time zone
    # Test No 12 died: Cannot determine local time zone
    # Test No 13 died: Cannot determine local time zone
    # Test No 14 died: Cannot determine local time zone
    # Test No 15 died: Cannot determine local time zone
    # Test No 16 died: Cannot determine local time zone
    # Test No 17 died: Cannot determine local time zone
    # Test No 18 died: Cannot determine local time zone
    # Test No 19 died: Cannot determine local time zone
    # Test No 20 died: Cannot determine local time zone
    # Test No 21 died: Cannot determine local time zone
    # Test No 22 died: Cannot determine local time zone
    # Test No 23 died: Cannot determine local time zone
    # Test No 24 died: Cannot determine local time zone
    # Test No 25 died: Cannot determine local time zone
    # Test No 26 died: Cannot determine local time zone
    # Test No 27 died: Cannot determine local time zone
    # Test No 28 died: Cannot determine local time zone
    # Test No 29 died: Cannot determine local time zone
    # Test No 30 died: Cannot determine local time zone
    # Test No 31 died: Cannot determine local time zone
    # Test No 32 died: Cannot determine local time zone
    # Test No 33 died: Cannot determine local time zone
    # Test No 34 died: Cannot determine local time zone
    # Test No 35 died: Cannot determine local time zone
    # Test No 36 died: Cannot determine local time zone
    # Test No 37 died: Cannot determine local time zone
    # Test No 38 died: Cannot determine local time zone
    # Test No 39 died: Cannot determine local time zone
    # Test No 40 died: Cannot determine local time zone
    # Test No 41 died: Cannot determine local time zone
    # Test No 42 died: Cannot determine local time zone
    # Test No 43 died: Cannot determine local time zone
    # Test No 44 died: Cannot determine local time zone
t/005_select_best_pattern.t ........ ok
    # Test No 0 died: Cannot determine local time zone
t/006_format.t ..................... ok
    # Test No 0 died: Cannot determine local time zone
    # Test No 1 died: Cannot determine local time zone
    # Test No 2 died: Cannot determine local time zone
    # Test No 3 died: Cannot determine local time zone
    # Test No 4 died: Cannot determine local time zone
    # Test No 5 died: Cannot determine local time zone
    # Test No 6 died: Cannot determine local time zone
    # Test No 7 died: Cannot determine local time zone
    # Test No 8 died: Cannot determine local time zone
    # Test No 9 died: Cannot determine local time zone
    # Test No 10 died: Cannot determine local time zone
    # Test No 11 died: Cannot determine local time zone
    # Test No 12 died: Cannot determine local time zone
    # Test No 13 died: Cannot determine local time zone
    # Test No 14 died: Cannot determine local time zone
    # Test No 15 died: Cannot determine local time zone
    # Test No 16 died: Cannot determine local time zone
    # Test No 17 died: Cannot determine local time zone
    # Test No 18 died: Cannot determine local time zone
    # Test No 19 died: Cannot determine local time zone
    # Test No 20 died: Cannot determine local time zone
    # Test No 21 died: Cannot determine local time zone
    # Test No 22 died: Cannot determine local time zone
    # Test No 23 died: Cannot determine local time zone
    # Test No 24 died: Cannot determine local time zone
    # Test No 25 died: Cannot determine local time zone
    # Test No 26 died: Cannot determine local time zone
    # Test No 27 died: Cannot determine local time zone
    # Test No 28 died: Cannot determine local time zone
    # Test No 29 died: Cannot determine local time zone
    # Test No 30 died: Cannot determine local time zone
    # Test No 31 died: Cannot determine local time zone
    # Test No 32 died: Cannot determine local time zone
    # Test No 33 died: Cannot determine local time zone
    # Test No 34 died: Cannot determine local time zone
    # Test No 35 died: Cannot determine local time zone
    # Test No 36 died: Cannot determine local time zone
    # Test No 37 died: Cannot determine local time zone
    # Test No 38 died: Cannot determine local time zone
Use of uninitialized value in join or string at /home/david/cpantesting/perl-5.20.2/lib/site_perl/5.20.2/DateTime/Locale/FromCLDR.pm line 471.
Warning: something's wrong at /home/david/cpantesting/perl-5.20.2/lib/site_perl/5.20.2/DateTime/Locale/FromCLDR.pm line 482.
    # Test No 39 died: Cannot determine local time zone
Use of uninitialized value in join or string at /home/david/cpantesting/perl-5.20.2/lib/site_perl/5.20.2/DateTime/Locale/FromCLDR.pm line 471.
Warning: something's wrong at /home/david/cpantesting/perl-5.20.2/lib/site_perl/5.20.2/DateTime/Locale/FromCLDR.pm line 482.
    # Test No 40 died: Cannot determine local time zone
Use of uninitialized value in join or string at /home/david/cpantesting/perl-5.20.2/lib/site_perl/5.20.2/DateTime/Locale/FromCLDR.pm line 471.
Warning: something's wrong at /home/david/cpantesting/perl-5.20.2/lib/site_perl/5.20.2/DateTime/Locale/FromCLDR.pm line 482.
    # Test No 41 died: Cannot determine local time zone
Use of uninitialized value in join or string at /home/david/cpantesting/perl-5.20.2/lib/site_perl/5.20.2/DateTime/Locale/FromCLDR.pm line 471.
Warning: something's wrong at /home/david/cpantesting/perl-5.20.2/lib/site_perl/5.20.2/DateTime/Locale/FromCLDR.pm line 482.
    # Test No 42 died: Cannot determine local time zone
Use of uninitialized value in join or string at /home/david/cpantesting/perl-5.20.2/lib/site_perl/5.20.2/DateTime/Locale/FromCLDR.pm line 471.
Warning: something's wrong at /home/david/cpantesting/perl-5.20.2/lib/site_perl/5.20.2/DateTime/Locale/FromCLDR.pm line 482.
    # Test No 43 died: Cannot determine local time zone
Use of uninitialized value in join or string at /home/david/cpantesting/perl-5.20.2/lib/site_perl/5.20.2/DateTime/Locale/FromCLDR.pm line 471.
Warning: something's wrong at /home/david/cpantesting/perl-5.20.2/lib/site_perl/5.20.2/DateTime/Locale/FromCLDR.pm line 482.
    # Test No 44 died: Cannot determine local time zone
Use of uninitialized value in join or string at /home/david/cpantesting/perl-5.20.2/lib/site_perl/5.20.2/DateTime/Locale/FromCLDR.pm line 471.
Warning: something's wrong at /home/david/cpantesting/perl-5.20.2/lib/site_perl/5.20.2/DateTime/Locale/FromCLDR.pm line 482.
    # Test No 45 died: Cannot determine local time zone
Use of uninitialized value in join or string at /home/david/cpantesting/perl-5.20.2/lib/site_perl/5.20.2/DateTime/Locale/FromCLDR.pm line 471.
Warning: something's wrong at /home/david/cpantesting/perl-5.20.2/lib/site_perl/5.20.2/DateTime/Locale/FromCLDR.pm line 482.
    # Test No 46 died: Cannot determine local time zone
    # Test No 47 died: Cannot determine local time zone
    # Test No 48 died: Cannot determine local time zone
    # Test No 49 died: Cannot determine local time zone
    # Test No 50 died: Cannot determine local time zone
    # Test No 51 died: Cannot determine local time zone
    # Test No 52 died: Cannot determine local time zone
    # Test No 53 died: Cannot determine local time zone
    # Test No 54 died: Cannot determine local time zone
    # Test No 55 died: Cannot determine local time zone
    # Test No 56 died: Cannot determine local time zone
    # Test No 57 died: Cannot determine local time zone
    # Test No 58 died: Cannot determine local time zone
    # Test No 59 died: Cannot determine local time zone
    # Test No 60 died: Cannot determine local time zone
    # Test No 61 died: Cannot determine local time zone
    # Test No 62 died: Cannot determine local time zone
    # Test No 63 died: Cannot determine local time zone
    # Test No 64 died: Cannot determine local time zone
    # Test No 65 died: Cannot determine local time zone
    # Test No 66 died: Cannot determine local time zone
    # Test No 67 died: Cannot determine local time zone
    # Test No 68 died: Cannot determine local time zone
    # Test No 69 died: Cannot determine local time zone
    # Test No 70 died: Cannot determine local time zone
    # Test No 71 died: Cannot determine local time zone
    # Test No 72 died: Cannot determine local time zone
    # Test No 73 died: Cannot determine local time zone
    # Test No 74 died: Cannot determine local time zone
t/007_select_best_range_pattern.t .. ok
    # Test No 0 died: Cannot determine local time zone
    # Test No 1 died: Cannot determine local time zone
    # Test No 2 died: Cannot determine local time zone
    # Test No 3 died: Cannot determine local time zone
    # Test No 4 died: Cannot determine local time zone
    # Test No 5 died: Cannot determine local time zone
    # Test No 6 died: Cannot determine local time zone
    # Test No 7 died: Cannot determine local time zone
    # Test No 8 died: Cannot determine local time zone
    # Test No 9 died: Cannot determine local time zone
    # Test No 10 died: Cannot determine local time zone
    # Test No 11 died: Cannot determine local time zone
    # Test No 12 died: Cannot determine local time zone
    # Test No 13 died: Cannot determine local time zone
    # Test No 14 died: Cannot determine local time zone
    # Test No 15 died: Cannot determine local time zone
    # Test No 16 died: Cannot determine local time zone
    # Test No 17 died: Cannot determine local time zone
    # Test No 18 died: Cannot determine local time zone
    # Test No 19 died: Cannot determine local time zone
    # Test No 20 died: Cannot determine local time zone
    # Test No 21 died: Cannot determine local time zone
    # Test No 22 died: Cannot determine local time zone
    # Test No 23 died: Cannot determine local time zone
    # Test No 24 died: Cannot determine local time zone
    # Test No 25 died: Cannot determine local time zone
    # Test No 26 died: Cannot determine local time zone
    # Test No 27 died: Cannot determine local time zone
    # Test No 28 died: Cannot determine local time zone
    # Test No 29 died: Cannot determine local time zone
    # Test No 30 died: Cannot determine local time zone
    # Test No 31 died: Cannot determine local time zone
    # Test No 32 died: Cannot determine local time zone
    # Test No 33 died: Cannot determine local time zone
    # Test No 34 died: Cannot determine local time zone
    # Test No 35 died: Cannot determine local time zone
    # Test No 36 died: Cannot determine local time zone
    # Test No 37 died: Cannot determine local time zone
    # Test No 38 died: Cannot determine local time zone
Use of uninitialized value in join or string at /home/david/cpantesting/perl-5.20.2/lib/site_perl/5.20.2/DateTime/Locale/FromCLDR.pm line 471.
Warning: something's wrong at /home/david/cpantesting/perl-5.20.2/lib/site_perl/5.20.2/DateTime/Locale/FromCLDR.pm line 482.
    # Test No 39 died: Cannot determine local time zone
Use of uninitialized value in join or string at /home/david/cpantesting/perl-5.20.2/lib/site_perl/5.20.2/DateTime/Locale/FromCLDR.pm line 471.
Warning: something's wrong at /home/david/cpantesting/perl-5.20.2/lib/site_perl/5.20.2/DateTime/Locale/FromCLDR.pm line 482.
    # Test No 40 died: Cannot determine local time zone
Use of uninitialized value in join or string at /home/david/cpantesting/perl-5.20.2/lib/site_perl/5.20.2/DateTime/Locale/FromCLDR.pm line 471.
Warning: something's wrong at /home/david/cpantesting/perl-5.20.2/lib/site_perl/5.20.2/DateTime/Locale/FromCLDR.pm line 482.
    # Test No 41 died: Cannot determine local time zone
Use of uninitialized value in join or string at /home/david/cpantesting/perl-5.20.2/lib/site_perl/5.20.2/DateTime/Locale/FromCLDR.pm line 471.
Warning: something's wrong at /home/david/cpantesting/perl-5.20.2/lib/site_perl/5.20.2/DateTime/Locale/FromCLDR.pm line 482.
    # Test No 42 died: Cannot determine local time zone
Use of uninitialized value in join or string at /home/david/cpantesting/perl-5.20.2/lib/site_perl/5.20.2/DateTime/Locale/FromCLDR.pm line 471.
Warning: something's wrong at /home/david/cpantesting/perl-5.20.2/lib/site_perl/5.20.2/DateTime/Locale/FromCLDR.pm line 482.
    # Test No 43 died: Cannot determine local time zone
Use of uninitialized value in join or string at /home/david/cpantesting/perl-5.20.2/lib/site_perl/5.20.2/DateTime/Locale/FromCLDR.pm line 471.
Warning: something's wrong at /home/david/cpantesting/perl-5.20.2/lib/site_perl/5.20.2/DateTime/Locale/FromCLDR.pm line 482.
    # Test No 44 died: Cannot determine local time zone
Use of uninitialized value in join or string at /home/david/cpantesting/perl-5.20.2/lib/site_perl/5.20.2/DateTime/Locale/FromCLDR.pm line 471.
Warning: something's wrong at /home/david/cpantesting/perl-5.20.2/lib/site_perl/5.20.2/DateTime/Locale/FromCLDR.pm line 482.
    # Test No 45 died: Cannot determine local time zone
Use of uninitialized value in join or string at /home/david/cpantesting/perl-5.20.2/lib/site_perl/5.20.2/DateTime/Locale/FromCLDR.pm line 471.
Warning: something's wrong at /home/david/cpantesting/perl-5.20.2/lib/site_perl/5.20.2/DateTime/Locale/FromCLDR.pm line 482.
    # Test No 46 died: Cannot determine local time zone
    # Test No 47 died: Cannot determine local time zone
    # Test No 48 died: Cannot determine local time zone
    # Test No 49 died: Cannot determine local time zone
    # Test No 50 died: Cannot determine local time zone
    # Test No 51 died: Cannot determine local time zone
    # Test No 52 died: Cannot determine local time zone
    # Test No 53 died: Cannot determine local time zone
    # Test No 54 died: Cannot determine local time zone
    # Test No 55 died: Cannot determine local time zone
    # Test No 56 died: Cannot determine local time zone
    # Test No 57 died: Cannot determine local time zone
    # Test No 58 died: Cannot determine local time zone
    # Test No 59 died: Cannot determine local time zone
    # Test No 60 died: Cannot determine local time zone
    # Test No 61 died: Cannot determine local time zone
    # Test No 62 died: Cannot determine local time zone
    # Test No 63 died: Cannot determine local time zone
    # Test No 64 died: Cannot determine local time zone
    # Test No 65 died: Cannot determine local time zone
    # Test No 66 died: Cannot determine local time zone
    # Test No 67 died: Cannot determine local time zone
    # Test No 68 died: Cannot determine local time zone
    # Test No 69 died: Cannot determine local time zone
    # Test No 70 died: Cannot determine local time zone
    # Test No 71 died: Cannot determine local time zone
    # Test No 72 died: Cannot determine local time zone
    # Test No 73 died: Cannot determine local time zone
    # Test No 74 died: Cannot determine local time zone
t/008_format_range.t ............... ok
    # Test No 0 died: Cannot determine local time zone
    # Test No 1 died: Cannot determine local time zone
    # Test No 2 died: Cannot determine local time zone
    # Test No 3 died: Cannot determine local time zone
    # Test No 4 died: Cannot determine local time zone
    # Test No 5 died: Cannot determine local time zone
    # Test No 6 died: Cannot determine local time zone
    # Test No 7 died: Cannot determine local time zone
    # Test No 8 died: Cannot determine local time zone
    # Test No 9 died: Cannot determine local time zone
    # Test No 10 died: Cannot determine local time zone
    # Test No 11 died: Cannot determine local time zone
    # Test No 12 died: Cannot determine local time zone
    # Test No 13 died: Cannot determine local time zone
    # Test No 14 died: Cannot determine local time zone
    # Test No 15 died: Cannot determine local time zone
    # Test No 16 died: Cannot determine local time zone
    # Test No 17 died: Cannot determine local time zone
    # Test No 18 died: Cannot determine local time zone
    # Test No 19 died: Cannot determine local time zone
t/009_date_time_combination.t ...... ok
    # Test No 0 died: Cannot determine local time zone
t/010_format_to_parts.t ............ ok
    # Test No 0 died: Cannot determine local time zone
    # Test No 1 died: Cannot determine local time zone
    # Test No 2 died: Cannot determine local time zone
    # Test No 3 died: Cannot determine local time zone
    # Test No 4 died: Cannot determine local time zone
    # Test No 5 died: Cannot determine local time zone
    # Test No 6 died: Cannot determine local time zone
    # Test No 7 died: Cannot determine local time zone
    # Test No 8 died: Cannot determine local time zone
    # Test No 9 died: Cannot determine local time zone
    # Test No 10 died: Cannot determine local time zone
    # Test No 11 died: Cannot determine local time zone
    # Test No 12 died: Cannot determine local time zone
    # Test No 13 died: Cannot determine local time zone
    # Test No 14 died: Cannot determine local time zone
    # Test No 15 died: Cannot determine local time zone
    # Test No 16 died: Cannot determine local time zone
    # Test No 17 died: Cannot determine local time zone
    # Test No 18 died: Cannot determine local time zone
    # Test No 19 died: Cannot determine local time zone
    # Test No 20 died: Cannot determine local time zone
    # Test No 21 died: Cannot determine local time zone
    # Test No 22 died: Cannot determine local time zone
    # Test No 23 died: Cannot determine local time zone
    # Test No 24 died: Cannot determine local time zone
    # Test No 25 died: Cannot determine local time zone
    # Test No 26 died: Cannot determine local time zone
    # Test No 27 died: Cannot determine local time zone
    # Test No 28 died: Cannot determine local time zone
    # Test No 29 died: Cannot determine local time zone
    # Test No 30 died: Cannot determine local time zone
    # Test No 31 died: Cannot determine local time zone
    # Test No 32 died: Cannot determine local time zone
    # Test No 33 died: Cannot determine local time zone
    # Test No 34 died: Cannot determine local time zone
    # Test No 35 died: Cannot determine local time zone
    # Test No 36 died: Cannot determine local time zone
    # Test No 37 died: Cannot determine local time zone
    # Test No 38 died: Cannot determine local time zone
Use of uninitialized value in join or string at /home/david/cpantesting/perl-5.20.2/lib/site_perl/5.20.2/DateTime/Locale/FromCLDR.pm line 471.
Warning: something's wrong at /home/david/cpantesting/perl-5.20.2/lib/site_perl/5.20.2/DateTime/Locale/FromCLDR.pm line 482.
    # Test No 39 died: Cannot determine local time zone
Use of uninitialized value in join or string at /home/david/cpantesting/perl-5.20.2/lib/site_perl/5.20.2/DateTime/Locale/FromCLDR.pm line 471.
Warning: something's wrong at /home/david/cpantesting/perl-5.20.2/lib/site_perl/5.20.2/DateTime/Locale/FromCLDR.pm line 482.
    # Test No 40 died: Cannot determine local time zone
Use of uninitialized value in join or string at /home/david/cpantesting/perl-5.20.2/lib/site_perl/5.20.2/DateTime/Locale/FromCLDR.pm line 471.
Warning: something's wrong at /home/david/cpantesting/perl-5.20.2/lib/site_perl/5.20.2/DateTime/Locale/FromCLDR.pm line 482.
    # Test No 41 died: Cannot determine local time zone
Use of uninitialized value in join or string at /home/david/cpantesting/perl-5.20.2/lib/site_perl/5.20.2/DateTime/Locale/FromCLDR.pm line 471.
Warning: something's wrong at /home/david/cpantesting/perl-5.20.2/lib/site_perl/5.20.2/DateTime/Locale/FromCLDR.pm line 482.
    # Test No 42 died: Cannot determine local time zone
Use of uninitialized value in join or string at /home/david/cpantesting/perl-5.20.2/lib/site_perl/5.20.2/DateTime/Locale/FromCLDR.pm line 471.
Warning: something's wrong at /home/david/cpantesting/perl-5.20.2/lib/site_perl/5.20.2/DateTime/Locale/FromCLDR.pm line 482.
    # Test No 43 died: Cannot determine local time zone
Use of uninitialized value in join or string at /home/david/cpantesting/perl-5.20.2/lib/site_perl/5.20.2/DateTime/Locale/FromCLDR.pm line 471.
Warning: something's wrong at /home/david/cpantesting/perl-5.20.2/lib/site_perl/5.20.2/DateTime/Locale/FromCLDR.pm line 482.
    # Test No 44 died: Cannot determine local time zone
Use of uninitialized value in join or string at /home/david/cpantesting/perl-5.20.2/lib/site_perl/5.20.2/DateTime/Locale/FromCLDR.pm line 471.
Warning: something's wrong at /home/david/cpantesting/perl-5.20.2/lib/site_perl/5.20.2/DateTime/Locale/FromCLDR.pm line 482.
    # Test No 45 died: Cannot determine local time zone
Use of uninitialized value in join or string at /home/david/cpantesting/perl-5.20.2/lib/site_perl/5.20.2/DateTime/Locale/FromCLDR.pm line 471.
Warning: something's wrong at /home/david/cpantesting/perl-5.20.2/lib/site_perl/5.20.2/DateTime/Locale/FromCLDR.pm line 482.
    # Test No 46 died: Cannot determine local time zone
    # Test No 47 died: Cannot determine local time zone
    # Test No 48 died: Cannot determine local time zone
    # Test No 49 died: Cannot determine local time zone
    # Test No 50 died: Cannot determine local time zone
    # Test No 51 died: Cannot determine local time zone
    # Test No 52 died: Cannot determine local time zone
    # Test No 53 died: Cannot determine local time zone
    # Test No 54 died: Cannot determine local time zone
    # Test No 55 died: Cannot determine local time zone
    # Test No 56 died: Cannot determine local time zone
    # Test No 57 died: Cannot determine local time zone
    # Test No 58 died: Cannot determine local time zone
    # Test No 59 died: Cannot determine local time zone
    # Test No 60 died: Cannot determine local time zone
    # Test No 61 died: Cannot determine local time zone
    # Test No 62 died: Cannot determine local time zone
    # Test No 63 died: Cannot determine local time zone
    # Test No 64 died: Cannot determine local time zone
    # Test No 65 died: Cannot determine local time zone
    # Test No 66 died: Cannot determine local time zone
    # Test No 67 died: Cannot determine local time zone
    # Test No 68 died: Cannot determine local time zone
    # Test No 69 died: Cannot determine local time zone
    # Test No 70 died: Cannot determine local time zone
    # Test No 71 died: Cannot determine local time zone
    # Test No 72 died: Cannot determine local time zone
    # Test No 73 died: Cannot determine local time zone
    # Test No 74 died: Cannot determine local time zone
t/011_format_range_to_parts.t ...... ok
t/900_pod.t ........................ skipped: These tests are for author or release candidate testing
t/910_coverage.t ................... skipped: These tests are for author or release candidate testing
t/920_manifest.t ................... skipped: Author tests not required for installation
t/930_signature.t .................. skipped: Set the environment variable AUTHOR_TESTING to enable this test.
t/999_kwalitee.t ................... skipped: These tests are for author or release candidate testing
All tests successful.
Files=16, Tests=467, 338 wallclock secs ( 0.87 usr  0.14 sys + 64.22 cusr  5.16 csys = 70.39 CPU)
Result: PASS

------------------------------
PREREQUISITES
------------------------------

Prerequisite modules loaded:

requires:

    Module                     Need     Have    
    -------------------------- -------- --------
    DateTime                   0.42     1.65    
    DateTime::Format::Unicode  v0.1.5   v0.1.6  
    DateTime::Locale::FromCLDR v0.6.0   v0.6.1  
    Locale::Intl               v0.1.2   v0.1.3  
    Locale::Unicode::Data      v1.3.0   v1.3.1  
    parent                     0        0.244   
    perl                       5.010001 5.020002
    Scalar::Util               0        1.68    
    strict                     0        1.08    
    vars                       0        1.03    
    Want                       0.17     0.29    
    warnings                   0        1.23    
    warnings::register         0        1.03    

build_requires:

    Module                     Need     Have    
    -------------------------- -------- --------
    ExtUtils::MakeMaker        0        7.70    
    lib                        0.63     0.63    
    open                       0        1.10    
    Test::More                 1.302120 1.302207
    Test::Pod                  1.52     1.52    
    utf8                       0        1.13_01 

configure_requires:

    Module                     Need     Have    
    -------------------------- -------- --------
    ExtUtils::MakeMaker        0        7.70    


------------------------------
ENVIRONMENT AND OTHER CONTEXT
------------------------------

Environment variables:

    AUTOMATED_TESTING = 1
    LANG = en_GB.UTF-8
    NONINTERACTIVE_TESTING = 1
    PATH = /home/david/perl5/perlbrew/bin:/home/david/perl5/perlbrew/perls/perl-5.30.2/bin:/home/david/.cargo/bin:/sbin:/bin:/usr/sbin:/usr/bin:/usr/local/sbin:/usr/local/bin:/home/david/bin
    PERL = 5.20.2
    PERL5LIB = 
    PERL5OPT = 
    PERL5_CPANPLUS_IS_RUNNING = 56429
    PERL5_CPAN_IS_RUNNING = 56429
    PERLBREW_HOME = /home/david/.perlbrew
    PERLBREW_MANPATH = /home/david/perl5/perlbrew/perls/perl-5.30.2/man
    PERLBREW_PATH = /home/david/perl5/perlbrew/bin:/home/david/perl5/perlbrew/perls/perl-5.30.2/bin
    PERLBREW_PERL = perl-5.30.2
    PERLBREW_ROOT = /home/david/perl5/perlbrew
    PERLBREW_SHELLRC_VERSION = 0.89
    PERLBREW_VERSION = 0.89
    PERLVER = 5.20.2
    PERL_INLINE_DIRECTORY = /home/david/.Inline-5.20.2
    PERL_MM_USE_DEFAULT = 1
    PERL_USE_UNSAFE_INC = 0
    SHELL = /usr/local/bin/bash
    TERM = screen

Perl special variables (and OS-specific diagnostics, for MSWin32):

    $^X = /usr/home/david/cpantesting/perl-5.20.2/bin/perl
    $UID/$EUID = 1001 / 1001
    $GID = 1001 1001 0
    $EGID = 1001 1001 0

Perl module toolchain versions installed:

    Module              Have    
    ------------------- --------
    CPAN                2.05    
    CPAN::Meta          2.150010
    Cwd                 3.75    
    ExtUtils::CBuilder  0.280236
    ExtUtils::Command   7.70    
    ExtUtils::Install   2.22    
    ExtUtils::MakeMaker 7.70    
    ExtUtils::Manifest  1.75    
    ExtUtils::ParseXS   3.51    
    File::Spec          3.75    
    JSON                4.10    
    JSON::PP            4.16    
    Module::Build       0.4234  
    Module::Signature   n/a     
    Parse::CPAN::Meta   2.150010
    Test::Harness       3.50    
    Test::More          1.302207
    YAML                1.31    
    YAML::Syck          n/a     
    version             0.9933  


--

Summary of my perl5 (revision 5 version 20 subversion 2) configuration:
   
  Platform:
    osname=freebsd, osvers=13.0-release-p7, archname=amd64-freebsd
    uname='freebsd cpantesting-freebsd-utm.local 13.0-release-p7 freebsd 13.0-release-p7 #0: mon jan 31 18:24:03 utc 2022 root@amd64-builder.daemonology.net:usrobjusrsrcamd64.amd64sysgeneric amd64 '
    config_args='-de -Dprefix=/home/david/cpantesting/perl-5.20.2'
    hint=recommended, useposix=true, d_sigaction=define
    useithreads=undef, usemultiplicity=undef
    use64bitint=define, use64bitall=define, uselongdouble=undef
    usemymalloc=n, bincompat5005=undef
  Compiler:
    cc='cc', ccflags ='-DHAS_FPSETMASK -DHAS_FLOATINGPOINT_H -fno-strict-aliasing -pipe -fstack-protector -I/usr/local/include',
    optimize='-O2',
    cppflags='-DHAS_FPSETMASK -DHAS_FLOATINGPOINT_H -fno-strict-aliasing -pipe -fstack-protector -I/usr/local/include'
    ccversion='', gccversion='FreeBSD Clang 11.0.1 (git@github.com:llvm/llvm-project.git llvmorg-11.0.1-0-g43ff75f2c3fe)', gccosandvers=''
    intsize=4, longsize=8, ptrsize=8, doublesize=8, byteorder=12345678
    d_longlong=define, longlongsize=8, d_longdbl=define, longdblsize=16
    ivtype='long', ivsize=8, nvtype='double', nvsize=8, Off_t='off_t', lseeksize=8
    alignbytes=8, prototype=define
  Linker and Libraries:
    ld='cc', ldflags ='-Wl,-E  -fstack-protector -L/usr/local/lib'
    libpth=/usr/lib /usr/local/lib /usr/lib/clang/11.0.1/lib /usr/lib
    libs=-lgdbm -ldl -lm -lcrypt -lutil -lc
    perllibs=-ldl -lm -lcrypt -lutil -lc
    libc=, so=so, useshrplib=false, libperl=libperl.a
    gnulibc_version=''
  Dynamic Linking:
    dlsrc=dl_dlopen.xs, dlext=so, d_dlsymun=undef, ccdlflags=' '
    cccdlflags='-DPIC -fPIC', lddlflags='-shared  -L/usr/local/lib -fstack-protector'


Characteristics of this binary (from libperl): 
  Compile-time options: HAS_TIMES PERLIO_LAYERS PERL_DONT_CREATE_GVSV
                        PERL_HASH_FUNC_ONE_AT_A_TIME_HARD PERL_MALLOC_WRAP
                        PERL_NEW_COPY_ON_WRITE PERL_PRESERVE_IVUV
                        USE_64_BIT_ALL USE_64_BIT_INT USE_LARGE_FILES
                        USE_LOCALE USE_LOCALE_COLLATE USE_LOCALE_CTYPE
                        USE_LOCALE_NUMERIC USE_PERLIO USE_PERL_ATOF
  Locally applied patches:
	Devel::PatchPerl 2.08
  Built under freebsd
  Compiled at Feb  3 2022 13:12:54
  %ENV:
    PERL="5.20.2"
    PERL5LIB=""
    PERL5OPT=""
    PERL5_CPANPLUS_IS_RUNNING="56429"
    PERL5_CPAN_IS_RUNNING="56429"
    PERLBREW_HOME="/home/david/.perlbrew"
    PERLBREW_MANPATH="/home/david/perl5/perlbrew/perls/perl-5.30.2/man"
    PERLBREW_PATH="/home/david/perl5/perlbrew/bin:/home/david/perl5/perlbrew/perls/perl-5.30.2/bin"
    PERLBREW_PERL="perl-5.30.2"
    PERLBREW_ROOT="/home/david/perl5/perlbrew"
    PERLBREW_SHELLRC_VERSION="0.89"
    PERLBREW_VERSION="0.89"
    PERLVER="5.20.2"
    PERL_INLINE_DIRECTORY="/home/david/.Inline-5.20.2"
    PERL_MM_USE_DEFAULT="1"
    PERL_USE_UNSAFE_INC="0"
  @INC:
    /home/david/cpantesting/perl-5.20.2/lib/site_perl/5.20.2/amd64-freebsd
    /home/david/cpantesting/perl-5.20.2/lib/site_perl/5.20.2
    /home/david/cpantesting/perl-5.20.2/lib/5.20.2/amd64-freebsd
    /home/david/cpantesting/perl-5.20.2/lib/5.20.2
    .