RDF-Simple v0.421 Perl 5 v5.20.0 x86_64-linux
- Status
- Pass
- From
- Andreas J. König (ANDK)
- Dist
-
RDF-Simple v0.421
- Platform
- Perl 5 v5.20.0 x86_64-linux
- Date
- 2025-07-01 22:07:53
- ID
- d5a59908-56c7-11f0-a75e-e7c473c04af5
This distribution has been tested as part of the CPAN Testers
project, supporting the Perl programming language. See
http://wiki.cpantesters.org/ for more information or email
questions to cpan-testers-discuss@perl.org
--
Dear Martin 'Kingpin' Thurn,
This is a computer-generated report for RDF-Simple-0.421
on perl 5.20.0, created by CPAN-Reporter-1.2020.
Thank you for uploading your work to CPAN. Congratulations!
All tests were successful.
Sections of this report:
* Tester comments
* Program output
* Prerequisites
* Environment and other context
------------------------------
TESTER COMMENTS
------------------------------
Additional comments from tester:
this report is from an automated smoke testing program
and was not reviewed by a human for accuracy
------------------------------
PROGRAM OUTPUT
------------------------------
Output from '/usr/bin/make test':
Skip blib/lib/RDF/Simple/Parser/Attribs.pm (unchanged)
Skip blib/lib/RDF/Simple/Parser/Element.pm (unchanged)
Skip blib/lib/RDF/Simple/Parser/Handler.pm (unchanged)
Skip blib/lib/RDF/Simple/Parser.pm (unchanged)
Skip blib/lib/RDF/Simple/NS.pm (unchanged)
Skip blib/lib/RDF/Simple/Serializer.pm (unchanged)
Skip blib/lib/RDF/Simple/Serialiser.pm (unchanged)
Skip blib/lib/RDF/Simple.pm (unchanged)
"/home/sand/src/perl/repoperls/installed-perls/host/k93msid/v5.20.0/da1c/bin/perl" "-Iinc" "-Iblib/arch" "-Iinc" "-Iblib/lib" Makefile-orig.PL Makefile-orig
Cannot determine perl version info from lib/RDF/Simple.pm
Generating a Unix-style Makefile
Writing Makefile for RDF::Simple
Writing MYMETA.yml and MYMETA.json
PERL_DL_NONLAZY=1 "/home/sand/src/perl/repoperls/installed-perls/host/k93msid/v5.20.0/da1c/bin/perl" "-MExtUtils::Command::MM" "-MTest::Harness" "-e" "undef *Test::Harness::Switches; test_harness(0, 'inc', 'blib/lib', 'blib/arch')" t/*.t
t/001_load.t ........... ok
t/coverage.t ........... ok
t/empty.t .............. ok
t/from_file.t .......... ok
t/long.t ............... ok
t/multi-class.t ........ ok
t/pod.t ................ ok
t/rt-44879-resource.t .. ok
t/rt46956.t ............ ok
t/uri.t ................ ok
All tests successful.
Files=10, Tests=52, 4 wallclock secs ( 0.04 usr 0.02 sys + 1.36 cusr 0.40 csys = 1.82 CPU)
Result: PASS
------------------------------
PREREQUISITES
------------------------------
Prerequisite modules loaded:
requires:
Module Need Have
------------------- ----- ----------
Class::MethodMaker 0 2.25
File::Slurp 0 9999.32
LWP::UserAgent 0 6.77
perl 5.005 5.020000
Regexp::Common 0 2024080801
URI::Escape 0 5.30
XML::SAX 0 1.02
build_requires:
Module Need Have
------------------- ----- ----------
ExtUtils::MakeMaker 6.36 7.71_02
IO::CaptureOutput 0 1.1105
Test::File 0 1.993
Test::Simple 0 1.302204
configure_requires:
Module Need Have
------------------- ----- ----------
ExtUtils::MakeMaker 0 7.71_02
------------------------------
ENVIRONMENT AND OTHER CONTEXT
------------------------------
Environment variables:
AUTOMATED_TESTING = 1
LANG = en_US.UTF-8
LANGUAGE = en_US:en
PATH = /home/sand/bin:/usr/local/bin:/usr/bin:/bin:/usr/games:/usr/local/perl/bin:/usr/X11/bin:/sbin:/usr/sbin
PERL5LIB =
PERL5OPT =
PERL5_CPANPLUS_IS_RUNNING = 2675563
PERL5_CPAN_IS_RUNNING = 2675563
PERL_CANARY_STABILITY_NOPROMPT = 1
PERL_MM_USE_DEFAULT = 1
PERL_USE_UNSAFE_INC = 1
SHELL = /usr/bin/zsh
TERM = screen
Perl special variables (and OS-specific diagnostics, for MSWin32):
$^X = /home/sand/src/perl/repoperls/installed-perls/host/k93msid/v5.20.0/da1c/bin/perl
$UID/$EUID = 1005 / 1005
$GID = 1005 1005
$EGID = 1005 1005
Perl module toolchain versions installed:
Module Have
------------------- --------
CPAN 2.38
CPAN::Meta 2.150010
Cwd 3.75
ExtUtils::CBuilder 0.280236
ExtUtils::Command 7.71_02
ExtUtils::Install 2.06
ExtUtils::MakeMaker 7.71_02
ExtUtils::Manifest 1.75
ExtUtils::ParseXS 3.57
File::Spec 3.75
JSON 4.10
JSON::PP 4.16
Module::Build 0.4234
Module::Signature 0.92
Parse::CPAN::Meta 2.150010
Test2 1.302204
Test::Harness 3.50
Test::More 1.302204
YAML 1.31
YAML::Syck 1.34
version 0.9933
--
Summary of my perl5 (revision 5 version 20 subversion 0) configuration:
Derived from: d7d4eceb184d8fc54797d661a6d5ff9a4a7048c3
Platform:
osname=linux, osvers=6.8.12-amd64, archname=x86_64-linux
uname='linux k93msid 6.8.12-amd64 #1 smp preempt_dynamic debian 6.8.12-1 (2024-05-31) x86_64 gnulinux '
config_args='-Dprefix=/home/sand/src/perl/repoperls/installed-perls/host/k93msid/v5.20.0/da1c -Dmyhostname=k93msid -Dinstallusrbinperl=n -Uversiononly -Dusedevel -des -Ui_db -Dlibswanted=cl pthread socket inet nsl gdbm dbm malloc dl ld sun m crypt sec util c cposix posix ucb BSD gdbm_compat -Uuseithreads -Uuselongdouble -DEBUGGING=-g'
hint=recommended, useposix=true, d_sigaction=define
useithreads=undef, usemultiplicity=undef
use64bitint=define, use64bitall=define, uselongdouble=undef
usemymalloc=n, bincompat5005=undef
Compiler:
cc='cc', ccflags ='-fwrapv -fno-strict-aliasing -pipe -fstack-protector -I/usr/local/include -D_LARGEFILE_SOURCE -D_FILE_OFFSET_BITS=64',
optimize='-O2 -g',
cppflags='-fwrapv -fno-strict-aliasing -pipe -fstack-protector -I/usr/local/include'
ccversion='', gccversion='13.3.0', gccosandvers=''
intsize=4, longsize=8, ptrsize=8, doublesize=8, byteorder=12345678
d_longlong=define, longlongsize=8, d_longdbl=define, longdblsize=16
ivtype='long', ivsize=8, nvtype='double', nvsize=8, Off_t='off_t', lseeksize=8
alignbytes=8, prototype=define
Linker and Libraries:
ld='cc', ldflags =' -fstack-protector -L/usr/local/lib'
libpth=/usr/local/lib /usr/include/x86_64-linux-gnu /usr/lib /lib/x86_64-linux-gnu /lib/../lib /usr/lib/x86_64-linux-gnu /usr/lib/../lib /lib /lib64 /usr/lib64
libs=-lpthread -ldl -lm -lcrypt -lutil -lc
perllibs=-lpthread -ldl -lm -lcrypt -lutil -lc
libc=/lib/x86_64-linux-gnu/libc.so.6, so=so, useshrplib=false, libperl=libperl.a
gnulibc_version='2.38'
Dynamic Linking:
dlsrc=dl_dlopen.xs, dlext=so, d_dlsymun=undef, ccdlflags='-Wl,-E'
cccdlflags='-fPIC', lddlflags='-shared -O2 -g -L/usr/local/lib -fstack-protector'
Characteristics of this binary (from libperl):
Compile-time options: HAS_TIMES PERLIO_LAYERS PERL_DONT_CREATE_GVSV
PERL_HASH_FUNC_ONE_AT_A_TIME_HARD PERL_MALLOC_WRAP
PERL_NEW_COPY_ON_WRITE PERL_PRESERVE_IVUV
PERL_USE_DEVEL USE_64_BIT_ALL USE_64_BIT_INT
USE_LARGE_FILES USE_LOCALE USE_LOCALE_COLLATE
USE_LOCALE_CTYPE USE_LOCALE_NUMERIC USE_PERLIO
USE_PERL_ATOF
Locally applied patches:
uncommitted-changes
Built under linux
Compiled at Oct 12 2024 11:52:53
%ENV:
PERL5LIB=""
PERL5OPT=""
PERL5_CPANPLUS_IS_RUNNING="2675563"
PERL5_CPAN_IS_RUNNING="2675563"
PERL_CANARY_STABILITY_NOPROMPT="1"
PERL_MM_USE_DEFAULT="1"
PERL_USE_UNSAFE_INC="1"
@INC:
/home/sand/src/perl/repoperls/installed-perls/host/k93msid/v5.20.0/da1c/lib/site_perl/5.20.0/x86_64-linux
/home/sand/src/perl/repoperls/installed-perls/host/k93msid/v5.20.0/da1c/lib/site_perl/5.20.0
/home/sand/src/perl/repoperls/installed-perls/host/k93msid/v5.20.0/da1c/lib/5.20.0/x86_64-linux
/home/sand/src/perl/repoperls/installed-perls/host/k93msid/v5.20.0/da1c/lib/5.20.0
.